BEGIN:VCALENDAR
VERSION:2.0
PRODID:-//Town of Fort Jones, Siskiyou County, CA - ECPv6.15.17.1//NONSGML v1.0//EN
CALSCALE:GREGORIAN
METHOD:PUBLISH
X-WR-CALNAME:Town of Fort Jones, Siskiyou County, CA
X-ORIGINAL-URL:https://fortjonesca.org
X-WR-CALDESC:Events for Town of Fort Jones, Siskiyou County, CA
REFRESH-INTERVAL;VALUE=DURATION:PT1H
X-Robots-Tag:noindex
X-PUBLISHED-TTL:PT1H
BEGIN:VTIMEZONE
TZID:America/Chicago
BEGIN:DAYLIGHT
TZOFFSETFROM:-0600
TZOFFSETTO:-0500
TZNAME:CDT
DTSTART:20210314T080000
END:DAYLIGHT
BEGIN:STANDARD
TZOFFSETFROM:-0500
TZOFFSETTO:-0600
TZNAME:CST
DTSTART:20211107T070000
END:STANDARD
BEGIN:DAYLIGHT
TZOFFSETFROM:-0600
TZOFFSETTO:-0500
TZNAME:CDT
DTSTART:20220313T080000
END:DAYLIGHT
BEGIN:STANDARD
TZOFFSETFROM:-0500
TZOFFSETTO:-0600
TZNAME:CST
DTSTART:20221106T070000
END:STANDARD
BEGIN:DAYLIGHT
TZOFFSETFROM:-0600
TZOFFSETTO:-0500
TZNAME:CDT
DTSTART:20230312T080000
END:DAYLIGHT
BEGIN:STANDARD
TZOFFSETFROM:-0500
TZOFFSETTO:-0600
TZNAME:CST
DTSTART:20231105T070000
END:STANDARD
END:VTIMEZONE
BEGIN:VEVENT
DTSTART;TZID=America/Chicago:20220601T093000
DTEND;TZID=America/Chicago:20220601T103000
DTSTAMP:20260423T092327
CREATED:20211013T212834Z
LAST-MODIFIED:20211013T213137Z
UID:10000915-1654075800-1654079400@fortjonesca.org
SUMMARY:Wednesday Morning Yoga
DESCRIPTION:No cost\, all ages welcome! 9:30am-10:30am at City Hall. Bring a mat for the floor.
URL:https://fortjonesca.org/event/wednesday-morning-yoga/2022-06-01/
END:VEVENT
BEGIN:VEVENT
DTSTART;TZID=America/Chicago:20220603T180000
DTEND;TZID=America/Chicago:20220603T200000
DTSTAMP:20260423T092327
CREATED:20210730T200356Z
LAST-MODIFIED:20210730T200356Z
UID:10000778-1654279200-1654286400@fortjonesca.org
SUMMARY:AA Meeting
DESCRIPTION:
URL:https://fortjonesca.org/event/aa-meeting/2022-06-03/
END:VEVENT
BEGIN:VEVENT
DTSTART;TZID=America/Chicago:20220603T180000
DTEND;TZID=America/Chicago:20220603T200000
DTSTAMP:20260423T092327
CREATED:20210802T222003Z
LAST-MODIFIED:20210802T222700Z
UID:10000843-1654279200-1654286400@fortjonesca.org
SUMMARY:First Friday Art Reception
DESCRIPTION:Marble Rim Art Gallery Presents the artwork of Rachel Agron. Reception to be held at the Marble Rim Art Gallery at 11835 Main St. on Friday\, August 6th from 6:00 p.m. to 8:00 p.m. Artwork will be displayed through August 14.
URL:https://fortjonesca.org/event/first-friday-art-reception-2/2022-06-03/
END:VEVENT
BEGIN:VEVENT
DTSTART;TZID=America/Chicago:20220608T093000
DTEND;TZID=America/Chicago:20220608T103000
DTSTAMP:20260423T092327
CREATED:20211013T212834Z
LAST-MODIFIED:20211013T213137Z
UID:10000916-1654680600-1654684200@fortjonesca.org
SUMMARY:Wednesday Morning Yoga
DESCRIPTION:No cost\, all ages welcome! 9:30am-10:30am at City Hall. Bring a mat for the floor.
URL:https://fortjonesca.org/event/wednesday-morning-yoga/2022-06-08/
END:VEVENT
BEGIN:VEVENT
DTSTART;TZID=America/Chicago:20220610T180000
DTEND;TZID=America/Chicago:20220610T200000
DTSTAMP:20260423T092327
CREATED:20210730T200356Z
LAST-MODIFIED:20210730T200356Z
UID:10000779-1654884000-1654891200@fortjonesca.org
SUMMARY:AA Meeting
DESCRIPTION:
URL:https://fortjonesca.org/event/aa-meeting/2022-06-10/
END:VEVENT
BEGIN:VEVENT
DTSTART;TZID=America/Chicago:20220615T093000
DTEND;TZID=America/Chicago:20220615T103000
DTSTAMP:20260423T092327
CREATED:20211013T212834Z
LAST-MODIFIED:20211013T213137Z
UID:10000917-1655285400-1655289000@fortjonesca.org
SUMMARY:Wednesday Morning Yoga
DESCRIPTION:No cost\, all ages welcome! 9:30am-10:30am at City Hall. Bring a mat for the floor.
URL:https://fortjonesca.org/event/wednesday-morning-yoga/2022-06-15/
END:VEVENT
BEGIN:VEVENT
DTSTART;TZID=America/Chicago:20220616T133000
DTEND;TZID=America/Chicago:20220616T173000
DTSTAMP:20260423T092327
CREATED:20220606T220421Z
LAST-MODIFIED:20220606T220543Z
UID:10001004-1655386200-1655400600@fortjonesca.org
SUMMARY:Fort Jones Community Blood Drive
DESCRIPTION:Give the gift of life this Father’s Day! Come to City Hall to participate in the Fort Jones Community Blood Drive on Thursday\, June 16 from 1:30 to 5:30pm.
URL:https://fortjonesca.org/event/fort-jones-community-blood-drive/
END:VEVENT
BEGIN:VEVENT
DTSTART;TZID=America/Chicago:20220617T180000
DTEND;TZID=America/Chicago:20220617T200000
DTSTAMP:20260423T092327
CREATED:20210730T200356Z
LAST-MODIFIED:20210730T200356Z
UID:10000780-1655488800-1655496000@fortjonesca.org
SUMMARY:AA Meeting
DESCRIPTION:
URL:https://fortjonesca.org/event/aa-meeting/2022-06-17/
END:VEVENT
BEGIN:VEVENT
DTSTART;TZID=America/Chicago:20220622T093000
DTEND;TZID=America/Chicago:20220622T103000
DTSTAMP:20260423T092327
CREATED:20211013T212834Z
LAST-MODIFIED:20211013T213137Z
UID:10000918-1655890200-1655893800@fortjonesca.org
SUMMARY:Wednesday Morning Yoga
DESCRIPTION:No cost\, all ages welcome! 9:30am-10:30am at City Hall. Bring a mat for the floor.
URL:https://fortjonesca.org/event/wednesday-morning-yoga/2022-06-22/
END:VEVENT
BEGIN:VEVENT
DTSTART;TZID=America/Chicago:20220624T180000
DTEND;TZID=America/Chicago:20220624T200000
DTSTAMP:20260423T092327
CREATED:20210730T200356Z
LAST-MODIFIED:20210730T200356Z
UID:10000781-1656093600-1656100800@fortjonesca.org
SUMMARY:AA Meeting
DESCRIPTION:
URL:https://fortjonesca.org/event/aa-meeting/2022-06-24/
END:VEVENT
BEGIN:VEVENT
DTSTART;TZID=America/Chicago:20220629T093000
DTEND;TZID=America/Chicago:20220629T103000
DTSTAMP:20260423T092327
CREATED:20211013T212834Z
LAST-MODIFIED:20211013T213137Z
UID:10000919-1656495000-1656498600@fortjonesca.org
SUMMARY:Wednesday Morning Yoga
DESCRIPTION:No cost\, all ages welcome! 9:30am-10:30am at City Hall. Bring a mat for the floor.
URL:https://fortjonesca.org/event/wednesday-morning-yoga/2022-06-29/
END:VEVENT
END:VCALENDAR