BEGIN:VCALENDAR
VERSION:2.0
PRODID:-//Town of Fort Jones, Siskiyou County, CA - ECPv6.15.17.1//NONSGML v1.0//EN
CALSCALE:GREGORIAN
METHOD:PUBLISH
X-WR-CALNAME:Town of Fort Jones, Siskiyou County, CA
X-ORIGINAL-URL:https://fortjonesca.org
X-WR-CALDESC:Events for Town of Fort Jones, Siskiyou County, CA
REFRESH-INTERVAL;VALUE=DURATION:PT1H
X-Robots-Tag:noindex
X-PUBLISHED-TTL:PT1H
BEGIN:VTIMEZONE
TZID:America/Chicago
BEGIN:DAYLIGHT
TZOFFSETFROM:-0600
TZOFFSETTO:-0500
TZNAME:CDT
DTSTART:20210314T080000
END:DAYLIGHT
BEGIN:STANDARD
TZOFFSETFROM:-0500
TZOFFSETTO:-0600
TZNAME:CST
DTSTART:20211107T070000
END:STANDARD
BEGIN:DAYLIGHT
TZOFFSETFROM:-0600
TZOFFSETTO:-0500
TZNAME:CDT
DTSTART:20220313T080000
END:DAYLIGHT
BEGIN:STANDARD
TZOFFSETFROM:-0500
TZOFFSETTO:-0600
TZNAME:CST
DTSTART:20221106T070000
END:STANDARD
BEGIN:DAYLIGHT
TZOFFSETFROM:-0600
TZOFFSETTO:-0500
TZNAME:CDT
DTSTART:20230312T080000
END:DAYLIGHT
BEGIN:STANDARD
TZOFFSETFROM:-0500
TZOFFSETTO:-0600
TZNAME:CST
DTSTART:20231105T070000
END:STANDARD
END:VTIMEZONE
BEGIN:VEVENT
DTSTART;TZID=America/Chicago:20220401T180000
DTEND;TZID=America/Chicago:20220401T200000
DTSTAMP:20260423T060404
CREATED:20210730T200356Z
LAST-MODIFIED:20210730T200356Z
UID:10000769-1648836000-1648843200@fortjonesca.org
SUMMARY:AA Meeting
DESCRIPTION:
URL:https://fortjonesca.org/event/aa-meeting/2022-04-01/
END:VEVENT
BEGIN:VEVENT
DTSTART;TZID=America/Chicago:20220406T093000
DTEND;TZID=America/Chicago:20220406T103000
DTSTAMP:20260423T060404
CREATED:20211013T212834Z
LAST-MODIFIED:20211013T213137Z
UID:10000907-1649237400-1649241000@fortjonesca.org
SUMMARY:Wednesday Morning Yoga
DESCRIPTION:No cost\, all ages welcome! 9:30am-10:30am at City Hall. Bring a mat for the floor.
URL:https://fortjonesca.org/event/wednesday-morning-yoga/2022-04-06/
END:VEVENT
BEGIN:VEVENT
DTSTART;TZID=America/Chicago:20220408T180000
DTEND;TZID=America/Chicago:20220408T200000
DTSTAMP:20260423T060404
CREATED:20210730T200356Z
LAST-MODIFIED:20210730T200356Z
UID:10000770-1649440800-1649448000@fortjonesca.org
SUMMARY:AA Meeting
DESCRIPTION:
URL:https://fortjonesca.org/event/aa-meeting/2022-04-08/
END:VEVENT
BEGIN:VEVENT
DTSTART;TZID=America/Chicago:20220409T110000
DTEND;TZID=America/Chicago:20220409T140000
DTSTAMP:20260423T060404
CREATED:20220321T173416Z
LAST-MODIFIED:20220321T173416Z
UID:10001001-1649502000-1649512800@fortjonesca.org
SUMMARY:Rabies Vaccine Clinic
DESCRIPTION:Bring your dog or cat up to date on their rabies vaccine for $25! Come to the City Hall parking lot on April 9 between 11:00am and 2:00pm. Courtesy of Essex Veterinary Services. Cash or checks only\, please.
URL:https://fortjonesca.org/event/rabies-vaccine-clinic/
END:VEVENT
BEGIN:VEVENT
DTSTART;TZID=America/Chicago:20220413T093000
DTEND;TZID=America/Chicago:20220413T103000
DTSTAMP:20260423T060404
CREATED:20211013T212834Z
LAST-MODIFIED:20211013T213137Z
UID:10000908-1649842200-1649845800@fortjonesca.org
SUMMARY:Wednesday Morning Yoga
DESCRIPTION:No cost\, all ages welcome! 9:30am-10:30am at City Hall. Bring a mat for the floor.
URL:https://fortjonesca.org/event/wednesday-morning-yoga/2022-04-13/
END:VEVENT
BEGIN:VEVENT
DTSTART;TZID=America/Chicago:20220415T180000
DTEND;TZID=America/Chicago:20220415T200000
DTSTAMP:20260423T060404
CREATED:20210730T200356Z
LAST-MODIFIED:20210730T200356Z
UID:10000771-1650045600-1650052800@fortjonesca.org
SUMMARY:AA Meeting
DESCRIPTION:
URL:https://fortjonesca.org/event/aa-meeting/2022-04-15/
END:VEVENT
BEGIN:VEVENT
DTSTART;TZID=America/Chicago:20220417T130000
DTEND;TZID=America/Chicago:20220417T140000
DTSTAMP:20260423T060404
CREATED:20220404T165545Z
LAST-MODIFIED:20220404T165545Z
UID:10001002-1650200400-1650204000@fortjonesca.org
SUMMARY:Easter Egg Hunt
DESCRIPTION:Bring your basket! Bring your camera! Prepare for a special guest appearance from the Easter Bunny Himself! \nSunday\, April 17th at 1:00pm at Fort Jones Elementary \nPrizes for all age groups!
URL:https://fortjonesca.org/event/easter-egg-hunt/
END:VEVENT
BEGIN:VEVENT
DTSTART;TZID=America/Chicago:20220420T093000
DTEND;TZID=America/Chicago:20220420T103000
DTSTAMP:20260423T060404
CREATED:20211013T212834Z
LAST-MODIFIED:20211013T213137Z
UID:10000909-1650447000-1650450600@fortjonesca.org
SUMMARY:Wednesday Morning Yoga
DESCRIPTION:No cost\, all ages welcome! 9:30am-10:30am at City Hall. Bring a mat for the floor.
URL:https://fortjonesca.org/event/wednesday-morning-yoga/2022-04-20/
END:VEVENT
BEGIN:VEVENT
DTSTART;TZID=America/Chicago:20220422T180000
DTEND;TZID=America/Chicago:20220422T200000
DTSTAMP:20260423T060404
CREATED:20210730T200356Z
LAST-MODIFIED:20210730T200356Z
UID:10000772-1650650400-1650657600@fortjonesca.org
SUMMARY:AA Meeting
DESCRIPTION:
URL:https://fortjonesca.org/event/aa-meeting/2022-04-22/
END:VEVENT
BEGIN:VEVENT
DTSTART;TZID=America/Chicago:20220427T093000
DTEND;TZID=America/Chicago:20220427T103000
DTSTAMP:20260423T060404
CREATED:20211013T212834Z
LAST-MODIFIED:20211013T213137Z
UID:10000910-1651051800-1651055400@fortjonesca.org
SUMMARY:Wednesday Morning Yoga
DESCRIPTION:No cost\, all ages welcome! 9:30am-10:30am at City Hall. Bring a mat for the floor.
URL:https://fortjonesca.org/event/wednesday-morning-yoga/2022-04-27/
END:VEVENT
BEGIN:VEVENT
DTSTART;TZID=America/Chicago:20220429T180000
DTEND;TZID=America/Chicago:20220429T200000
DTSTAMP:20260423T060404
CREATED:20210730T200356Z
LAST-MODIFIED:20210730T200356Z
UID:10000773-1651255200-1651262400@fortjonesca.org
SUMMARY:AA Meeting
DESCRIPTION:
URL:https://fortjonesca.org/event/aa-meeting/2022-04-29/
END:VEVENT
END:VCALENDAR