BEGIN:VCALENDAR
VERSION:2.0
PRODID:-//Town of Fort Jones, Siskiyou County, CA - ECPv6.15.17.1//NONSGML v1.0//EN
CALSCALE:GREGORIAN
METHOD:PUBLISH
X-WR-CALNAME:Town of Fort Jones, Siskiyou County, CA
X-ORIGINAL-URL:https://fortjonesca.org
X-WR-CALDESC:Events for Town of Fort Jones, Siskiyou County, CA
REFRESH-INTERVAL;VALUE=DURATION:PT1H
X-Robots-Tag:noindex
X-PUBLISHED-TTL:PT1H
BEGIN:VTIMEZONE
TZID:America/Chicago
BEGIN:DAYLIGHT
TZOFFSETFROM:-0600
TZOFFSETTO:-0500
TZNAME:CDT
DTSTART:20210314T080000
END:DAYLIGHT
BEGIN:STANDARD
TZOFFSETFROM:-0500
TZOFFSETTO:-0600
TZNAME:CST
DTSTART:20211107T070000
END:STANDARD
BEGIN:DAYLIGHT
TZOFFSETFROM:-0600
TZOFFSETTO:-0500
TZNAME:CDT
DTSTART:20220313T080000
END:DAYLIGHT
BEGIN:STANDARD
TZOFFSETFROM:-0500
TZOFFSETTO:-0600
TZNAME:CST
DTSTART:20221106T070000
END:STANDARD
BEGIN:DAYLIGHT
TZOFFSETFROM:-0600
TZOFFSETTO:-0500
TZNAME:CDT
DTSTART:20230312T080000
END:DAYLIGHT
BEGIN:STANDARD
TZOFFSETFROM:-0500
TZOFFSETTO:-0600
TZNAME:CST
DTSTART:20231105T070000
END:STANDARD
END:VTIMEZONE
BEGIN:VEVENT
DTSTART;TZID=America/Chicago:20220105T093000
DTEND;TZID=America/Chicago:20220105T103000
DTSTAMP:20260423T010456
CREATED:20211013T212834Z
LAST-MODIFIED:20211013T213137Z
UID:10000894-1641375000-1641378600@fortjonesca.org
SUMMARY:Wednesday Morning Yoga
DESCRIPTION:No cost\, all ages welcome! 9:30am-10:30am at City Hall. Bring a mat for the floor.
URL:https://fortjonesca.org/event/wednesday-morning-yoga/2022-01-05/
END:VEVENT
BEGIN:VEVENT
DTSTART;TZID=America/Chicago:20220107T180000
DTEND;TZID=America/Chicago:20220107T200000
DTSTAMP:20260423T010456
CREATED:20210730T200356Z
LAST-MODIFIED:20210730T200356Z
UID:10000757-1641578400-1641585600@fortjonesca.org
SUMMARY:AA Meeting
DESCRIPTION:
URL:https://fortjonesca.org/event/aa-meeting/2022-01-07/
END:VEVENT
BEGIN:VEVENT
DTSTART;TZID=America/Chicago:20220112T093000
DTEND;TZID=America/Chicago:20220112T103000
DTSTAMP:20260423T010456
CREATED:20211013T212834Z
LAST-MODIFIED:20211013T213137Z
UID:10000895-1641979800-1641983400@fortjonesca.org
SUMMARY:Wednesday Morning Yoga
DESCRIPTION:No cost\, all ages welcome! 9:30am-10:30am at City Hall. Bring a mat for the floor.
URL:https://fortjonesca.org/event/wednesday-morning-yoga/2022-01-12/
END:VEVENT
BEGIN:VEVENT
DTSTART;TZID=America/Chicago:20220114T180000
DTEND;TZID=America/Chicago:20220114T200000
DTSTAMP:20260423T010456
CREATED:20210730T200356Z
LAST-MODIFIED:20210730T200356Z
UID:10000758-1642183200-1642190400@fortjonesca.org
SUMMARY:AA Meeting
DESCRIPTION:
URL:https://fortjonesca.org/event/aa-meeting/2022-01-14/
END:VEVENT
BEGIN:VEVENT
DTSTART;TZID=America/Chicago:20220119T093000
DTEND;TZID=America/Chicago:20220119T103000
DTSTAMP:20260423T010456
CREATED:20211013T212834Z
LAST-MODIFIED:20211013T213137Z
UID:10000896-1642584600-1642588200@fortjonesca.org
SUMMARY:Wednesday Morning Yoga
DESCRIPTION:No cost\, all ages welcome! 9:30am-10:30am at City Hall. Bring a mat for the floor.
URL:https://fortjonesca.org/event/wednesday-morning-yoga/2022-01-19/
END:VEVENT
BEGIN:VEVENT
DTSTART;TZID=America/Chicago:20220120T140000
DTEND;TZID=America/Chicago:20220120T160000
DTSTAMP:20260423T010456
CREATED:20211210T175840Z
LAST-MODIFIED:20211210T175840Z
UID:10000991-1642687200-1642694400@fortjonesca.org
SUMMARY:Food Assistance Available
DESCRIPTION:This program is to assist those negatively impacted by Covid-19. Income-qualified households can pick up protein and produce every other month at Valley Oaks Seniors on Thursdays between 12:00pm and 2:00pm beginning on January 20\, 2022. See flyer for dates. \nhttps://cdn.townweb.com/fortjonesca.org/wp-content/uploads/2021/12/Protein-and-Produce-Flyer.pdf
URL:https://fortjonesca.org/event/food-assistance-available/
END:VEVENT
BEGIN:VEVENT
DTSTART;TZID=America/Chicago:20220121T180000
DTEND;TZID=America/Chicago:20220121T200000
DTSTAMP:20260423T010456
CREATED:20210730T200356Z
LAST-MODIFIED:20210730T200356Z
UID:10000759-1642788000-1642795200@fortjonesca.org
SUMMARY:AA Meeting
DESCRIPTION:
URL:https://fortjonesca.org/event/aa-meeting/2022-01-21/
END:VEVENT
BEGIN:VEVENT
DTSTART;TZID=America/Chicago:20220126T093000
DTEND;TZID=America/Chicago:20220126T103000
DTSTAMP:20260423T010456
CREATED:20211013T212834Z
LAST-MODIFIED:20211013T213137Z
UID:10000897-1643189400-1643193000@fortjonesca.org
SUMMARY:Wednesday Morning Yoga
DESCRIPTION:No cost\, all ages welcome! 9:30am-10:30am at City Hall. Bring a mat for the floor.
URL:https://fortjonesca.org/event/wednesday-morning-yoga/2022-01-26/
END:VEVENT
BEGIN:VEVENT
DTSTART;TZID=America/Chicago:20220128T180000
DTEND;TZID=America/Chicago:20220128T200000
DTSTAMP:20260423T010456
CREATED:20210730T200356Z
LAST-MODIFIED:20210730T200356Z
UID:10000760-1643392800-1643400000@fortjonesca.org
SUMMARY:AA Meeting
DESCRIPTION:
URL:https://fortjonesca.org/event/aa-meeting/2022-01-28/
END:VEVENT
END:VCALENDAR