BEGIN:VCALENDAR
VERSION:2.0
PRODID:-//Town of Fort Jones, Siskiyou County, CA - ECPv6.15.17.1//NONSGML v1.0//EN
CALSCALE:GREGORIAN
METHOD:PUBLISH
X-WR-CALNAME:Town of Fort Jones, Siskiyou County, CA
X-ORIGINAL-URL:https://fortjonesca.org
X-WR-CALDESC:Events for Town of Fort Jones, Siskiyou County, CA
REFRESH-INTERVAL;VALUE=DURATION:PT1H
X-Robots-Tag:noindex
X-PUBLISHED-TTL:PT1H
BEGIN:VTIMEZONE
TZID:America/Chicago
BEGIN:DAYLIGHT
TZOFFSETFROM:-0600
TZOFFSETTO:-0500
TZNAME:CDT
DTSTART:20200308T080000
END:DAYLIGHT
BEGIN:STANDARD
TZOFFSETFROM:-0500
TZOFFSETTO:-0600
TZNAME:CST
DTSTART:20201101T070000
END:STANDARD
BEGIN:DAYLIGHT
TZOFFSETFROM:-0600
TZOFFSETTO:-0500
TZNAME:CDT
DTSTART:20210314T080000
END:DAYLIGHT
BEGIN:STANDARD
TZOFFSETFROM:-0500
TZOFFSETTO:-0600
TZNAME:CST
DTSTART:20211107T070000
END:STANDARD
BEGIN:DAYLIGHT
TZOFFSETFROM:-0600
TZOFFSETTO:-0500
TZNAME:CDT
DTSTART:20220313T080000
END:DAYLIGHT
BEGIN:STANDARD
TZOFFSETFROM:-0500
TZOFFSETTO:-0600
TZNAME:CST
DTSTART:20221106T070000
END:STANDARD
END:VTIMEZONE
BEGIN:VEVENT
DTSTART;TZID=America/Chicago:20210903T180000
DTEND;TZID=America/Chicago:20210903T200000
DTSTAMP:20260422T182303
CREATED:20210730T200356Z
LAST-MODIFIED:20210730T200356Z
UID:10000739-1630692000-1630699200@fortjonesca.org
SUMMARY:AA Meeting
DESCRIPTION:
URL:https://fortjonesca.org/event/aa-meeting/2021-09-03/
END:VEVENT
BEGIN:VEVENT
DTSTART;TZID=America/Chicago:20210903T180000
DTEND;TZID=America/Chicago:20210903T200000
DTSTAMP:20260422T182303
CREATED:20210802T222003Z
LAST-MODIFIED:20210802T222700Z
UID:10000840-1630692000-1630699200@fortjonesca.org
SUMMARY:First Friday Art Reception
DESCRIPTION:Marble Rim Art Gallery Presents the artwork of Rachel Agron. Reception to be held at the Marble Rim Art Gallery at 11835 Main St. on Friday\, August 6th from 6:00 p.m. to 8:00 p.m. Artwork will be displayed through August 14.
URL:https://fortjonesca.org/event/first-friday-art-reception-2/2021-09-03/
END:VEVENT
BEGIN:VEVENT
DTSTART;TZID=America/Chicago:20210910T180000
DTEND;TZID=America/Chicago:20210910T200000
DTSTAMP:20260422T182303
CREATED:20210730T200356Z
LAST-MODIFIED:20210730T200356Z
UID:10000740-1631296800-1631304000@fortjonesca.org
SUMMARY:AA Meeting
DESCRIPTION:
URL:https://fortjonesca.org/event/aa-meeting/2021-09-10/
END:VEVENT
BEGIN:VEVENT
DTSTART;TZID=America/Chicago:20210911T173000
DTEND;TZID=America/Chicago:20210911T220000
DTSTAMP:20260422T182303
CREATED:20210909T184407Z
LAST-MODIFIED:20210909T184407Z
UID:10000874-1631381400-1631397600@fortjonesca.org
SUMMARY:Trip The Light!
DESCRIPTION:
URL:https://fortjonesca.org/event/trip-the-light/
END:VEVENT
BEGIN:VEVENT
DTSTART;TZID=America/Chicago:20210917T180000
DTEND;TZID=America/Chicago:20210917T200000
DTSTAMP:20260422T182303
CREATED:20210730T200356Z
LAST-MODIFIED:20210730T200356Z
UID:10000741-1631901600-1631908800@fortjonesca.org
SUMMARY:AA Meeting
DESCRIPTION:
URL:https://fortjonesca.org/event/aa-meeting/2021-09-17/
END:VEVENT
BEGIN:VEVENT
DTSTART;TZID=America/Chicago:20210924T180000
DTEND;TZID=America/Chicago:20210924T200000
DTSTAMP:20260422T182303
CREATED:20210730T200356Z
LAST-MODIFIED:20210730T200356Z
UID:10000742-1632506400-1632513600@fortjonesca.org
SUMMARY:AA Meeting
DESCRIPTION:
URL:https://fortjonesca.org/event/aa-meeting/2021-09-24/
END:VEVENT
BEGIN:VEVENT
DTSTART;TZID=America/Chicago:20210925T130000
DTEND;TZID=America/Chicago:20210925T160000
DTSTAMP:20260422T182303
CREATED:20210914T164724Z
LAST-MODIFIED:20210914T164848Z
UID:10000875-1632574800-1632585600@fortjonesca.org
SUMMARY:Recharge Our Community's Economy Workshop Series
DESCRIPTION:Are you passionate about Fort Jones? Join us in this engaging process! \nLearn the tools to leverage community assets\, support the creation of new small businesses\, and create and retain wealth within the Scott Valley.  \nRSVP appreciated.
URL:https://fortjonesca.org/event/recharge-our-communitys-economy-workshop-series/2021-09-25/
END:VEVENT
END:VCALENDAR