BEGIN:VCALENDAR
VERSION:2.0
PRODID:-//Town of Fort Jones, Siskiyou County, CA - ECPv6.15.17.1//NONSGML v1.0//EN
CALSCALE:GREGORIAN
METHOD:PUBLISH
X-WR-CALNAME:Town of Fort Jones, Siskiyou County, CA
X-ORIGINAL-URL:https://fortjonesca.org
X-WR-CALDESC:Events for Town of Fort Jones, Siskiyou County, CA
REFRESH-INTERVAL;VALUE=DURATION:PT1H
X-Robots-Tag:noindex
X-PUBLISHED-TTL:PT1H
BEGIN:VTIMEZONE
TZID:America/Chicago
BEGIN:DAYLIGHT
TZOFFSETFROM:-0600
TZOFFSETTO:-0500
TZNAME:CDT
DTSTART:20200308T080000
END:DAYLIGHT
BEGIN:STANDARD
TZOFFSETFROM:-0500
TZOFFSETTO:-0600
TZNAME:CST
DTSTART:20201101T070000
END:STANDARD
BEGIN:DAYLIGHT
TZOFFSETFROM:-0600
TZOFFSETTO:-0500
TZNAME:CDT
DTSTART:20210314T080000
END:DAYLIGHT
BEGIN:STANDARD
TZOFFSETFROM:-0500
TZOFFSETTO:-0600
TZNAME:CST
DTSTART:20211107T070000
END:STANDARD
BEGIN:DAYLIGHT
TZOFFSETFROM:-0600
TZOFFSETTO:-0500
TZNAME:CDT
DTSTART:20220313T080000
END:DAYLIGHT
BEGIN:STANDARD
TZOFFSETFROM:-0500
TZOFFSETTO:-0600
TZNAME:CST
DTSTART:20221106T070000
END:STANDARD
END:VTIMEZONE
BEGIN:VEVENT
DTSTART;TZID=America/Chicago:20210702T180000
DTEND;TZID=America/Chicago:20210702T200000
DTSTAMP:20260422T150817
CREATED:20210701T000132Z
LAST-MODIFIED:20210701T000528Z
UID:10000731-1625248800-1625256000@fortjonesca.org
SUMMARY:First Friday Art Reception
DESCRIPTION:Marble Rim Gallery Presents “Creations by Madison Emerick.” Reception to be held at the Marble Rim Art Gallery on Main St on Friday\, July 2nd from 6:00 p.m. to 8:00 p.m. Artwork will be displayed through July 9.
URL:https://fortjonesca.org/event/first-friday-art-reception/
END:VEVENT
BEGIN:VEVENT
DTSTART;VALUE=DATE:20210705
DTEND;VALUE=DATE:20210706
DTSTAMP:20260422T150817
CREATED:20210701T222328Z
LAST-MODIFIED:20210701T222559Z
UID:10000732-1625443200-1625529599@fortjonesca.org
SUMMARY:Independence Day Observed
DESCRIPTION:In observance of Independence Day\, City Hall and the Library will be closed on Monday\, July 5th. We will resume normal hours on Tuesday\, July 6th.
URL:https://fortjonesca.org/event/independence-day-observed/
END:VEVENT
BEGIN:VEVENT
DTSTART;TZID=America/Chicago:20210710T200000
DTEND;TZID=America/Chicago:20210710T220000
DTSTAMP:20260422T150817
CREATED:20210628T154237Z
LAST-MODIFIED:20210629T163749Z
UID:10000730-1625947200-1625954400@fortjonesca.org
SUMMARY:Movie In The Park
DESCRIPTION:
URL:https://fortjonesca.org/event/movie-in-the-park/
LOCATION:The Babe Ruth Baseball Field\, Fort Jones
END:VEVENT
BEGIN:VEVENT
DTSTART;TZID=America/Chicago:20210730T180000
DTEND;TZID=America/Chicago:20210730T200000
DTSTAMP:20260422T150817
CREATED:20210730T200356Z
LAST-MODIFIED:20210730T200356Z
UID:10000734-1627668000-1627675200@fortjonesca.org
SUMMARY:AA Meeting
DESCRIPTION:
URL:https://fortjonesca.org/event/aa-meeting/2021-07-30/
END:VEVENT
END:VCALENDAR