BEGIN:VCALENDAR
VERSION:2.0
PRODID:-//Town of Fort Jones, Siskiyou County, CA - ECPv6.15.17.1//NONSGML v1.0//EN
CALSCALE:GREGORIAN
METHOD:PUBLISH
X-WR-CALNAME:Town of Fort Jones, Siskiyou County, CA
X-ORIGINAL-URL:https://fortjonesca.org
X-WR-CALDESC:Events for Town of Fort Jones, Siskiyou County, CA
REFRESH-INTERVAL;VALUE=DURATION:PT1H
X-Robots-Tag:noindex
X-PUBLISHED-TTL:PT1H
BEGIN:VTIMEZONE
TZID:America/Chicago
BEGIN:DAYLIGHT
TZOFFSETFROM:-0600
TZOFFSETTO:-0500
TZNAME:CDT
DTSTART:20180311T080000
END:DAYLIGHT
BEGIN:STANDARD
TZOFFSETFROM:-0500
TZOFFSETTO:-0600
TZNAME:CST
DTSTART:20181104T070000
END:STANDARD
BEGIN:DAYLIGHT
TZOFFSETFROM:-0600
TZOFFSETTO:-0500
TZNAME:CDT
DTSTART:20190310T080000
END:DAYLIGHT
BEGIN:STANDARD
TZOFFSETFROM:-0500
TZOFFSETTO:-0600
TZNAME:CST
DTSTART:20191103T070000
END:STANDARD
BEGIN:DAYLIGHT
TZOFFSETFROM:-0600
TZOFFSETTO:-0500
TZNAME:CDT
DTSTART:20200308T080000
END:DAYLIGHT
BEGIN:STANDARD
TZOFFSETFROM:-0500
TZOFFSETTO:-0600
TZNAME:CST
DTSTART:20201101T070000
END:STANDARD
END:VTIMEZONE
BEGIN:VEVENT
DTSTART;TZID=America/Chicago:20190704T090000
DTEND;TZID=America/Chicago:20190705T170000
DTSTAMP:20260424T025201
CREATED:20190628T183237Z
LAST-MODIFIED:20190628T183237Z
UID:10000696-1562230800-1562346000@fortjonesca.org
SUMMARY:Fort Jones City Hall Closed
DESCRIPTION:Fort Jones City Hall will be closed July 4th and 5th in observance of Independence Day
URL:https://fortjonesca.org/event/fort-jones-city-hall-closed/
END:VEVENT
BEGIN:VEVENT
DTSTART;TZID=America/Chicago:20190708T180000
DTEND;TZID=America/Chicago:20190708T200000
DTSTAMP:20260424T025201
CREATED:20190618T164326Z
LAST-MODIFIED:20190703T190424Z
UID:10000695-1562608800-1562616000@fortjonesca.org
SUMMARY:The Town of Fort Jones City Council Meeting
DESCRIPTION:
URL:https://fortjonesca.org/event/the-town-of-fort-jones-city-council-meeting-2/
CATEGORIES:City Council
END:VEVENT
END:VCALENDAR