BEGIN:VCALENDAR
VERSION:2.0
PRODID:-//Town of Fort Jones, Siskiyou County, CA - ECPv6.15.17.1//NONSGML v1.0//EN
CALSCALE:GREGORIAN
METHOD:PUBLISH
X-WR-CALNAME:Town of Fort Jones, Siskiyou County, CA
X-ORIGINAL-URL:https://fortjonesca.org
X-WR-CALDESC:Events for Town of Fort Jones, Siskiyou County, CA
REFRESH-INTERVAL;VALUE=DURATION:PT1H
X-Robots-Tag:noindex
X-PUBLISHED-TTL:PT1H
BEGIN:VTIMEZONE
TZID:America/Chicago
BEGIN:DAYLIGHT
TZOFFSETFROM:-0600
TZOFFSETTO:-0500
TZNAME:CDT
DTSTART:20150308T080000
END:DAYLIGHT
BEGIN:STANDARD
TZOFFSETFROM:-0500
TZOFFSETTO:-0600
TZNAME:CST
DTSTART:20151101T070000
END:STANDARD
BEGIN:DAYLIGHT
TZOFFSETFROM:-0600
TZOFFSETTO:-0500
TZNAME:CDT
DTSTART:20160313T080000
END:DAYLIGHT
BEGIN:STANDARD
TZOFFSETFROM:-0500
TZOFFSETTO:-0600
TZNAME:CST
DTSTART:20161106T070000
END:STANDARD
BEGIN:DAYLIGHT
TZOFFSETFROM:-0600
TZOFFSETTO:-0500
TZNAME:CDT
DTSTART:20170312T080000
END:DAYLIGHT
BEGIN:STANDARD
TZOFFSETFROM:-0500
TZOFFSETTO:-0600
TZNAME:CST
DTSTART:20171105T070000
END:STANDARD
BEGIN:DAYLIGHT
TZOFFSETFROM:-0600
TZOFFSETTO:-0500
TZNAME:CDT
DTSTART:20180311T080000
END:DAYLIGHT
BEGIN:STANDARD
TZOFFSETFROM:-0500
TZOFFSETTO:-0600
TZNAME:CST
DTSTART:20181104T070000
END:STANDARD
END:VTIMEZONE
BEGIN:VEVENT
DTSTART;TZID=America/Chicago:20170128T140000
DTEND;TZID=America/Chicago:20170129T150000
DTSTAMP:20260423T062133
CREATED:20170128T200000Z
LAST-MODIFIED:20170128T200000Z
UID:10000674-1485612000-1485702000@fortjonesca.org
SUMMARY:111
DESCRIPTION:
URL:https://fortjonesca.org/event/111/
END:VEVENT
BEGIN:VEVENT
DTSTART;TZID=America/Chicago:20170102T190000
DTEND;TZID=America/Chicago:20170102T190000
DTSTAMP:20260423T062133
CREATED:20150805T000000Z
LAST-MODIFIED:20190314T152300Z
UID:10000507-1483383600-1483383600@fortjonesca.org
SUMMARY:City Council Meeting
DESCRIPTION:
URL:https://fortjonesca.org/event/city-council-meeting/2017-01-02/
END:VEVENT
BEGIN:VEVENT
DTSTART;TZID=America/Chicago:20170101T150000
DTEND;TZID=America/Chicago:20170101T160000
DTSTAMP:20260423T062133
CREATED:20161204T210000Z
LAST-MODIFIED:20161204T210000Z
UID:10000671-1483282800-1483286400@fortjonesca.org
SUMMARY:Every First Sun222
DESCRIPTION:
URL:https://fortjonesca.org/event/every-first-sun222/2017-01-01/
END:VEVENT
BEGIN:VEVENT
DTSTART;TZID=America/Chicago:20161228T140000
DTEND;TZID=America/Chicago:20161228T150000
DTSTAMP:20260423T062133
CREATED:20161106T200000Z
LAST-MODIFIED:20161106T200000Z
UID:10000662-1482933600-1482937200@fortjonesca.org
SUMMARY:Every Other Week Stop1
DESCRIPTION:
URL:https://fortjonesca.org/event/every-other-week-stop1/2016-12-28/
END:VEVENT
BEGIN:VEVENT
DTSTART;TZID=America/Chicago:20161226T140000
DTEND;TZID=America/Chicago:20161226T150000
DTSTAMP:20260423T062133
CREATED:20161106T200000Z
LAST-MODIFIED:20161106T200000Z
UID:10000661-1482760800-1482764400@fortjonesca.org
SUMMARY:Every Other Week Stop1
DESCRIPTION:
URL:https://fortjonesca.org/event/every-other-week-stop1/2016-12-26/
END:VEVENT
BEGIN:VEVENT
DTSTART;TZID=America/Chicago:20161224T140000
DTEND;TZID=America/Chicago:20161224T150000
DTSTAMP:20260423T062133
CREATED:20161106T200000Z
LAST-MODIFIED:20161106T200000Z
UID:10000660-1482588000-1482591600@fortjonesca.org
SUMMARY:Every Other Week Stop1
DESCRIPTION:
URL:https://fortjonesca.org/event/every-other-week-stop1/2016-12-24/
END:VEVENT
BEGIN:VEVENT
DTSTART;TZID=America/Chicago:20161222T140000
DTEND;TZID=America/Chicago:20161222T150000
DTSTAMP:20260423T062133
CREATED:20161106T200000Z
LAST-MODIFIED:20161106T200000Z
UID:10000659-1482415200-1482418800@fortjonesca.org
SUMMARY:Every Other Week Stop1
DESCRIPTION:
URL:https://fortjonesca.org/event/every-other-week-stop1/2016-12-22/
END:VEVENT
BEGIN:VEVENT
DTSTART;TZID=America/Chicago:20161220T140000
DTEND;TZID=America/Chicago:20161220T150000
DTSTAMP:20260423T062133
CREATED:20161106T200000Z
LAST-MODIFIED:20161106T200000Z
UID:10000658-1482242400-1482246000@fortjonesca.org
SUMMARY:Every Other Week Stop1
DESCRIPTION:
URL:https://fortjonesca.org/event/every-other-week-stop1/2016-12-20/
END:VEVENT
BEGIN:VEVENT
DTSTART;TZID=America/Chicago:20161218T140000
DTEND;TZID=America/Chicago:20161218T150000
DTSTAMP:20260423T062133
CREATED:20161106T200000Z
LAST-MODIFIED:20161106T200000Z
UID:10000657-1482069600-1482073200@fortjonesca.org
SUMMARY:Every Other Week Stop1
DESCRIPTION:
URL:https://fortjonesca.org/event/every-other-week-stop1/2016-12-18/
END:VEVENT
BEGIN:VEVENT
DTSTART;TZID=America/Chicago:20161216T140000
DTEND;TZID=America/Chicago:20161216T150000
DTSTAMP:20260423T062133
CREATED:20161106T200000Z
LAST-MODIFIED:20161106T200000Z
UID:10000656-1481896800-1481900400@fortjonesca.org
SUMMARY:Every Other Week Stop1
DESCRIPTION:
URL:https://fortjonesca.org/event/every-other-week-stop1/2016-12-16/
END:VEVENT
BEGIN:VEVENT
DTSTART;TZID=America/Chicago:20161214T140000
DTEND;TZID=America/Chicago:20161214T150000
DTSTAMP:20260423T062133
CREATED:20161106T200000Z
LAST-MODIFIED:20161106T200000Z
UID:10000655-1481724000-1481727600@fortjonesca.org
SUMMARY:Every Other Week Stop1
DESCRIPTION:
URL:https://fortjonesca.org/event/every-other-week-stop1/2016-12-14/
END:VEVENT
BEGIN:VEVENT
DTSTART;TZID=America/Chicago:20161212T140000
DTEND;TZID=America/Chicago:20161212T150000
DTSTAMP:20260423T062133
CREATED:20161106T200000Z
LAST-MODIFIED:20161106T200000Z
UID:10000654-1481551200-1481554800@fortjonesca.org
SUMMARY:Every Other Week Stop1
DESCRIPTION:
URL:https://fortjonesca.org/event/every-other-week-stop1/2016-12-12/
END:VEVENT
BEGIN:VEVENT
DTSTART;TZID=America/Chicago:20161210T140000
DTEND;TZID=America/Chicago:20161210T150000
DTSTAMP:20260423T062133
CREATED:20161106T200000Z
LAST-MODIFIED:20161106T200000Z
UID:10000653-1481378400-1481382000@fortjonesca.org
SUMMARY:Every Other Week Stop1
DESCRIPTION:
URL:https://fortjonesca.org/event/every-other-week-stop1/2016-12-10/
END:VEVENT
BEGIN:VEVENT
DTSTART;TZID=America/Chicago:20161208T140000
DTEND;TZID=America/Chicago:20161208T150000
DTSTAMP:20260423T062133
CREATED:20161106T200000Z
LAST-MODIFIED:20161106T200000Z
UID:10000652-1481205600-1481209200@fortjonesca.org
SUMMARY:Every Other Week Stop1
DESCRIPTION:
URL:https://fortjonesca.org/event/every-other-week-stop1/2016-12-08/
END:VEVENT
BEGIN:VEVENT
DTSTART;TZID=America/Chicago:20161206T140000
DTEND;TZID=America/Chicago:20161206T150000
DTSTAMP:20260423T062133
CREATED:20161106T200000Z
LAST-MODIFIED:20161106T200000Z
UID:10000651-1481032800-1481036400@fortjonesca.org
SUMMARY:Every Other Week Stop1
DESCRIPTION:
URL:https://fortjonesca.org/event/every-other-week-stop1/2016-12-06/
END:VEVENT
BEGIN:VEVENT
DTSTART;TZID=America/Chicago:20161205T190000
DTEND;TZID=America/Chicago:20161205T190000
DTSTAMP:20260423T062133
CREATED:20150805T000000Z
LAST-MODIFIED:20190314T152300Z
UID:10000506-1480964400-1480964400@fortjonesca.org
SUMMARY:City Council Meeting
DESCRIPTION:
URL:https://fortjonesca.org/event/city-council-meeting/2016-12-05/
END:VEVENT
BEGIN:VEVENT
DTSTART;TZID=America/Chicago:20161204T150000
DTEND;TZID=America/Chicago:20161204T160000
DTSTAMP:20260423T062133
CREATED:20161204T210000Z
LAST-MODIFIED:20161204T210000Z
UID:10000670-1480863600-1480867200@fortjonesca.org
SUMMARY:Every First Sun222
DESCRIPTION:
URL:https://fortjonesca.org/event/every-first-sun222/2016-12-04/
END:VEVENT
BEGIN:VEVENT
DTSTART;TZID=America/Chicago:20161204T140000
DTEND;TZID=America/Chicago:20161204T150000
DTSTAMP:20260423T062133
CREATED:20161106T200000Z
LAST-MODIFIED:20161106T200000Z
UID:10000650-1480860000-1480863600@fortjonesca.org
SUMMARY:Every Other Week Stop1
DESCRIPTION:
URL:https://fortjonesca.org/event/every-other-week-stop1/2016-12-04/
END:VEVENT
BEGIN:VEVENT
DTSTART;TZID=America/Chicago:20161202T140000
DTEND;TZID=America/Chicago:20161202T150000
DTSTAMP:20260423T062133
CREATED:20161106T200000Z
LAST-MODIFIED:20161106T200000Z
UID:10000649-1480687200-1480690800@fortjonesca.org
SUMMARY:Every Other Week Stop1
DESCRIPTION:
URL:https://fortjonesca.org/event/every-other-week-stop1/2016-12-02/
END:VEVENT
BEGIN:VEVENT
DTSTART;TZID=America/Chicago:20161130T140000
DTEND;TZID=America/Chicago:20161130T150000
DTSTAMP:20260423T062133
CREATED:20161106T200000Z
LAST-MODIFIED:20161106T200000Z
UID:10000648-1480514400-1480518000@fortjonesca.org
SUMMARY:Every Other Week Stop1
DESCRIPTION:
URL:https://fortjonesca.org/event/every-other-week-stop1/2016-11-30/
END:VEVENT
BEGIN:VEVENT
DTSTART;TZID=America/Chicago:20161128T140000
DTEND;TZID=America/Chicago:20161128T150000
DTSTAMP:20260423T062133
CREATED:20161106T200000Z
LAST-MODIFIED:20161106T200000Z
UID:10000647-1480341600-1480345200@fortjonesca.org
SUMMARY:Every Other Week Stop1
DESCRIPTION:
URL:https://fortjonesca.org/event/every-other-week-stop1/2016-11-28/
END:VEVENT
BEGIN:VEVENT
DTSTART;TZID=America/Chicago:20161126T140000
DTEND;TZID=America/Chicago:20161126T150000
DTSTAMP:20260423T062133
CREATED:20161106T200000Z
LAST-MODIFIED:20161106T200000Z
UID:10000646-1480168800-1480172400@fortjonesca.org
SUMMARY:Every Other Week Stop1
DESCRIPTION:
URL:https://fortjonesca.org/event/every-other-week-stop1/2016-11-26/
END:VEVENT
BEGIN:VEVENT
DTSTART;TZID=America/Chicago:20161124T140000
DTEND;TZID=America/Chicago:20161124T150000
DTSTAMP:20260423T062133
CREATED:20161106T200000Z
LAST-MODIFIED:20161106T200000Z
UID:10000645-1479996000-1479999600@fortjonesca.org
SUMMARY:Every Other Week Stop1
DESCRIPTION:
URL:https://fortjonesca.org/event/every-other-week-stop1/2016-11-24/
END:VEVENT
BEGIN:VEVENT
DTSTART;TZID=America/Chicago:20161122T140000
DTEND;TZID=America/Chicago:20161122T150000
DTSTAMP:20260423T062133
CREATED:20161106T200000Z
LAST-MODIFIED:20161106T200000Z
UID:10000644-1479823200-1479826800@fortjonesca.org
SUMMARY:Every Other Week Stop1
DESCRIPTION:
URL:https://fortjonesca.org/event/every-other-week-stop1/2016-11-22/
END:VEVENT
BEGIN:VEVENT
DTSTART;TZID=America/Chicago:20161120T140000
DTEND;TZID=America/Chicago:20161120T150000
DTSTAMP:20260423T062133
CREATED:20161106T200000Z
LAST-MODIFIED:20161106T200000Z
UID:10000643-1479650400-1479654000@fortjonesca.org
SUMMARY:Every Other Week Stop1
DESCRIPTION:
URL:https://fortjonesca.org/event/every-other-week-stop1/2016-11-20/
END:VEVENT
BEGIN:VEVENT
DTSTART;VALUE=DATE:20161119
DTEND;VALUE=DATE:20161120
DTSTAMP:20260423T062133
CREATED:20161115T060000Z
LAST-MODIFIED:20161115T060000Z
UID:10000669-1479513600-1479599999@fortjonesca.org
SUMMARY:1Every Day
DESCRIPTION:Every Day
URL:https://fortjonesca.org/event/1every-day/2016-11-19/
END:VEVENT
BEGIN:VEVENT
DTSTART;TZID=America/Chicago:20161118T140000
DTEND;TZID=America/Chicago:20161118T150000
DTSTAMP:20260423T062133
CREATED:20161106T200000Z
LAST-MODIFIED:20161106T200000Z
UID:10000642-1479477600-1479481200@fortjonesca.org
SUMMARY:Every Other Week Stop1
DESCRIPTION:
URL:https://fortjonesca.org/event/every-other-week-stop1/2016-11-18/
END:VEVENT
BEGIN:VEVENT
DTSTART;VALUE=DATE:20161118
DTEND;VALUE=DATE:20161119
DTSTAMP:20260423T062133
CREATED:20161115T060000Z
LAST-MODIFIED:20161115T060000Z
UID:10000668-1479427200-1479513599@fortjonesca.org
SUMMARY:1Every Day
DESCRIPTION:Every Day
URL:https://fortjonesca.org/event/1every-day/2016-11-18/
END:VEVENT
BEGIN:VEVENT
DTSTART;VALUE=DATE:20161117
DTEND;VALUE=DATE:20161118
DTSTAMP:20260423T062133
CREATED:20161115T060000Z
LAST-MODIFIED:20161115T060000Z
UID:10000667-1479340800-1479427199@fortjonesca.org
SUMMARY:1Every Day
DESCRIPTION:Every Day
URL:https://fortjonesca.org/event/1every-day/2016-11-17/
END:VEVENT
BEGIN:VEVENT
DTSTART;TZID=America/Chicago:20161116T140000
DTEND;TZID=America/Chicago:20161116T150000
DTSTAMP:20260423T062133
CREATED:20161106T200000Z
LAST-MODIFIED:20161106T200000Z
UID:10000641-1479304800-1479308400@fortjonesca.org
SUMMARY:Every Other Week Stop1
DESCRIPTION:
URL:https://fortjonesca.org/event/every-other-week-stop1/2016-11-16/
END:VEVENT
END:VCALENDAR