BEGIN:VCALENDAR
VERSION:2.0
PRODID:-//Town of Fort Jones, Siskiyou County, CA - ECPv6.15.17.1//NONSGML v1.0//EN
CALSCALE:GREGORIAN
METHOD:PUBLISH
X-WR-CALNAME:Town of Fort Jones, Siskiyou County, CA
X-ORIGINAL-URL:https://fortjonesca.org
X-WR-CALDESC:Events for Town of Fort Jones, Siskiyou County, CA
REFRESH-INTERVAL;VALUE=DURATION:PT1H
X-Robots-Tag:noindex
X-PUBLISHED-TTL:PT1H
BEGIN:VTIMEZONE
TZID:America/Chicago
BEGIN:DAYLIGHT
TZOFFSETFROM:-0600
TZOFFSETTO:-0500
TZNAME:CDT
DTSTART:20150308T080000
END:DAYLIGHT
BEGIN:STANDARD
TZOFFSETFROM:-0500
TZOFFSETTO:-0600
TZNAME:CST
DTSTART:20151101T070000
END:STANDARD
BEGIN:DAYLIGHT
TZOFFSETFROM:-0600
TZOFFSETTO:-0500
TZNAME:CDT
DTSTART:20160313T080000
END:DAYLIGHT
BEGIN:STANDARD
TZOFFSETFROM:-0500
TZOFFSETTO:-0600
TZNAME:CST
DTSTART:20161106T070000
END:STANDARD
BEGIN:DAYLIGHT
TZOFFSETFROM:-0600
TZOFFSETTO:-0500
TZNAME:CDT
DTSTART:20170312T080000
END:DAYLIGHT
BEGIN:STANDARD
TZOFFSETFROM:-0500
TZOFFSETTO:-0600
TZNAME:CST
DTSTART:20171105T070000
END:STANDARD
BEGIN:DAYLIGHT
TZOFFSETFROM:-0600
TZOFFSETTO:-0500
TZNAME:CDT
DTSTART:20180311T080000
END:DAYLIGHT
BEGIN:STANDARD
TZOFFSETFROM:-0500
TZOFFSETTO:-0600
TZNAME:CST
DTSTART:20181104T070000
END:STANDARD
END:VTIMEZONE
BEGIN:VEVENT
DTSTART;TZID=America/Chicago:20170501T190000
DTEND;TZID=America/Chicago:20170501T190000
DTSTAMP:20260423T064238
CREATED:20150805T000000Z
LAST-MODIFIED:20190314T152300Z
UID:10000511-1493665200-1493665200@fortjonesca.org
SUMMARY:City Council Meeting
DESCRIPTION:
URL:https://fortjonesca.org/event/city-council-meeting/2017-05-01/
END:VEVENT
BEGIN:VEVENT
DTSTART;TZID=America/Chicago:20170403T190000
DTEND;TZID=America/Chicago:20170403T190000
DTSTAMP:20260423T064238
CREATED:20150805T000000Z
LAST-MODIFIED:20190314T152300Z
UID:10000510-1491246000-1491246000@fortjonesca.org
SUMMARY:City Council Meeting
DESCRIPTION:
URL:https://fortjonesca.org/event/city-council-meeting/2017-04-03/
END:VEVENT
BEGIN:VEVENT
DTSTART;TZID=America/Chicago:20170325T200000
DTEND;TZID=America/Chicago:20170325T210000
DTSTAMP:20260423T064238
CREATED:20170312T020000Z
LAST-MODIFIED:20170312T020000Z
UID:10000689-1490472000-1490475600@fortjonesca.org
SUMMARY:JJJJJJJJJJJJJ
DESCRIPTION:fdfsdfs
URL:https://fortjonesca.org/event/jjjjjjjjjjjjj/2017-03-25/
END:VEVENT
BEGIN:VEVENT
DTSTART;TZID=America/Chicago:20170324T200000
DTEND;TZID=America/Chicago:20170324T210000
DTSTAMP:20260423T064238
CREATED:20170312T020000Z
LAST-MODIFIED:20170312T020000Z
UID:10000688-1490385600-1490389200@fortjonesca.org
SUMMARY:JJJJJJJJJJJJJ
DESCRIPTION:fdfsdfs
URL:https://fortjonesca.org/event/jjjjjjjjjjjjj/2017-03-24/
END:VEVENT
BEGIN:VEVENT
DTSTART;TZID=America/Chicago:20170323T200000
DTEND;TZID=America/Chicago:20170323T210000
DTSTAMP:20260423T064238
CREATED:20170312T020000Z
LAST-MODIFIED:20170312T020000Z
UID:10000687-1490299200-1490302800@fortjonesca.org
SUMMARY:JJJJJJJJJJJJJ
DESCRIPTION:fdfsdfs
URL:https://fortjonesca.org/event/jjjjjjjjjjjjj/2017-03-23/
END:VEVENT
BEGIN:VEVENT
DTSTART;TZID=America/Chicago:20170322T200000
DTEND;TZID=America/Chicago:20170322T210000
DTSTAMP:20260423T064238
CREATED:20170312T020000Z
LAST-MODIFIED:20170312T020000Z
UID:10000686-1490212800-1490216400@fortjonesca.org
SUMMARY:JJJJJJJJJJJJJ
DESCRIPTION:fdfsdfs
URL:https://fortjonesca.org/event/jjjjjjjjjjjjj/2017-03-22/
END:VEVENT
BEGIN:VEVENT
DTSTART;TZID=America/Chicago:20170321T200000
DTEND;TZID=America/Chicago:20170321T210000
DTSTAMP:20260423T064238
CREATED:20170312T020000Z
LAST-MODIFIED:20170312T020000Z
UID:10000685-1490126400-1490130000@fortjonesca.org
SUMMARY:JJJJJJJJJJJJJ
DESCRIPTION:fdfsdfs
URL:https://fortjonesca.org/event/jjjjjjjjjjjjj/2017-03-21/
END:VEVENT
BEGIN:VEVENT
DTSTART;TZID=America/Chicago:20170320T200000
DTEND;TZID=America/Chicago:20170320T210000
DTSTAMP:20260423T064238
CREATED:20170312T020000Z
LAST-MODIFIED:20170312T020000Z
UID:10000684-1490040000-1490043600@fortjonesca.org
SUMMARY:JJJJJJJJJJJJJ
DESCRIPTION:fdfsdfs
URL:https://fortjonesca.org/event/jjjjjjjjjjjjj/2017-03-20/
END:VEVENT
BEGIN:VEVENT
DTSTART;TZID=America/Chicago:20170319T200000
DTEND;TZID=America/Chicago:20170319T210000
DTSTAMP:20260423T064238
CREATED:20170312T020000Z
LAST-MODIFIED:20170312T020000Z
UID:10000683-1489953600-1489957200@fortjonesca.org
SUMMARY:JJJJJJJJJJJJJ
DESCRIPTION:fdfsdfs
URL:https://fortjonesca.org/event/jjjjjjjjjjjjj/2017-03-19/
END:VEVENT
BEGIN:VEVENT
DTSTART;TZID=America/Chicago:20170318T200000
DTEND;TZID=America/Chicago:20170318T210000
DTSTAMP:20260423T064238
CREATED:20170312T020000Z
LAST-MODIFIED:20170312T020000Z
UID:10000682-1489867200-1489870800@fortjonesca.org
SUMMARY:JJJJJJJJJJJJJ
DESCRIPTION:fdfsdfs
URL:https://fortjonesca.org/event/jjjjjjjjjjjjj/2017-03-18/
END:VEVENT
BEGIN:VEVENT
DTSTART;TZID=America/Chicago:20170317T200000
DTEND;TZID=America/Chicago:20170317T210000
DTSTAMP:20260423T064238
CREATED:20170312T020000Z
LAST-MODIFIED:20170312T020000Z
UID:10000681-1489780800-1489784400@fortjonesca.org
SUMMARY:JJJJJJJJJJJJJ
DESCRIPTION:fdfsdfs
URL:https://fortjonesca.org/event/jjjjjjjjjjjjj/2017-03-17/
END:VEVENT
BEGIN:VEVENT
DTSTART;TZID=America/Chicago:20170316T200000
DTEND;TZID=America/Chicago:20170316T210000
DTSTAMP:20260423T064238
CREATED:20170312T020000Z
LAST-MODIFIED:20170312T020000Z
UID:10000680-1489694400-1489698000@fortjonesca.org
SUMMARY:JJJJJJJJJJJJJ
DESCRIPTION:fdfsdfs
URL:https://fortjonesca.org/event/jjjjjjjjjjjjj/2017-03-16/
END:VEVENT
BEGIN:VEVENT
DTSTART;VALUE=DATE:20170316
DTEND;VALUE=DATE:20170317
DTSTAMP:20260423T064238
CREATED:20170316T050000Z
LAST-MODIFIED:20170316T050000Z
UID:10000691-1489622400-1489708799@fortjonesca.org
SUMMARY:Garbage & Recycling
DESCRIPTION:
URL:https://fortjonesca.org/event/garbage-recycling/
END:VEVENT
BEGIN:VEVENT
DTSTART;TZID=America/Chicago:20170315T200000
DTEND;TZID=America/Chicago:20170315T210000
DTSTAMP:20260423T064238
CREATED:20170312T020000Z
LAST-MODIFIED:20170312T020000Z
UID:10000679-1489608000-1489611600@fortjonesca.org
SUMMARY:JJJJJJJJJJJJJ
DESCRIPTION:fdfsdfs
URL:https://fortjonesca.org/event/jjjjjjjjjjjjj/2017-03-15/
END:VEVENT
BEGIN:VEVENT
DTSTART;TZID=America/Chicago:20170314T200000
DTEND;TZID=America/Chicago:20170314T210000
DTSTAMP:20260423T064238
CREATED:20170312T020000Z
LAST-MODIFIED:20170312T020000Z
UID:10000678-1489521600-1489525200@fortjonesca.org
SUMMARY:JJJJJJJJJJJJJ
DESCRIPTION:fdfsdfs
URL:https://fortjonesca.org/event/jjjjjjjjjjjjj/2017-03-14/
END:VEVENT
BEGIN:VEVENT
DTSTART;TZID=America/Chicago:20170313T200000
DTEND;TZID=America/Chicago:20170313T210000
DTSTAMP:20260423T064238
CREATED:20170312T020000Z
LAST-MODIFIED:20170312T020000Z
UID:10000677-1489435200-1489438800@fortjonesca.org
SUMMARY:JJJJJJJJJJJJJ
DESCRIPTION:fdfsdfs
URL:https://fortjonesca.org/event/jjjjjjjjjjjjj/2017-03-13/
END:VEVENT
BEGIN:VEVENT
DTSTART;VALUE=DATE:20170313
DTEND;VALUE=DATE:20170314
DTSTAMP:20260423T064238
CREATED:20170313T050000Z
LAST-MODIFIED:20170313T050000Z
UID:10000690-1489363200-1489449599@fortjonesca.org
SUMMARY:ALL DAY EVENT
DESCRIPTION:ALL DAY EVENT ALL DAY EVENT ALL DAY EVENT
URL:https://fortjonesca.org/event/all-day-event/
END:VEVENT
BEGIN:VEVENT
DTSTART;TZID=America/Chicago:20170312T200000
DTEND;TZID=America/Chicago:20170312T210000
DTSTAMP:20260423T064238
CREATED:20170312T020000Z
LAST-MODIFIED:20170312T020000Z
UID:10000676-1489348800-1489352400@fortjonesca.org
SUMMARY:JJJJJJJJJJJJJ
DESCRIPTION:fdfsdfs
URL:https://fortjonesca.org/event/jjjjjjjjjjjjj/2017-03-12/
END:VEVENT
BEGIN:VEVENT
DTSTART;TZID=America/Chicago:20170311T200000
DTEND;TZID=America/Chicago:20170311T210000
DTSTAMP:20260423T064238
CREATED:20170312T020000Z
LAST-MODIFIED:20170312T020000Z
UID:10000675-1489262400-1489266000@fortjonesca.org
SUMMARY:JJJJJJJJJJJJJ
DESCRIPTION:fdfsdfs
URL:https://fortjonesca.org/event/jjjjjjjjjjjjj/2017-03-11/
END:VEVENT
BEGIN:VEVENT
DTSTART;TZID=America/Chicago:20170306T190000
DTEND;TZID=America/Chicago:20170306T190000
DTSTAMP:20260423T064238
CREATED:20150805T000000Z
LAST-MODIFIED:20190314T152300Z
UID:10000509-1488826800-1488826800@fortjonesca.org
SUMMARY:City Council Meeting
DESCRIPTION:
URL:https://fortjonesca.org/event/city-council-meeting/2017-03-06/
END:VEVENT
BEGIN:VEVENT
DTSTART;TZID=America/Chicago:20170305T150000
DTEND;TZID=America/Chicago:20170305T160000
DTSTAMP:20260423T064238
CREATED:20161204T210000Z
LAST-MODIFIED:20161204T210000Z
UID:10000673-1488726000-1488729600@fortjonesca.org
SUMMARY:Every First Sun222
DESCRIPTION:
URL:https://fortjonesca.org/event/every-first-sun222/2017-03-05/
END:VEVENT
BEGIN:VEVENT
DTSTART;TZID=America/Chicago:20170206T190000
DTEND;TZID=America/Chicago:20170206T190000
DTSTAMP:20260423T064238
CREATED:20150805T000000Z
LAST-MODIFIED:20190314T152300Z
UID:10000508-1486407600-1486407600@fortjonesca.org
SUMMARY:City Council Meeting
DESCRIPTION:
URL:https://fortjonesca.org/event/city-council-meeting/2017-02-06/
END:VEVENT
BEGIN:VEVENT
DTSTART;TZID=America/Chicago:20170205T150000
DTEND;TZID=America/Chicago:20170205T160000
DTSTAMP:20260423T064238
CREATED:20161204T210000Z
LAST-MODIFIED:20161204T210000Z
UID:10000672-1486306800-1486310400@fortjonesca.org
SUMMARY:Every First Sun222
DESCRIPTION:
URL:https://fortjonesca.org/event/every-first-sun222/2017-02-05/
END:VEVENT
BEGIN:VEVENT
DTSTART;TZID=America/Chicago:20170128T140000
DTEND;TZID=America/Chicago:20170129T150000
DTSTAMP:20260423T064238
CREATED:20170128T200000Z
LAST-MODIFIED:20170128T200000Z
UID:10000674-1485612000-1485702000@fortjonesca.org
SUMMARY:111
DESCRIPTION:
URL:https://fortjonesca.org/event/111/
END:VEVENT
BEGIN:VEVENT
DTSTART;TZID=America/Chicago:20170102T190000
DTEND;TZID=America/Chicago:20170102T190000
DTSTAMP:20260423T064238
CREATED:20150805T000000Z
LAST-MODIFIED:20190314T152300Z
UID:10000507-1483383600-1483383600@fortjonesca.org
SUMMARY:City Council Meeting
DESCRIPTION:
URL:https://fortjonesca.org/event/city-council-meeting/2017-01-02/
END:VEVENT
BEGIN:VEVENT
DTSTART;TZID=America/Chicago:20170101T150000
DTEND;TZID=America/Chicago:20170101T160000
DTSTAMP:20260423T064238
CREATED:20161204T210000Z
LAST-MODIFIED:20161204T210000Z
UID:10000671-1483282800-1483286400@fortjonesca.org
SUMMARY:Every First Sun222
DESCRIPTION:
URL:https://fortjonesca.org/event/every-first-sun222/2017-01-01/
END:VEVENT
BEGIN:VEVENT
DTSTART;TZID=America/Chicago:20161228T140000
DTEND;TZID=America/Chicago:20161228T150000
DTSTAMP:20260423T064238
CREATED:20161106T200000Z
LAST-MODIFIED:20161106T200000Z
UID:10000662-1482933600-1482937200@fortjonesca.org
SUMMARY:Every Other Week Stop1
DESCRIPTION:
URL:https://fortjonesca.org/event/every-other-week-stop1/2016-12-28/
END:VEVENT
BEGIN:VEVENT
DTSTART;TZID=America/Chicago:20161226T140000
DTEND;TZID=America/Chicago:20161226T150000
DTSTAMP:20260423T064238
CREATED:20161106T200000Z
LAST-MODIFIED:20161106T200000Z
UID:10000661-1482760800-1482764400@fortjonesca.org
SUMMARY:Every Other Week Stop1
DESCRIPTION:
URL:https://fortjonesca.org/event/every-other-week-stop1/2016-12-26/
END:VEVENT
BEGIN:VEVENT
DTSTART;TZID=America/Chicago:20161224T140000
DTEND;TZID=America/Chicago:20161224T150000
DTSTAMP:20260423T064238
CREATED:20161106T200000Z
LAST-MODIFIED:20161106T200000Z
UID:10000660-1482588000-1482591600@fortjonesca.org
SUMMARY:Every Other Week Stop1
DESCRIPTION:
URL:https://fortjonesca.org/event/every-other-week-stop1/2016-12-24/
END:VEVENT
BEGIN:VEVENT
DTSTART;TZID=America/Chicago:20161222T140000
DTEND;TZID=America/Chicago:20161222T150000
DTSTAMP:20260423T064238
CREATED:20161106T200000Z
LAST-MODIFIED:20161106T200000Z
UID:10000659-1482415200-1482418800@fortjonesca.org
SUMMARY:Every Other Week Stop1
DESCRIPTION:
URL:https://fortjonesca.org/event/every-other-week-stop1/2016-12-22/
END:VEVENT
END:VCALENDAR