BEGIN:VCALENDAR
VERSION:2.0
PRODID:-//Town of Fort Jones, Siskiyou County, CA - ECPv6.15.17.1//NONSGML v1.0//EN
CALSCALE:GREGORIAN
METHOD:PUBLISH
X-WR-CALNAME:Town of Fort Jones, Siskiyou County, CA
X-ORIGINAL-URL:https://fortjonesca.org
X-WR-CALDESC:Events for Town of Fort Jones, Siskiyou County, CA
REFRESH-INTERVAL;VALUE=DURATION:PT1H
X-Robots-Tag:noindex
X-PUBLISHED-TTL:PT1H
BEGIN:VTIMEZONE
TZID:America/Chicago
BEGIN:DAYLIGHT
TZOFFSETFROM:-0600
TZOFFSETTO:-0500
TZNAME:CDT
DTSTART:20140309T080000
END:DAYLIGHT
BEGIN:STANDARD
TZOFFSETFROM:-0500
TZOFFSETTO:-0600
TZNAME:CST
DTSTART:20141102T070000
END:STANDARD
BEGIN:DAYLIGHT
TZOFFSETFROM:-0600
TZOFFSETTO:-0500
TZNAME:CDT
DTSTART:20150308T080000
END:DAYLIGHT
BEGIN:STANDARD
TZOFFSETFROM:-0500
TZOFFSETTO:-0600
TZNAME:CST
DTSTART:20151101T070000
END:STANDARD
BEGIN:DAYLIGHT
TZOFFSETFROM:-0600
TZOFFSETTO:-0500
TZNAME:CDT
DTSTART:20160313T080000
END:DAYLIGHT
BEGIN:STANDARD
TZOFFSETFROM:-0500
TZOFFSETTO:-0600
TZNAME:CST
DTSTART:20161106T070000
END:STANDARD
END:VTIMEZONE
BEGIN:VEVENT
DTSTART;TZID=America/Chicago:20150909T180500
DTEND;TZID=America/Chicago:20150909T220900
DTSTAMP:20260425T232310
CREATED:20150711T230500Z
LAST-MODIFIED:20150711T230500Z
UID:10000062-1441821900-1441836540@fortjonesca.org
SUMMARY:Regular Garbage & Recycling Pickup
DESCRIPTION:Trash pickup starts in town at 7am.
URL:https://fortjonesca.org/event/regular-garbage-recycling-pickup/2015-09-09/
END:VEVENT
BEGIN:VEVENT
DTSTART;TZID=America/Chicago:20150909T080000
DTEND;TZID=America/Chicago:20150909T120000
DTSTAMP:20260425T232310
CREATED:20150812T130000Z
LAST-MODIFIED:20150812T130000Z
UID:10000539-1441785600-1441800000@fortjonesca.org
SUMMARY:Clerks Hours
DESCRIPTION:Am in the office from 8am to noon
URL:https://fortjonesca.org/event/clerks-hours/2015-09-09/
END:VEVENT
BEGIN:VEVENT
DTSTART;TZID=America/Chicago:20150908T180500
DTEND;TZID=America/Chicago:20150908T220900
DTSTAMP:20260425T232310
CREATED:20150711T230500Z
LAST-MODIFIED:20150711T230500Z
UID:10000061-1441735500-1441750140@fortjonesca.org
SUMMARY:Regular Garbage & Recycling Pickup
DESCRIPTION:Trash pickup starts in town at 7am.
URL:https://fortjonesca.org/event/regular-garbage-recycling-pickup/2015-09-08/
END:VEVENT
BEGIN:VEVENT
DTSTART;TZID=America/Chicago:20150907T190000
DTEND;TZID=America/Chicago:20150907T190000
DTSTAMP:20260425T232310
CREATED:20150805T000000Z
LAST-MODIFIED:20190314T152300Z
UID:10000491-1441652400-1441652400@fortjonesca.org
SUMMARY:City Council Meeting
DESCRIPTION:
URL:https://fortjonesca.org/event/city-council-meeting/2015-09-07/
END:VEVENT
BEGIN:VEVENT
DTSTART;TZID=America/Chicago:20150907T180500
DTEND;TZID=America/Chicago:20150907T220900
DTSTAMP:20260425T232310
CREATED:20150711T230500Z
LAST-MODIFIED:20150711T230500Z
UID:10000060-1441649100-1441663740@fortjonesca.org
SUMMARY:Regular Garbage & Recycling Pickup
DESCRIPTION:Trash pickup starts in town at 7am.
URL:https://fortjonesca.org/event/regular-garbage-recycling-pickup/2015-09-07/
END:VEVENT
BEGIN:VEVENT
DTSTART;TZID=America/Chicago:20150906T180500
DTEND;TZID=America/Chicago:20150906T220900
DTSTAMP:20260425T232310
CREATED:20150711T230500Z
LAST-MODIFIED:20150711T230500Z
UID:10000059-1441562700-1441577340@fortjonesca.org
SUMMARY:Regular Garbage & Recycling Pickup
DESCRIPTION:Trash pickup starts in town at 7am.
URL:https://fortjonesca.org/event/regular-garbage-recycling-pickup/2015-09-06/
END:VEVENT
BEGIN:VEVENT
DTSTART;TZID=America/Chicago:20150905T180500
DTEND;TZID=America/Chicago:20150905T220900
DTSTAMP:20260425T232310
CREATED:20150711T230500Z
LAST-MODIFIED:20150711T230500Z
UID:10000058-1441476300-1441490940@fortjonesca.org
SUMMARY:Regular Garbage & Recycling Pickup
DESCRIPTION:Trash pickup starts in town at 7am.
URL:https://fortjonesca.org/event/regular-garbage-recycling-pickup/2015-09-05/
END:VEVENT
BEGIN:VEVENT
DTSTART;TZID=America/Chicago:20150904T180500
DTEND;TZID=America/Chicago:20150904T220900
DTSTAMP:20260425T232310
CREATED:20150711T230500Z
LAST-MODIFIED:20150711T230500Z
UID:10000057-1441389900-1441404540@fortjonesca.org
SUMMARY:Regular Garbage & Recycling Pickup
DESCRIPTION:Trash pickup starts in town at 7am.
URL:https://fortjonesca.org/event/regular-garbage-recycling-pickup/2015-09-04/
END:VEVENT
BEGIN:VEVENT
DTSTART;TZID=America/Chicago:20150903T180500
DTEND;TZID=America/Chicago:20150903T220900
DTSTAMP:20260425T232310
CREATED:20150711T230500Z
LAST-MODIFIED:20150711T230500Z
UID:10000056-1441303500-1441318140@fortjonesca.org
SUMMARY:Regular Garbage & Recycling Pickup
DESCRIPTION:Trash pickup starts in town at 7am.
URL:https://fortjonesca.org/event/regular-garbage-recycling-pickup/2015-09-03/
END:VEVENT
BEGIN:VEVENT
DTSTART;TZID=America/Chicago:20150902T180500
DTEND;TZID=America/Chicago:20150902T220900
DTSTAMP:20260425T232310
CREATED:20150711T230500Z
LAST-MODIFIED:20150711T230500Z
UID:10000055-1441217100-1441231740@fortjonesca.org
SUMMARY:Regular Garbage & Recycling Pickup
DESCRIPTION:Trash pickup starts in town at 7am.
URL:https://fortjonesca.org/event/regular-garbage-recycling-pickup/2015-09-02/
END:VEVENT
BEGIN:VEVENT
DTSTART;TZID=America/Chicago:20150902T080000
DTEND;TZID=America/Chicago:20150902T120000
DTSTAMP:20260425T232310
CREATED:20150812T130000Z
LAST-MODIFIED:20150812T130000Z
UID:10000538-1441180800-1441195200@fortjonesca.org
SUMMARY:Clerks Hours
DESCRIPTION:Am in the office from 8am to noon
URL:https://fortjonesca.org/event/clerks-hours/2015-09-02/
END:VEVENT
BEGIN:VEVENT
DTSTART;TZID=America/Chicago:20150901T180500
DTEND;TZID=America/Chicago:20150901T220900
DTSTAMP:20260425T232310
CREATED:20150711T230500Z
LAST-MODIFIED:20150711T230500Z
UID:10000054-1441130700-1441145340@fortjonesca.org
SUMMARY:Regular Garbage & Recycling Pickup
DESCRIPTION:Trash pickup starts in town at 7am.
URL:https://fortjonesca.org/event/regular-garbage-recycling-pickup/2015-09-01/
END:VEVENT
BEGIN:VEVENT
DTSTART;TZID=America/Chicago:20150831T180500
DTEND;TZID=America/Chicago:20150831T220900
DTSTAMP:20260425T232310
CREATED:20150711T230500Z
LAST-MODIFIED:20150711T230500Z
UID:10000053-1441044300-1441058940@fortjonesca.org
SUMMARY:Regular Garbage & Recycling Pickup
DESCRIPTION:Trash pickup starts in town at 7am.
URL:https://fortjonesca.org/event/regular-garbage-recycling-pickup/2015-08-31/
END:VEVENT
BEGIN:VEVENT
DTSTART;TZID=America/Chicago:20150830T180500
DTEND;TZID=America/Chicago:20150830T220900
DTSTAMP:20260425T232310
CREATED:20150711T230500Z
LAST-MODIFIED:20150711T230500Z
UID:10000052-1440957900-1440972540@fortjonesca.org
SUMMARY:Regular Garbage & Recycling Pickup
DESCRIPTION:Trash pickup starts in town at 7am.
URL:https://fortjonesca.org/event/regular-garbage-recycling-pickup/2015-08-30/
END:VEVENT
BEGIN:VEVENT
DTSTART;TZID=America/Chicago:20150829T180500
DTEND;TZID=America/Chicago:20150829T220900
DTSTAMP:20260425T232310
CREATED:20150711T230500Z
LAST-MODIFIED:20150711T230500Z
UID:10000051-1440871500-1440886140@fortjonesca.org
SUMMARY:Regular Garbage & Recycling Pickup
DESCRIPTION:Trash pickup starts in town at 7am.
URL:https://fortjonesca.org/event/regular-garbage-recycling-pickup/2015-08-29/
END:VEVENT
BEGIN:VEVENT
DTSTART;TZID=America/Chicago:20150828T180500
DTEND;TZID=America/Chicago:20150828T220900
DTSTAMP:20260425T232310
CREATED:20150711T230500Z
LAST-MODIFIED:20150711T230500Z
UID:10000050-1440785100-1440799740@fortjonesca.org
SUMMARY:Regular Garbage & Recycling Pickup
DESCRIPTION:Trash pickup starts in town at 7am.
URL:https://fortjonesca.org/event/regular-garbage-recycling-pickup/2015-08-28/
END:VEVENT
BEGIN:VEVENT
DTSTART;TZID=America/Chicago:20150827T180500
DTEND;TZID=America/Chicago:20150827T220900
DTSTAMP:20260425T232310
CREATED:20150711T230500Z
LAST-MODIFIED:20150711T230500Z
UID:10000049-1440698700-1440713340@fortjonesca.org
SUMMARY:Regular Garbage & Recycling Pickup
DESCRIPTION:Trash pickup starts in town at 7am.
URL:https://fortjonesca.org/event/regular-garbage-recycling-pickup/2015-08-27/
END:VEVENT
BEGIN:VEVENT
DTSTART;TZID=America/Chicago:20150826T180500
DTEND;TZID=America/Chicago:20150826T220900
DTSTAMP:20260425T232310
CREATED:20150711T230500Z
LAST-MODIFIED:20150711T230500Z
UID:10000048-1440612300-1440626940@fortjonesca.org
SUMMARY:Regular Garbage & Recycling Pickup
DESCRIPTION:Trash pickup starts in town at 7am.
URL:https://fortjonesca.org/event/regular-garbage-recycling-pickup/2015-08-26/
END:VEVENT
BEGIN:VEVENT
DTSTART;TZID=America/Chicago:20150826T080000
DTEND;TZID=America/Chicago:20150826T120000
DTSTAMP:20260425T232310
CREATED:20150812T130000Z
LAST-MODIFIED:20150812T130000Z
UID:10000537-1440576000-1440590400@fortjonesca.org
SUMMARY:Clerks Hours
DESCRIPTION:Am in the office from 8am to noon
URL:https://fortjonesca.org/event/clerks-hours/2015-08-26/
END:VEVENT
BEGIN:VEVENT
DTSTART;TZID=America/Chicago:20150825T180500
DTEND;TZID=America/Chicago:20150825T220900
DTSTAMP:20260425T232310
CREATED:20150711T230500Z
LAST-MODIFIED:20150711T230500Z
UID:10000047-1440525900-1440540540@fortjonesca.org
SUMMARY:Regular Garbage & Recycling Pickup
DESCRIPTION:Trash pickup starts in town at 7am.
URL:https://fortjonesca.org/event/regular-garbage-recycling-pickup/2015-08-25/
END:VEVENT
BEGIN:VEVENT
DTSTART;TZID=America/Chicago:20150824T180500
DTEND;TZID=America/Chicago:20150824T220900
DTSTAMP:20260425T232310
CREATED:20150711T230500Z
LAST-MODIFIED:20150711T230500Z
UID:10000046-1440439500-1440454140@fortjonesca.org
SUMMARY:Regular Garbage & Recycling Pickup
DESCRIPTION:Trash pickup starts in town at 7am.
URL:https://fortjonesca.org/event/regular-garbage-recycling-pickup/2015-08-24/
END:VEVENT
BEGIN:VEVENT
DTSTART;TZID=America/Chicago:20150823T180500
DTEND;TZID=America/Chicago:20150823T220900
DTSTAMP:20260425T232310
CREATED:20150711T230500Z
LAST-MODIFIED:20150711T230500Z
UID:10000045-1440353100-1440367740@fortjonesca.org
SUMMARY:Regular Garbage & Recycling Pickup
DESCRIPTION:Trash pickup starts in town at 7am.
URL:https://fortjonesca.org/event/regular-garbage-recycling-pickup/2015-08-23/
END:VEVENT
BEGIN:VEVENT
DTSTART;TZID=America/Chicago:20150822T180500
DTEND;TZID=America/Chicago:20150822T220900
DTSTAMP:20260425T232310
CREATED:20150711T230500Z
LAST-MODIFIED:20150711T230500Z
UID:10000044-1440266700-1440281340@fortjonesca.org
SUMMARY:Regular Garbage & Recycling Pickup
DESCRIPTION:Trash pickup starts in town at 7am.
URL:https://fortjonesca.org/event/regular-garbage-recycling-pickup/2015-08-22/
END:VEVENT
BEGIN:VEVENT
DTSTART;TZID=America/Chicago:20150821T180500
DTEND;TZID=America/Chicago:20150821T220900
DTSTAMP:20260425T232310
CREATED:20150711T230500Z
LAST-MODIFIED:20150711T230500Z
UID:10000043-1440180300-1440194940@fortjonesca.org
SUMMARY:Regular Garbage & Recycling Pickup
DESCRIPTION:Trash pickup starts in town at 7am.
URL:https://fortjonesca.org/event/regular-garbage-recycling-pickup/2015-08-21/
END:VEVENT
BEGIN:VEVENT
DTSTART;TZID=America/Chicago:20150820T180500
DTEND;TZID=America/Chicago:20150820T220900
DTSTAMP:20260425T232310
CREATED:20150711T230500Z
LAST-MODIFIED:20150711T230500Z
UID:10000042-1440093900-1440108540@fortjonesca.org
SUMMARY:Regular Garbage & Recycling Pickup
DESCRIPTION:Trash pickup starts in town at 7am.
URL:https://fortjonesca.org/event/regular-garbage-recycling-pickup/2015-08-20/
END:VEVENT
BEGIN:VEVENT
DTSTART;TZID=America/Chicago:20150819T180500
DTEND;TZID=America/Chicago:20150819T220900
DTSTAMP:20260425T232310
CREATED:20150711T230500Z
LAST-MODIFIED:20150711T230500Z
UID:10000041-1440007500-1440022140@fortjonesca.org
SUMMARY:Regular Garbage & Recycling Pickup
DESCRIPTION:Trash pickup starts in town at 7am.
URL:https://fortjonesca.org/event/regular-garbage-recycling-pickup/2015-08-19/
END:VEVENT
BEGIN:VEVENT
DTSTART;TZID=America/Chicago:20150819T080000
DTEND;TZID=America/Chicago:20150819T120000
DTSTAMP:20260425T232310
CREATED:20150812T130000Z
LAST-MODIFIED:20150812T130000Z
UID:10000536-1439971200-1439985600@fortjonesca.org
SUMMARY:Clerks Hours
DESCRIPTION:Am in the office from 8am to noon
URL:https://fortjonesca.org/event/clerks-hours/2015-08-19/
END:VEVENT
BEGIN:VEVENT
DTSTART;TZID=America/Chicago:20150818T180500
DTEND;TZID=America/Chicago:20150818T220900
DTSTAMP:20260425T232310
CREATED:20150711T230500Z
LAST-MODIFIED:20150711T230500Z
UID:10000040-1439921100-1439935740@fortjonesca.org
SUMMARY:Regular Garbage & Recycling Pickup
DESCRIPTION:Trash pickup starts in town at 7am.
URL:https://fortjonesca.org/event/regular-garbage-recycling-pickup/2015-08-18/
END:VEVENT
BEGIN:VEVENT
DTSTART;TZID=America/Chicago:20150817T180500
DTEND;TZID=America/Chicago:20150817T220900
DTSTAMP:20260425T232310
CREATED:20150711T230500Z
LAST-MODIFIED:20150711T230500Z
UID:10000039-1439834700-1439849340@fortjonesca.org
SUMMARY:Regular Garbage & Recycling Pickup
DESCRIPTION:Trash pickup starts in town at 7am.
URL:https://fortjonesca.org/event/regular-garbage-recycling-pickup/2015-08-17/
END:VEVENT
BEGIN:VEVENT
DTSTART;TZID=America/Chicago:20150816T180500
DTEND;TZID=America/Chicago:20150816T220900
DTSTAMP:20260425T232310
CREATED:20150711T230500Z
LAST-MODIFIED:20150711T230500Z
UID:10000038-1439748300-1439762940@fortjonesca.org
SUMMARY:Regular Garbage & Recycling Pickup
DESCRIPTION:Trash pickup starts in town at 7am.
URL:https://fortjonesca.org/event/regular-garbage-recycling-pickup/2015-08-16/
END:VEVENT
END:VCALENDAR