BEGIN:VCALENDAR
VERSION:2.0
PRODID:-//Town of Fort Jones, Siskiyou County, CA - ECPv6.15.17.1//NONSGML v1.0//EN
CALSCALE:GREGORIAN
METHOD:PUBLISH
X-WR-CALNAME:Town of Fort Jones, Siskiyou County, CA
X-ORIGINAL-URL:https://fortjonesca.org
X-WR-CALDESC:Events for Town of Fort Jones, Siskiyou County, CA
REFRESH-INTERVAL;VALUE=DURATION:PT1H
X-Robots-Tag:noindex
X-PUBLISHED-TTL:PT1H
BEGIN:VTIMEZONE
TZID:America/Chicago
BEGIN:DAYLIGHT
TZOFFSETFROM:-0600
TZOFFSETTO:-0500
TZNAME:CDT
DTSTART:20140309T080000
END:DAYLIGHT
BEGIN:STANDARD
TZOFFSETFROM:-0500
TZOFFSETTO:-0600
TZNAME:CST
DTSTART:20141102T070000
END:STANDARD
BEGIN:DAYLIGHT
TZOFFSETFROM:-0600
TZOFFSETTO:-0500
TZNAME:CDT
DTSTART:20150308T080000
END:DAYLIGHT
BEGIN:STANDARD
TZOFFSETFROM:-0500
TZOFFSETTO:-0600
TZNAME:CST
DTSTART:20151101T070000
END:STANDARD
BEGIN:DAYLIGHT
TZOFFSETFROM:-0600
TZOFFSETTO:-0500
TZNAME:CDT
DTSTART:20160313T080000
END:DAYLIGHT
BEGIN:STANDARD
TZOFFSETFROM:-0500
TZOFFSETTO:-0600
TZNAME:CST
DTSTART:20161106T070000
END:STANDARD
END:VTIMEZONE
BEGIN:VEVENT
DTSTART;TZID=America/Chicago:20151110T180500
DTEND;TZID=America/Chicago:20151110T220900
DTSTAMP:20260425T102643
CREATED:20150711T230500Z
LAST-MODIFIED:20150711T230500Z
UID:10000124-1447178700-1447193340@fortjonesca.org
SUMMARY:Regular Garbage & Recycling Pickup
DESCRIPTION:Trash pickup starts in town at 7am.
URL:https://fortjonesca.org/event/regular-garbage-recycling-pickup/2015-11-10/
END:VEVENT
BEGIN:VEVENT
DTSTART;TZID=America/Chicago:20151109T180500
DTEND;TZID=America/Chicago:20151109T220900
DTSTAMP:20260425T102643
CREATED:20150711T230500Z
LAST-MODIFIED:20150711T230500Z
UID:10000123-1447092300-1447106940@fortjonesca.org
SUMMARY:Regular Garbage & Recycling Pickup
DESCRIPTION:Trash pickup starts in town at 7am.
URL:https://fortjonesca.org/event/regular-garbage-recycling-pickup/2015-11-09/
END:VEVENT
BEGIN:VEVENT
DTSTART;TZID=America/Chicago:20151108T180500
DTEND;TZID=America/Chicago:20151108T220900
DTSTAMP:20260425T102643
CREATED:20150711T230500Z
LAST-MODIFIED:20150711T230500Z
UID:10000122-1447005900-1447020540@fortjonesca.org
SUMMARY:Regular Garbage & Recycling Pickup
DESCRIPTION:Trash pickup starts in town at 7am.
URL:https://fortjonesca.org/event/regular-garbage-recycling-pickup/2015-11-08/
END:VEVENT
BEGIN:VEVENT
DTSTART;TZID=America/Chicago:20151107T180500
DTEND;TZID=America/Chicago:20151107T220900
DTSTAMP:20260425T102643
CREATED:20150711T230500Z
LAST-MODIFIED:20150711T230500Z
UID:10000121-1446919500-1446934140@fortjonesca.org
SUMMARY:Regular Garbage & Recycling Pickup
DESCRIPTION:Trash pickup starts in town at 7am.
URL:https://fortjonesca.org/event/regular-garbage-recycling-pickup/2015-11-07/
END:VEVENT
BEGIN:VEVENT
DTSTART;TZID=America/Chicago:20151106T180500
DTEND;TZID=America/Chicago:20151106T220900
DTSTAMP:20260425T102643
CREATED:20150711T230500Z
LAST-MODIFIED:20150711T230500Z
UID:10000120-1446833100-1446847740@fortjonesca.org
SUMMARY:Regular Garbage & Recycling Pickup
DESCRIPTION:Trash pickup starts in town at 7am.
URL:https://fortjonesca.org/event/regular-garbage-recycling-pickup/2015-11-06/
END:VEVENT
BEGIN:VEVENT
DTSTART;TZID=America/Chicago:20151105T180500
DTEND;TZID=America/Chicago:20151105T220900
DTSTAMP:20260425T102643
CREATED:20150711T230500Z
LAST-MODIFIED:20150711T230500Z
UID:10000119-1446746700-1446761340@fortjonesca.org
SUMMARY:Regular Garbage & Recycling Pickup
DESCRIPTION:Trash pickup starts in town at 7am.
URL:https://fortjonesca.org/event/regular-garbage-recycling-pickup/2015-11-05/
END:VEVENT
BEGIN:VEVENT
DTSTART;TZID=America/Chicago:20151104T180500
DTEND;TZID=America/Chicago:20151104T220900
DTSTAMP:20260425T102643
CREATED:20150711T230500Z
LAST-MODIFIED:20150711T230500Z
UID:10000118-1446660300-1446674940@fortjonesca.org
SUMMARY:Regular Garbage & Recycling Pickup
DESCRIPTION:Trash pickup starts in town at 7am.
URL:https://fortjonesca.org/event/regular-garbage-recycling-pickup/2015-11-04/
END:VEVENT
BEGIN:VEVENT
DTSTART;TZID=America/Chicago:20151104T080000
DTEND;TZID=America/Chicago:20151104T120000
DTSTAMP:20260425T102643
CREATED:20150812T130000Z
LAST-MODIFIED:20150812T130000Z
UID:10000547-1446624000-1446638400@fortjonesca.org
SUMMARY:Clerks Hours
DESCRIPTION:Am in the office from 8am to noon
URL:https://fortjonesca.org/event/clerks-hours/2015-11-04/
END:VEVENT
BEGIN:VEVENT
DTSTART;TZID=America/Chicago:20151103T180500
DTEND;TZID=America/Chicago:20151103T220900
DTSTAMP:20260425T102643
CREATED:20150711T230500Z
LAST-MODIFIED:20150711T230500Z
UID:10000117-1446573900-1446588540@fortjonesca.org
SUMMARY:Regular Garbage & Recycling Pickup
DESCRIPTION:Trash pickup starts in town at 7am.
URL:https://fortjonesca.org/event/regular-garbage-recycling-pickup/2015-11-03/
END:VEVENT
BEGIN:VEVENT
DTSTART;TZID=America/Chicago:20151102T190000
DTEND;TZID=America/Chicago:20151102T190000
DTSTAMP:20260425T102643
CREATED:20150805T000000Z
LAST-MODIFIED:20190314T152300Z
UID:10000493-1446490800-1446490800@fortjonesca.org
SUMMARY:City Council Meeting
DESCRIPTION:
URL:https://fortjonesca.org/event/city-council-meeting/2015-11-02/
END:VEVENT
BEGIN:VEVENT
DTSTART;TZID=America/Chicago:20151102T180500
DTEND;TZID=America/Chicago:20151102T220900
DTSTAMP:20260425T102643
CREATED:20150711T230500Z
LAST-MODIFIED:20150711T230500Z
UID:10000116-1446487500-1446502140@fortjonesca.org
SUMMARY:Regular Garbage & Recycling Pickup
DESCRIPTION:Trash pickup starts in town at 7am.
URL:https://fortjonesca.org/event/regular-garbage-recycling-pickup/2015-11-02/
END:VEVENT
BEGIN:VEVENT
DTSTART;TZID=America/Chicago:20151101T180500
DTEND;TZID=America/Chicago:20151101T220900
DTSTAMP:20260425T102643
CREATED:20150711T230500Z
LAST-MODIFIED:20150711T230500Z
UID:10000115-1446401100-1446415740@fortjonesca.org
SUMMARY:Regular Garbage & Recycling Pickup
DESCRIPTION:Trash pickup starts in town at 7am.
URL:https://fortjonesca.org/event/regular-garbage-recycling-pickup/2015-11-01/
END:VEVENT
BEGIN:VEVENT
DTSTART;TZID=America/Chicago:20151031T180500
DTEND;TZID=America/Chicago:20151031T220900
DTSTAMP:20260425T102643
CREATED:20150711T230500Z
LAST-MODIFIED:20150711T230500Z
UID:10000114-1446314700-1446329340@fortjonesca.org
SUMMARY:Regular Garbage & Recycling Pickup
DESCRIPTION:Trash pickup starts in town at 7am.
URL:https://fortjonesca.org/event/regular-garbage-recycling-pickup/2015-10-31/
END:VEVENT
BEGIN:VEVENT
DTSTART;TZID=America/Chicago:20151030T180500
DTEND;TZID=America/Chicago:20151030T220900
DTSTAMP:20260425T102643
CREATED:20150711T230500Z
LAST-MODIFIED:20150711T230500Z
UID:10000113-1446228300-1446242940@fortjonesca.org
SUMMARY:Regular Garbage & Recycling Pickup
DESCRIPTION:Trash pickup starts in town at 7am.
URL:https://fortjonesca.org/event/regular-garbage-recycling-pickup/2015-10-30/
END:VEVENT
BEGIN:VEVENT
DTSTART;TZID=America/Chicago:20151029T180500
DTEND;TZID=America/Chicago:20151029T220900
DTSTAMP:20260425T102643
CREATED:20150711T230500Z
LAST-MODIFIED:20150711T230500Z
UID:10000112-1446141900-1446156540@fortjonesca.org
SUMMARY:Regular Garbage & Recycling Pickup
DESCRIPTION:Trash pickup starts in town at 7am.
URL:https://fortjonesca.org/event/regular-garbage-recycling-pickup/2015-10-29/
END:VEVENT
BEGIN:VEVENT
DTSTART;TZID=America/Chicago:20151028T180500
DTEND;TZID=America/Chicago:20151028T220900
DTSTAMP:20260425T102643
CREATED:20150711T230500Z
LAST-MODIFIED:20150711T230500Z
UID:10000111-1446055500-1446070140@fortjonesca.org
SUMMARY:Regular Garbage & Recycling Pickup
DESCRIPTION:Trash pickup starts in town at 7am.
URL:https://fortjonesca.org/event/regular-garbage-recycling-pickup/2015-10-28/
END:VEVENT
BEGIN:VEVENT
DTSTART;TZID=America/Chicago:20151028T080000
DTEND;TZID=America/Chicago:20151028T120000
DTSTAMP:20260425T102643
CREATED:20150812T130000Z
LAST-MODIFIED:20150812T130000Z
UID:10000546-1446019200-1446033600@fortjonesca.org
SUMMARY:Clerks Hours
DESCRIPTION:Am in the office from 8am to noon
URL:https://fortjonesca.org/event/clerks-hours/2015-10-28/
END:VEVENT
BEGIN:VEVENT
DTSTART;TZID=America/Chicago:20151027T180500
DTEND;TZID=America/Chicago:20151027T220900
DTSTAMP:20260425T102643
CREATED:20150711T230500Z
LAST-MODIFIED:20150711T230500Z
UID:10000110-1445969100-1445983740@fortjonesca.org
SUMMARY:Regular Garbage & Recycling Pickup
DESCRIPTION:Trash pickup starts in town at 7am.
URL:https://fortjonesca.org/event/regular-garbage-recycling-pickup/2015-10-27/
END:VEVENT
BEGIN:VEVENT
DTSTART;TZID=America/Chicago:20151026T180500
DTEND;TZID=America/Chicago:20151026T220900
DTSTAMP:20260425T102643
CREATED:20150711T230500Z
LAST-MODIFIED:20150711T230500Z
UID:10000109-1445882700-1445897340@fortjonesca.org
SUMMARY:Regular Garbage & Recycling Pickup
DESCRIPTION:Trash pickup starts in town at 7am.
URL:https://fortjonesca.org/event/regular-garbage-recycling-pickup/2015-10-26/
END:VEVENT
BEGIN:VEVENT
DTSTART;TZID=America/Chicago:20151025T180500
DTEND;TZID=America/Chicago:20151025T220900
DTSTAMP:20260425T102643
CREATED:20150711T230500Z
LAST-MODIFIED:20150711T230500Z
UID:10000108-1445796300-1445810940@fortjonesca.org
SUMMARY:Regular Garbage & Recycling Pickup
DESCRIPTION:Trash pickup starts in town at 7am.
URL:https://fortjonesca.org/event/regular-garbage-recycling-pickup/2015-10-25/
END:VEVENT
BEGIN:VEVENT
DTSTART;TZID=America/Chicago:20151024T180500
DTEND;TZID=America/Chicago:20151024T220900
DTSTAMP:20260425T102643
CREATED:20150711T230500Z
LAST-MODIFIED:20150711T230500Z
UID:10000107-1445709900-1445724540@fortjonesca.org
SUMMARY:Regular Garbage & Recycling Pickup
DESCRIPTION:Trash pickup starts in town at 7am.
URL:https://fortjonesca.org/event/regular-garbage-recycling-pickup/2015-10-24/
END:VEVENT
BEGIN:VEVENT
DTSTART;VALUE=DATE:20151024
DTEND;VALUE=DATE:20151025
DTSTAMP:20260425T102643
CREATED:20151002T050000Z
LAST-MODIFIED:20151002T050000Z
UID:10000622-1445644800-1445731199@fortjonesca.org
SUMMARY:October 2
DESCRIPTION:just a short desc
URL:https://fortjonesca.org/event/october-2/2015-10-24/
END:VEVENT
BEGIN:VEVENT
DTSTART;TZID=America/Chicago:20151023T180500
DTEND;TZID=America/Chicago:20151023T220900
DTSTAMP:20260425T102643
CREATED:20150711T230500Z
LAST-MODIFIED:20150711T230500Z
UID:10000106-1445623500-1445638140@fortjonesca.org
SUMMARY:Regular Garbage & Recycling Pickup
DESCRIPTION:Trash pickup starts in town at 7am.
URL:https://fortjonesca.org/event/regular-garbage-recycling-pickup/2015-10-23/
END:VEVENT
BEGIN:VEVENT
DTSTART;VALUE=DATE:20151023
DTEND;VALUE=DATE:20151024
DTSTAMP:20260425T102643
CREATED:20151002T050000Z
LAST-MODIFIED:20151002T050000Z
UID:10000621-1445558400-1445644799@fortjonesca.org
SUMMARY:October 2
DESCRIPTION:just a short desc
URL:https://fortjonesca.org/event/october-2/2015-10-23/
END:VEVENT
BEGIN:VEVENT
DTSTART;TZID=America/Chicago:20151022T180500
DTEND;TZID=America/Chicago:20151022T220900
DTSTAMP:20260425T102643
CREATED:20150711T230500Z
LAST-MODIFIED:20150711T230500Z
UID:10000105-1445537100-1445551740@fortjonesca.org
SUMMARY:Regular Garbage & Recycling Pickup
DESCRIPTION:Trash pickup starts in town at 7am.
URL:https://fortjonesca.org/event/regular-garbage-recycling-pickup/2015-10-22/
END:VEVENT
BEGIN:VEVENT
DTSTART;VALUE=DATE:20151022
DTEND;VALUE=DATE:20151023
DTSTAMP:20260425T102643
CREATED:20151002T050000Z
LAST-MODIFIED:20151002T050000Z
UID:10000620-1445472000-1445558399@fortjonesca.org
SUMMARY:October 2
DESCRIPTION:just a short desc
URL:https://fortjonesca.org/event/october-2/2015-10-22/
END:VEVENT
BEGIN:VEVENT
DTSTART;TZID=America/Chicago:20151021T180500
DTEND;TZID=America/Chicago:20151021T220900
DTSTAMP:20260425T102643
CREATED:20150711T230500Z
LAST-MODIFIED:20150711T230500Z
UID:10000104-1445450700-1445465340@fortjonesca.org
SUMMARY:Regular Garbage & Recycling Pickup
DESCRIPTION:Trash pickup starts in town at 7am.
URL:https://fortjonesca.org/event/regular-garbage-recycling-pickup/2015-10-21/
END:VEVENT
BEGIN:VEVENT
DTSTART;TZID=America/Chicago:20151021T080000
DTEND;TZID=America/Chicago:20151021T120000
DTSTAMP:20260425T102643
CREATED:20150812T130000Z
LAST-MODIFIED:20150812T130000Z
UID:10000545-1445414400-1445428800@fortjonesca.org
SUMMARY:Clerks Hours
DESCRIPTION:Am in the office from 8am to noon
URL:https://fortjonesca.org/event/clerks-hours/2015-10-21/
END:VEVENT
BEGIN:VEVENT
DTSTART;VALUE=DATE:20151021
DTEND;VALUE=DATE:20151022
DTSTAMP:20260425T102643
CREATED:20151002T050000Z
LAST-MODIFIED:20151002T050000Z
UID:10000619-1445385600-1445471999@fortjonesca.org
SUMMARY:October 2
DESCRIPTION:just a short desc
URL:https://fortjonesca.org/event/october-2/2015-10-21/
END:VEVENT
BEGIN:VEVENT
DTSTART;TZID=America/Chicago:20151020T180500
DTEND;TZID=America/Chicago:20151020T220900
DTSTAMP:20260425T102643
CREATED:20150711T230500Z
LAST-MODIFIED:20150711T230500Z
UID:10000103-1445364300-1445378940@fortjonesca.org
SUMMARY:Regular Garbage & Recycling Pickup
DESCRIPTION:Trash pickup starts in town at 7am.
URL:https://fortjonesca.org/event/regular-garbage-recycling-pickup/2015-10-20/
END:VEVENT
END:VCALENDAR