BEGIN:VCALENDAR
VERSION:2.0
PRODID:-//Town of Fort Jones, Siskiyou County, CA - ECPv6.15.17.1//NONSGML v1.0//EN
CALSCALE:GREGORIAN
METHOD:PUBLISH
X-WR-CALNAME:Town of Fort Jones, Siskiyou County, CA
X-ORIGINAL-URL:https://fortjonesca.org
X-WR-CALDESC:Events for Town of Fort Jones, Siskiyou County, CA
REFRESH-INTERVAL;VALUE=DURATION:PT1H
X-Robots-Tag:noindex
X-PUBLISHED-TTL:PT1H
BEGIN:VTIMEZONE
TZID:America/Chicago
BEGIN:DAYLIGHT
TZOFFSETFROM:-0600
TZOFFSETTO:-0500
TZNAME:CDT
DTSTART:20140309T080000
END:DAYLIGHT
BEGIN:STANDARD
TZOFFSETFROM:-0500
TZOFFSETTO:-0600
TZNAME:CST
DTSTART:20141102T070000
END:STANDARD
BEGIN:DAYLIGHT
TZOFFSETFROM:-0600
TZOFFSETTO:-0500
TZNAME:CDT
DTSTART:20150308T080000
END:DAYLIGHT
BEGIN:STANDARD
TZOFFSETFROM:-0500
TZOFFSETTO:-0600
TZNAME:CST
DTSTART:20151101T070000
END:STANDARD
BEGIN:DAYLIGHT
TZOFFSETFROM:-0600
TZOFFSETTO:-0500
TZNAME:CDT
DTSTART:20160313T080000
END:DAYLIGHT
BEGIN:STANDARD
TZOFFSETFROM:-0500
TZOFFSETTO:-0600
TZNAME:CST
DTSTART:20161106T070000
END:STANDARD
END:VTIMEZONE
BEGIN:VEVENT
DTSTART;TZID=America/Chicago:20151201T180500
DTEND;TZID=America/Chicago:20151201T220900
DTSTAMP:20260425T064712
CREATED:20150711T230500Z
LAST-MODIFIED:20150711T230500Z
UID:10000145-1448993100-1449007740@fortjonesca.org
SUMMARY:Regular Garbage & Recycling Pickup
DESCRIPTION:Trash pickup starts in town at 7am.
URL:https://fortjonesca.org/event/regular-garbage-recycling-pickup/2015-12-01/
END:VEVENT
BEGIN:VEVENT
DTSTART;TZID=America/Chicago:20151130T180500
DTEND;TZID=America/Chicago:20151130T220900
DTSTAMP:20260425T064712
CREATED:20150711T230500Z
LAST-MODIFIED:20150711T230500Z
UID:10000144-1448906700-1448921340@fortjonesca.org
SUMMARY:Regular Garbage & Recycling Pickup
DESCRIPTION:Trash pickup starts in town at 7am.
URL:https://fortjonesca.org/event/regular-garbage-recycling-pickup/2015-11-30/
END:VEVENT
BEGIN:VEVENT
DTSTART;TZID=America/Chicago:20151129T180500
DTEND;TZID=America/Chicago:20151129T220900
DTSTAMP:20260425T064712
CREATED:20150711T230500Z
LAST-MODIFIED:20150711T230500Z
UID:10000143-1448820300-1448834940@fortjonesca.org
SUMMARY:Regular Garbage & Recycling Pickup
DESCRIPTION:Trash pickup starts in town at 7am.
URL:https://fortjonesca.org/event/regular-garbage-recycling-pickup/2015-11-29/
END:VEVENT
BEGIN:VEVENT
DTSTART;TZID=America/Chicago:20151128T180500
DTEND;TZID=America/Chicago:20151128T220900
DTSTAMP:20260425T064712
CREATED:20150711T230500Z
LAST-MODIFIED:20150711T230500Z
UID:10000142-1448733900-1448748540@fortjonesca.org
SUMMARY:Regular Garbage & Recycling Pickup
DESCRIPTION:Trash pickup starts in town at 7am.
URL:https://fortjonesca.org/event/regular-garbage-recycling-pickup/2015-11-28/
END:VEVENT
BEGIN:VEVENT
DTSTART;TZID=America/Chicago:20151127T180500
DTEND;TZID=America/Chicago:20151127T220900
DTSTAMP:20260425T064712
CREATED:20150711T230500Z
LAST-MODIFIED:20150711T230500Z
UID:10000141-1448647500-1448662140@fortjonesca.org
SUMMARY:Regular Garbage & Recycling Pickup
DESCRIPTION:Trash pickup starts in town at 7am.
URL:https://fortjonesca.org/event/regular-garbage-recycling-pickup/2015-11-27/
END:VEVENT
BEGIN:VEVENT
DTSTART;TZID=America/Chicago:20151126T180500
DTEND;TZID=America/Chicago:20151126T220900
DTSTAMP:20260425T064712
CREATED:20150711T230500Z
LAST-MODIFIED:20150711T230500Z
UID:10000140-1448561100-1448575740@fortjonesca.org
SUMMARY:Regular Garbage & Recycling Pickup
DESCRIPTION:Trash pickup starts in town at 7am.
URL:https://fortjonesca.org/event/regular-garbage-recycling-pickup/2015-11-26/
END:VEVENT
BEGIN:VEVENT
DTSTART;TZID=America/Chicago:20151125T180500
DTEND;TZID=America/Chicago:20151125T220900
DTSTAMP:20260425T064712
CREATED:20150711T230500Z
LAST-MODIFIED:20150711T230500Z
UID:10000139-1448474700-1448489340@fortjonesca.org
SUMMARY:Regular Garbage & Recycling Pickup
DESCRIPTION:Trash pickup starts in town at 7am.
URL:https://fortjonesca.org/event/regular-garbage-recycling-pickup/2015-11-25/
END:VEVENT
BEGIN:VEVENT
DTSTART;TZID=America/Chicago:20151125T080000
DTEND;TZID=America/Chicago:20151125T120000
DTSTAMP:20260425T064712
CREATED:20150812T130000Z
LAST-MODIFIED:20150812T130000Z
UID:10000550-1448438400-1448452800@fortjonesca.org
SUMMARY:Clerks Hours
DESCRIPTION:Am in the office from 8am to noon
URL:https://fortjonesca.org/event/clerks-hours/2015-11-25/
END:VEVENT
BEGIN:VEVENT
DTSTART;TZID=America/Chicago:20151124T180500
DTEND;TZID=America/Chicago:20151124T220900
DTSTAMP:20260425T064712
CREATED:20150711T230500Z
LAST-MODIFIED:20150711T230500Z
UID:10000138-1448388300-1448402940@fortjonesca.org
SUMMARY:Regular Garbage & Recycling Pickup
DESCRIPTION:Trash pickup starts in town at 7am.
URL:https://fortjonesca.org/event/regular-garbage-recycling-pickup/2015-11-24/
END:VEVENT
BEGIN:VEVENT
DTSTART;TZID=America/Chicago:20151123T180500
DTEND;TZID=America/Chicago:20151123T220900
DTSTAMP:20260425T064712
CREATED:20150711T230500Z
LAST-MODIFIED:20150711T230500Z
UID:10000137-1448301900-1448316540@fortjonesca.org
SUMMARY:Regular Garbage & Recycling Pickup
DESCRIPTION:Trash pickup starts in town at 7am.
URL:https://fortjonesca.org/event/regular-garbage-recycling-pickup/2015-11-23/
END:VEVENT
BEGIN:VEVENT
DTSTART;TZID=America/Chicago:20151122T180500
DTEND;TZID=America/Chicago:20151122T220900
DTSTAMP:20260425T064712
CREATED:20150711T230500Z
LAST-MODIFIED:20150711T230500Z
UID:10000136-1448215500-1448230140@fortjonesca.org
SUMMARY:Regular Garbage & Recycling Pickup
DESCRIPTION:Trash pickup starts in town at 7am.
URL:https://fortjonesca.org/event/regular-garbage-recycling-pickup/2015-11-22/
END:VEVENT
BEGIN:VEVENT
DTSTART;TZID=America/Chicago:20151121T180500
DTEND;TZID=America/Chicago:20151121T220900
DTSTAMP:20260425T064712
CREATED:20150711T230500Z
LAST-MODIFIED:20150711T230500Z
UID:10000135-1448129100-1448143740@fortjonesca.org
SUMMARY:Regular Garbage & Recycling Pickup
DESCRIPTION:Trash pickup starts in town at 7am.
URL:https://fortjonesca.org/event/regular-garbage-recycling-pickup/2015-11-21/
END:VEVENT
BEGIN:VEVENT
DTSTART;TZID=America/Chicago:20151120T180500
DTEND;TZID=America/Chicago:20151120T220900
DTSTAMP:20260425T064712
CREATED:20150711T230500Z
LAST-MODIFIED:20150711T230500Z
UID:10000134-1448042700-1448057340@fortjonesca.org
SUMMARY:Regular Garbage & Recycling Pickup
DESCRIPTION:Trash pickup starts in town at 7am.
URL:https://fortjonesca.org/event/regular-garbage-recycling-pickup/2015-11-20/
END:VEVENT
BEGIN:VEVENT
DTSTART;TZID=America/Chicago:20151119T180500
DTEND;TZID=America/Chicago:20151119T220900
DTSTAMP:20260425T064712
CREATED:20150711T230500Z
LAST-MODIFIED:20150711T230500Z
UID:10000133-1447956300-1447970940@fortjonesca.org
SUMMARY:Regular Garbage & Recycling Pickup
DESCRIPTION:Trash pickup starts in town at 7am.
URL:https://fortjonesca.org/event/regular-garbage-recycling-pickup/2015-11-19/
END:VEVENT
BEGIN:VEVENT
DTSTART;TZID=America/Chicago:20151118T180500
DTEND;TZID=America/Chicago:20151118T220900
DTSTAMP:20260425T064712
CREATED:20150711T230500Z
LAST-MODIFIED:20150711T230500Z
UID:10000132-1447869900-1447884540@fortjonesca.org
SUMMARY:Regular Garbage & Recycling Pickup
DESCRIPTION:Trash pickup starts in town at 7am.
URL:https://fortjonesca.org/event/regular-garbage-recycling-pickup/2015-11-18/
END:VEVENT
BEGIN:VEVENT
DTSTART;TZID=America/Chicago:20151118T080000
DTEND;TZID=America/Chicago:20151118T120000
DTSTAMP:20260425T064712
CREATED:20150812T130000Z
LAST-MODIFIED:20150812T130000Z
UID:10000549-1447833600-1447848000@fortjonesca.org
SUMMARY:Clerks Hours
DESCRIPTION:Am in the office from 8am to noon
URL:https://fortjonesca.org/event/clerks-hours/2015-11-18/
END:VEVENT
BEGIN:VEVENT
DTSTART;TZID=America/Chicago:20151117T180500
DTEND;TZID=America/Chicago:20151117T220900
DTSTAMP:20260425T064712
CREATED:20150711T230500Z
LAST-MODIFIED:20150711T230500Z
UID:10000131-1447783500-1447798140@fortjonesca.org
SUMMARY:Regular Garbage & Recycling Pickup
DESCRIPTION:Trash pickup starts in town at 7am.
URL:https://fortjonesca.org/event/regular-garbage-recycling-pickup/2015-11-17/
END:VEVENT
BEGIN:VEVENT
DTSTART;TZID=America/Chicago:20151116T180500
DTEND;TZID=America/Chicago:20151116T220900
DTSTAMP:20260425T064712
CREATED:20150711T230500Z
LAST-MODIFIED:20150711T230500Z
UID:10000130-1447697100-1447711740@fortjonesca.org
SUMMARY:Regular Garbage & Recycling Pickup
DESCRIPTION:Trash pickup starts in town at 7am.
URL:https://fortjonesca.org/event/regular-garbage-recycling-pickup/2015-11-16/
END:VEVENT
BEGIN:VEVENT
DTSTART;TZID=America/Chicago:20151115T180500
DTEND;TZID=America/Chicago:20151115T220900
DTSTAMP:20260425T064712
CREATED:20150711T230500Z
LAST-MODIFIED:20150711T230500Z
UID:10000129-1447610700-1447625340@fortjonesca.org
SUMMARY:Regular Garbage & Recycling Pickup
DESCRIPTION:Trash pickup starts in town at 7am.
URL:https://fortjonesca.org/event/regular-garbage-recycling-pickup/2015-11-15/
END:VEVENT
BEGIN:VEVENT
DTSTART;TZID=America/Chicago:20151114T180500
DTEND;TZID=America/Chicago:20151114T220900
DTSTAMP:20260425T064712
CREATED:20150711T230500Z
LAST-MODIFIED:20150711T230500Z
UID:10000128-1447524300-1447538940@fortjonesca.org
SUMMARY:Regular Garbage & Recycling Pickup
DESCRIPTION:Trash pickup starts in town at 7am.
URL:https://fortjonesca.org/event/regular-garbage-recycling-pickup/2015-11-14/
END:VEVENT
BEGIN:VEVENT
DTSTART;TZID=America/Chicago:20151113T180500
DTEND;TZID=America/Chicago:20151113T220900
DTSTAMP:20260425T064712
CREATED:20150711T230500Z
LAST-MODIFIED:20150711T230500Z
UID:10000127-1447437900-1447452540@fortjonesca.org
SUMMARY:Regular Garbage & Recycling Pickup
DESCRIPTION:Trash pickup starts in town at 7am.
URL:https://fortjonesca.org/event/regular-garbage-recycling-pickup/2015-11-13/
END:VEVENT
BEGIN:VEVENT
DTSTART;TZID=America/Chicago:20151112T180500
DTEND;TZID=America/Chicago:20151112T220900
DTSTAMP:20260425T064712
CREATED:20150711T230500Z
LAST-MODIFIED:20150711T230500Z
UID:10000126-1447351500-1447366140@fortjonesca.org
SUMMARY:Regular Garbage & Recycling Pickup
DESCRIPTION:Trash pickup starts in town at 7am.
URL:https://fortjonesca.org/event/regular-garbage-recycling-pickup/2015-11-12/
END:VEVENT
BEGIN:VEVENT
DTSTART;TZID=America/Chicago:20151111T180500
DTEND;TZID=America/Chicago:20151111T220900
DTSTAMP:20260425T064712
CREATED:20150711T230500Z
LAST-MODIFIED:20150711T230500Z
UID:10000125-1447265100-1447279740@fortjonesca.org
SUMMARY:Regular Garbage & Recycling Pickup
DESCRIPTION:Trash pickup starts in town at 7am.
URL:https://fortjonesca.org/event/regular-garbage-recycling-pickup/2015-11-11/
END:VEVENT
BEGIN:VEVENT
DTSTART;TZID=America/Chicago:20151111T080000
DTEND;TZID=America/Chicago:20151111T120000
DTSTAMP:20260425T064712
CREATED:20150812T130000Z
LAST-MODIFIED:20150812T130000Z
UID:10000548-1447228800-1447243200@fortjonesca.org
SUMMARY:Clerks Hours
DESCRIPTION:Am in the office from 8am to noon
URL:https://fortjonesca.org/event/clerks-hours/2015-11-11/
END:VEVENT
BEGIN:VEVENT
DTSTART;TZID=America/Chicago:20151110T180500
DTEND;TZID=America/Chicago:20151110T220900
DTSTAMP:20260425T064712
CREATED:20150711T230500Z
LAST-MODIFIED:20150711T230500Z
UID:10000124-1447178700-1447193340@fortjonesca.org
SUMMARY:Regular Garbage & Recycling Pickup
DESCRIPTION:Trash pickup starts in town at 7am.
URL:https://fortjonesca.org/event/regular-garbage-recycling-pickup/2015-11-10/
END:VEVENT
BEGIN:VEVENT
DTSTART;TZID=America/Chicago:20151109T180500
DTEND;TZID=America/Chicago:20151109T220900
DTSTAMP:20260425T064712
CREATED:20150711T230500Z
LAST-MODIFIED:20150711T230500Z
UID:10000123-1447092300-1447106940@fortjonesca.org
SUMMARY:Regular Garbage & Recycling Pickup
DESCRIPTION:Trash pickup starts in town at 7am.
URL:https://fortjonesca.org/event/regular-garbage-recycling-pickup/2015-11-09/
END:VEVENT
BEGIN:VEVENT
DTSTART;TZID=America/Chicago:20151108T180500
DTEND;TZID=America/Chicago:20151108T220900
DTSTAMP:20260425T064712
CREATED:20150711T230500Z
LAST-MODIFIED:20150711T230500Z
UID:10000122-1447005900-1447020540@fortjonesca.org
SUMMARY:Regular Garbage & Recycling Pickup
DESCRIPTION:Trash pickup starts in town at 7am.
URL:https://fortjonesca.org/event/regular-garbage-recycling-pickup/2015-11-08/
END:VEVENT
BEGIN:VEVENT
DTSTART;TZID=America/Chicago:20151107T180500
DTEND;TZID=America/Chicago:20151107T220900
DTSTAMP:20260425T064712
CREATED:20150711T230500Z
LAST-MODIFIED:20150711T230500Z
UID:10000121-1446919500-1446934140@fortjonesca.org
SUMMARY:Regular Garbage & Recycling Pickup
DESCRIPTION:Trash pickup starts in town at 7am.
URL:https://fortjonesca.org/event/regular-garbage-recycling-pickup/2015-11-07/
END:VEVENT
BEGIN:VEVENT
DTSTART;TZID=America/Chicago:20151106T180500
DTEND;TZID=America/Chicago:20151106T220900
DTSTAMP:20260425T064712
CREATED:20150711T230500Z
LAST-MODIFIED:20150711T230500Z
UID:10000120-1446833100-1446847740@fortjonesca.org
SUMMARY:Regular Garbage & Recycling Pickup
DESCRIPTION:Trash pickup starts in town at 7am.
URL:https://fortjonesca.org/event/regular-garbage-recycling-pickup/2015-11-06/
END:VEVENT
BEGIN:VEVENT
DTSTART;TZID=America/Chicago:20151105T180500
DTEND;TZID=America/Chicago:20151105T220900
DTSTAMP:20260425T064712
CREATED:20150711T230500Z
LAST-MODIFIED:20150711T230500Z
UID:10000119-1446746700-1446761340@fortjonesca.org
SUMMARY:Regular Garbage & Recycling Pickup
DESCRIPTION:Trash pickup starts in town at 7am.
URL:https://fortjonesca.org/event/regular-garbage-recycling-pickup/2015-11-05/
END:VEVENT
END:VCALENDAR