BEGIN:VCALENDAR
VERSION:2.0
PRODID:-//Town of Fort Jones, Siskiyou County, CA - ECPv6.15.17.1//NONSGML v1.0//EN
CALSCALE:GREGORIAN
METHOD:PUBLISH
X-WR-CALNAME:Town of Fort Jones, Siskiyou County, CA
X-ORIGINAL-URL:https://fortjonesca.org
X-WR-CALDESC:Events for Town of Fort Jones, Siskiyou County, CA
REFRESH-INTERVAL;VALUE=DURATION:PT1H
X-Robots-Tag:noindex
X-PUBLISHED-TTL:PT1H
BEGIN:VTIMEZONE
TZID:America/Chicago
BEGIN:DAYLIGHT
TZOFFSETFROM:-0600
TZOFFSETTO:-0500
TZNAME:CDT
DTSTART:20140309T080000
END:DAYLIGHT
BEGIN:STANDARD
TZOFFSETFROM:-0500
TZOFFSETTO:-0600
TZNAME:CST
DTSTART:20141102T070000
END:STANDARD
BEGIN:DAYLIGHT
TZOFFSETFROM:-0600
TZOFFSETTO:-0500
TZNAME:CDT
DTSTART:20150308T080000
END:DAYLIGHT
BEGIN:STANDARD
TZOFFSETFROM:-0500
TZOFFSETTO:-0600
TZNAME:CST
DTSTART:20151101T070000
END:STANDARD
BEGIN:DAYLIGHT
TZOFFSETFROM:-0600
TZOFFSETTO:-0500
TZNAME:CDT
DTSTART:20160313T080000
END:DAYLIGHT
BEGIN:STANDARD
TZOFFSETFROM:-0500
TZOFFSETTO:-0600
TZNAME:CST
DTSTART:20161106T070000
END:STANDARD
BEGIN:DAYLIGHT
TZOFFSETFROM:-0600
TZOFFSETTO:-0500
TZNAME:CDT
DTSTART:20170312T080000
END:DAYLIGHT
BEGIN:STANDARD
TZOFFSETFROM:-0500
TZOFFSETTO:-0600
TZNAME:CST
DTSTART:20171105T070000
END:STANDARD
END:VTIMEZONE
BEGIN:VEVENT
DTSTART;TZID=America/Chicago:20160104T180500
DTEND;TZID=America/Chicago:20160104T220900
DTSTAMP:20260425T164545
CREATED:20150711T230500Z
LAST-MODIFIED:20150711T230500Z
UID:10000179-1451930700-1451945340@fortjonesca.org
SUMMARY:Regular Garbage & Recycling Pickup
DESCRIPTION:Trash pickup starts in town at 7am.
URL:https://fortjonesca.org/event/regular-garbage-recycling-pickup/2016-01-04/
END:VEVENT
BEGIN:VEVENT
DTSTART;TZID=America/Chicago:20160103T180500
DTEND;TZID=America/Chicago:20160103T220900
DTSTAMP:20260425T164545
CREATED:20150711T230500Z
LAST-MODIFIED:20150711T230500Z
UID:10000178-1451844300-1451858940@fortjonesca.org
SUMMARY:Regular Garbage & Recycling Pickup
DESCRIPTION:Trash pickup starts in town at 7am.
URL:https://fortjonesca.org/event/regular-garbage-recycling-pickup/2016-01-03/
END:VEVENT
BEGIN:VEVENT
DTSTART;TZID=America/Chicago:20160102T180500
DTEND;TZID=America/Chicago:20160102T220900
DTSTAMP:20260425T164545
CREATED:20150711T230500Z
LAST-MODIFIED:20150711T230500Z
UID:10000177-1451757900-1451772540@fortjonesca.org
SUMMARY:Regular Garbage & Recycling Pickup
DESCRIPTION:Trash pickup starts in town at 7am.
URL:https://fortjonesca.org/event/regular-garbage-recycling-pickup/2016-01-02/
END:VEVENT
BEGIN:VEVENT
DTSTART;TZID=America/Chicago:20160101T180500
DTEND;TZID=America/Chicago:20160101T220900
DTSTAMP:20260425T164545
CREATED:20150711T230500Z
LAST-MODIFIED:20150711T230500Z
UID:10000176-1451671500-1451686140@fortjonesca.org
SUMMARY:Regular Garbage & Recycling Pickup
DESCRIPTION:Trash pickup starts in town at 7am.
URL:https://fortjonesca.org/event/regular-garbage-recycling-pickup/2016-01-01/
END:VEVENT
BEGIN:VEVENT
DTSTART;TZID=America/Chicago:20151231T180500
DTEND;TZID=America/Chicago:20151231T220900
DTSTAMP:20260425T164545
CREATED:20150711T230500Z
LAST-MODIFIED:20150711T230500Z
UID:10000175-1451585100-1451599740@fortjonesca.org
SUMMARY:Regular Garbage & Recycling Pickup
DESCRIPTION:Trash pickup starts in town at 7am.
URL:https://fortjonesca.org/event/regular-garbage-recycling-pickup/2015-12-31/
END:VEVENT
BEGIN:VEVENT
DTSTART;TZID=America/Chicago:20151230T180500
DTEND;TZID=America/Chicago:20151230T220900
DTSTAMP:20260425T164545
CREATED:20150711T230500Z
LAST-MODIFIED:20150711T230500Z
UID:10000174-1451498700-1451513340@fortjonesca.org
SUMMARY:Regular Garbage & Recycling Pickup
DESCRIPTION:Trash pickup starts in town at 7am.
URL:https://fortjonesca.org/event/regular-garbage-recycling-pickup/2015-12-30/
END:VEVENT
BEGIN:VEVENT
DTSTART;TZID=America/Chicago:20151230T080000
DTEND;TZID=America/Chicago:20151230T120000
DTSTAMP:20260425T164545
CREATED:20150812T130000Z
LAST-MODIFIED:20150812T130000Z
UID:10000555-1451462400-1451476800@fortjonesca.org
SUMMARY:Clerks Hours
DESCRIPTION:Am in the office from 8am to noon
URL:https://fortjonesca.org/event/clerks-hours/2015-12-30/
END:VEVENT
BEGIN:VEVENT
DTSTART;TZID=America/Chicago:20151229T180500
DTEND;TZID=America/Chicago:20151229T220900
DTSTAMP:20260425T164545
CREATED:20150711T230500Z
LAST-MODIFIED:20150711T230500Z
UID:10000173-1451412300-1451426940@fortjonesca.org
SUMMARY:Regular Garbage & Recycling Pickup
DESCRIPTION:Trash pickup starts in town at 7am.
URL:https://fortjonesca.org/event/regular-garbage-recycling-pickup/2015-12-29/
END:VEVENT
BEGIN:VEVENT
DTSTART;TZID=America/Chicago:20151228T180500
DTEND;TZID=America/Chicago:20151228T220900
DTSTAMP:20260425T164545
CREATED:20150711T230500Z
LAST-MODIFIED:20150711T230500Z
UID:10000172-1451325900-1451340540@fortjonesca.org
SUMMARY:Regular Garbage & Recycling Pickup
DESCRIPTION:Trash pickup starts in town at 7am.
URL:https://fortjonesca.org/event/regular-garbage-recycling-pickup/2015-12-28/
END:VEVENT
BEGIN:VEVENT
DTSTART;TZID=America/Chicago:20151227T180500
DTEND;TZID=America/Chicago:20151227T220900
DTSTAMP:20260425T164545
CREATED:20150711T230500Z
LAST-MODIFIED:20150711T230500Z
UID:10000171-1451239500-1451254140@fortjonesca.org
SUMMARY:Regular Garbage & Recycling Pickup
DESCRIPTION:Trash pickup starts in town at 7am.
URL:https://fortjonesca.org/event/regular-garbage-recycling-pickup/2015-12-27/
END:VEVENT
BEGIN:VEVENT
DTSTART;TZID=America/Chicago:20151226T180500
DTEND;TZID=America/Chicago:20151226T220900
DTSTAMP:20260425T164545
CREATED:20150711T230500Z
LAST-MODIFIED:20150711T230500Z
UID:10000170-1451153100-1451167740@fortjonesca.org
SUMMARY:Regular Garbage & Recycling Pickup
DESCRIPTION:Trash pickup starts in town at 7am.
URL:https://fortjonesca.org/event/regular-garbage-recycling-pickup/2015-12-26/
END:VEVENT
BEGIN:VEVENT
DTSTART;TZID=America/Chicago:20151225T180500
DTEND;TZID=America/Chicago:20151225T220900
DTSTAMP:20260425T164545
CREATED:20150711T230500Z
LAST-MODIFIED:20150711T230500Z
UID:10000169-1451066700-1451081340@fortjonesca.org
SUMMARY:Regular Garbage & Recycling Pickup
DESCRIPTION:Trash pickup starts in town at 7am.
URL:https://fortjonesca.org/event/regular-garbage-recycling-pickup/2015-12-25/
END:VEVENT
BEGIN:VEVENT
DTSTART;TZID=America/Chicago:20151224T180500
DTEND;TZID=America/Chicago:20151224T220900
DTSTAMP:20260425T164545
CREATED:20150711T230500Z
LAST-MODIFIED:20150711T230500Z
UID:10000168-1450980300-1450994940@fortjonesca.org
SUMMARY:Regular Garbage & Recycling Pickup
DESCRIPTION:Trash pickup starts in town at 7am.
URL:https://fortjonesca.org/event/regular-garbage-recycling-pickup/2015-12-24/
END:VEVENT
BEGIN:VEVENT
DTSTART;TZID=America/Chicago:20151223T180500
DTEND;TZID=America/Chicago:20151223T220900
DTSTAMP:20260425T164545
CREATED:20150711T230500Z
LAST-MODIFIED:20150711T230500Z
UID:10000167-1450893900-1450908540@fortjonesca.org
SUMMARY:Regular Garbage & Recycling Pickup
DESCRIPTION:Trash pickup starts in town at 7am.
URL:https://fortjonesca.org/event/regular-garbage-recycling-pickup/2015-12-23/
END:VEVENT
BEGIN:VEVENT
DTSTART;TZID=America/Chicago:20151223T080000
DTEND;TZID=America/Chicago:20151223T120000
DTSTAMP:20260425T164545
CREATED:20150812T130000Z
LAST-MODIFIED:20150812T130000Z
UID:10000554-1450857600-1450872000@fortjonesca.org
SUMMARY:Clerks Hours
DESCRIPTION:Am in the office from 8am to noon
URL:https://fortjonesca.org/event/clerks-hours/2015-12-23/
END:VEVENT
BEGIN:VEVENT
DTSTART;TZID=America/Chicago:20151222T180500
DTEND;TZID=America/Chicago:20151222T220900
DTSTAMP:20260425T164545
CREATED:20150711T230500Z
LAST-MODIFIED:20150711T230500Z
UID:10000166-1450807500-1450822140@fortjonesca.org
SUMMARY:Regular Garbage & Recycling Pickup
DESCRIPTION:Trash pickup starts in town at 7am.
URL:https://fortjonesca.org/event/regular-garbage-recycling-pickup/2015-12-22/
END:VEVENT
BEGIN:VEVENT
DTSTART;TZID=America/Chicago:20151221T180500
DTEND;TZID=America/Chicago:20151221T220900
DTSTAMP:20260425T164545
CREATED:20150711T230500Z
LAST-MODIFIED:20150711T230500Z
UID:10000165-1450721100-1450735740@fortjonesca.org
SUMMARY:Regular Garbage & Recycling Pickup
DESCRIPTION:Trash pickup starts in town at 7am.
URL:https://fortjonesca.org/event/regular-garbage-recycling-pickup/2015-12-21/
END:VEVENT
BEGIN:VEVENT
DTSTART;TZID=America/Chicago:20151220T180500
DTEND;TZID=America/Chicago:20151220T220900
DTSTAMP:20260425T164545
CREATED:20150711T230500Z
LAST-MODIFIED:20150711T230500Z
UID:10000164-1450634700-1450649340@fortjonesca.org
SUMMARY:Regular Garbage & Recycling Pickup
DESCRIPTION:Trash pickup starts in town at 7am.
URL:https://fortjonesca.org/event/regular-garbage-recycling-pickup/2015-12-20/
END:VEVENT
BEGIN:VEVENT
DTSTART;TZID=America/Chicago:20151219T180500
DTEND;TZID=America/Chicago:20151219T220900
DTSTAMP:20260425T164545
CREATED:20150711T230500Z
LAST-MODIFIED:20150711T230500Z
UID:10000163-1450548300-1450562940@fortjonesca.org
SUMMARY:Regular Garbage & Recycling Pickup
DESCRIPTION:Trash pickup starts in town at 7am.
URL:https://fortjonesca.org/event/regular-garbage-recycling-pickup/2015-12-19/
END:VEVENT
BEGIN:VEVENT
DTSTART;TZID=America/Chicago:20151218T180500
DTEND;TZID=America/Chicago:20151218T220900
DTSTAMP:20260425T164545
CREATED:20150711T230500Z
LAST-MODIFIED:20150711T230500Z
UID:10000162-1450461900-1450476540@fortjonesca.org
SUMMARY:Regular Garbage & Recycling Pickup
DESCRIPTION:Trash pickup starts in town at 7am.
URL:https://fortjonesca.org/event/regular-garbage-recycling-pickup/2015-12-18/
END:VEVENT
BEGIN:VEVENT
DTSTART;TZID=America/Chicago:20151217T180500
DTEND;TZID=America/Chicago:20151217T220900
DTSTAMP:20260425T164545
CREATED:20150711T230500Z
LAST-MODIFIED:20150711T230500Z
UID:10000161-1450375500-1450390140@fortjonesca.org
SUMMARY:Regular Garbage & Recycling Pickup
DESCRIPTION:Trash pickup starts in town at 7am.
URL:https://fortjonesca.org/event/regular-garbage-recycling-pickup/2015-12-17/
END:VEVENT
BEGIN:VEVENT
DTSTART;TZID=America/Chicago:20151216T180500
DTEND;TZID=America/Chicago:20151216T220900
DTSTAMP:20260425T164545
CREATED:20150711T230500Z
LAST-MODIFIED:20150711T230500Z
UID:10000160-1450289100-1450303740@fortjonesca.org
SUMMARY:Regular Garbage & Recycling Pickup
DESCRIPTION:Trash pickup starts in town at 7am.
URL:https://fortjonesca.org/event/regular-garbage-recycling-pickup/2015-12-16/
END:VEVENT
BEGIN:VEVENT
DTSTART;TZID=America/Chicago:20151216T080000
DTEND;TZID=America/Chicago:20151216T120000
DTSTAMP:20260425T164545
CREATED:20150812T130000Z
LAST-MODIFIED:20150812T130000Z
UID:10000553-1450252800-1450267200@fortjonesca.org
SUMMARY:Clerks Hours
DESCRIPTION:Am in the office from 8am to noon
URL:https://fortjonesca.org/event/clerks-hours/2015-12-16/
END:VEVENT
BEGIN:VEVENT
DTSTART;TZID=America/Chicago:20151215T180500
DTEND;TZID=America/Chicago:20151215T220900
DTSTAMP:20260425T164545
CREATED:20150711T230500Z
LAST-MODIFIED:20150711T230500Z
UID:10000159-1450202700-1450217340@fortjonesca.org
SUMMARY:Regular Garbage & Recycling Pickup
DESCRIPTION:Trash pickup starts in town at 7am.
URL:https://fortjonesca.org/event/regular-garbage-recycling-pickup/2015-12-15/
END:VEVENT
BEGIN:VEVENT
DTSTART;TZID=America/Chicago:20151214T180500
DTEND;TZID=America/Chicago:20151214T220900
DTSTAMP:20260425T164545
CREATED:20150711T230500Z
LAST-MODIFIED:20150711T230500Z
UID:10000158-1450116300-1450130940@fortjonesca.org
SUMMARY:Regular Garbage & Recycling Pickup
DESCRIPTION:Trash pickup starts in town at 7am.
URL:https://fortjonesca.org/event/regular-garbage-recycling-pickup/2015-12-14/
END:VEVENT
BEGIN:VEVENT
DTSTART;TZID=America/Chicago:20151213T180500
DTEND;TZID=America/Chicago:20151213T220900
DTSTAMP:20260425T164545
CREATED:20150711T230500Z
LAST-MODIFIED:20150711T230500Z
UID:10000157-1450029900-1450044540@fortjonesca.org
SUMMARY:Regular Garbage & Recycling Pickup
DESCRIPTION:Trash pickup starts in town at 7am.
URL:https://fortjonesca.org/event/regular-garbage-recycling-pickup/2015-12-13/
END:VEVENT
BEGIN:VEVENT
DTSTART;TZID=America/Chicago:20151212T180500
DTEND;TZID=America/Chicago:20151212T220900
DTSTAMP:20260425T164545
CREATED:20150711T230500Z
LAST-MODIFIED:20150711T230500Z
UID:10000156-1449943500-1449958140@fortjonesca.org
SUMMARY:Regular Garbage & Recycling Pickup
DESCRIPTION:Trash pickup starts in town at 7am.
URL:https://fortjonesca.org/event/regular-garbage-recycling-pickup/2015-12-12/
END:VEVENT
BEGIN:VEVENT
DTSTART;TZID=America/Chicago:20151211T180500
DTEND;TZID=America/Chicago:20151211T220900
DTSTAMP:20260425T164545
CREATED:20150711T230500Z
LAST-MODIFIED:20150711T230500Z
UID:10000155-1449857100-1449871740@fortjonesca.org
SUMMARY:Regular Garbage & Recycling Pickup
DESCRIPTION:Trash pickup starts in town at 7am.
URL:https://fortjonesca.org/event/regular-garbage-recycling-pickup/2015-12-11/
END:VEVENT
BEGIN:VEVENT
DTSTART;TZID=America/Chicago:20151210T180500
DTEND;TZID=America/Chicago:20151210T220900
DTSTAMP:20260425T164545
CREATED:20150711T230500Z
LAST-MODIFIED:20150711T230500Z
UID:10000154-1449770700-1449785340@fortjonesca.org
SUMMARY:Regular Garbage & Recycling Pickup
DESCRIPTION:Trash pickup starts in town at 7am.
URL:https://fortjonesca.org/event/regular-garbage-recycling-pickup/2015-12-10/
END:VEVENT
BEGIN:VEVENT
DTSTART;TZID=America/Chicago:20151209T180500
DTEND;TZID=America/Chicago:20151209T220900
DTSTAMP:20260425T164545
CREATED:20150711T230500Z
LAST-MODIFIED:20150711T230500Z
UID:10000153-1449684300-1449698940@fortjonesca.org
SUMMARY:Regular Garbage & Recycling Pickup
DESCRIPTION:Trash pickup starts in town at 7am.
URL:https://fortjonesca.org/event/regular-garbage-recycling-pickup/2015-12-09/
END:VEVENT
END:VCALENDAR