BEGIN:VCALENDAR
VERSION:2.0
PRODID:-//Town of Fort Jones, Siskiyou County, CA - ECPv6.15.17.1//NONSGML v1.0//EN
CALSCALE:GREGORIAN
METHOD:PUBLISH
X-WR-CALNAME:Town of Fort Jones, Siskiyou County, CA
X-ORIGINAL-URL:https://fortjonesca.org
X-WR-CALDESC:Events for Town of Fort Jones, Siskiyou County, CA
REFRESH-INTERVAL;VALUE=DURATION:PT1H
X-Robots-Tag:noindex
X-PUBLISHED-TTL:PT1H
BEGIN:VTIMEZONE
TZID:America/Chicago
BEGIN:DAYLIGHT
TZOFFSETFROM:-0600
TZOFFSETTO:-0500
TZNAME:CDT
DTSTART:20150308T080000
END:DAYLIGHT
BEGIN:STANDARD
TZOFFSETFROM:-0500
TZOFFSETTO:-0600
TZNAME:CST
DTSTART:20151101T070000
END:STANDARD
BEGIN:DAYLIGHT
TZOFFSETFROM:-0600
TZOFFSETTO:-0500
TZNAME:CDT
DTSTART:20160313T080000
END:DAYLIGHT
BEGIN:STANDARD
TZOFFSETFROM:-0500
TZOFFSETTO:-0600
TZNAME:CST
DTSTART:20161106T070000
END:STANDARD
BEGIN:DAYLIGHT
TZOFFSETFROM:-0600
TZOFFSETTO:-0500
TZNAME:CDT
DTSTART:20170312T080000
END:DAYLIGHT
BEGIN:STANDARD
TZOFFSETFROM:-0500
TZOFFSETTO:-0600
TZNAME:CST
DTSTART:20171105T070000
END:STANDARD
END:VTIMEZONE
BEGIN:VEVENT
DTSTART;TZID=America/Chicago:20160131T180500
DTEND;TZID=America/Chicago:20160131T220900
DTSTAMP:20260425T095144
CREATED:20150711T230500Z
LAST-MODIFIED:20150711T230500Z
UID:10000206-1454263500-1454278140@fortjonesca.org
SUMMARY:Regular Garbage & Recycling Pickup
DESCRIPTION:Trash pickup starts in town at 7am.
URL:https://fortjonesca.org/event/regular-garbage-recycling-pickup/2016-01-31/
END:VEVENT
BEGIN:VEVENT
DTSTART;TZID=America/Chicago:20160130T180500
DTEND;TZID=America/Chicago:20160130T220900
DTSTAMP:20260425T095144
CREATED:20150711T230500Z
LAST-MODIFIED:20150711T230500Z
UID:10000205-1454177100-1454191740@fortjonesca.org
SUMMARY:Regular Garbage & Recycling Pickup
DESCRIPTION:Trash pickup starts in town at 7am.
URL:https://fortjonesca.org/event/regular-garbage-recycling-pickup/2016-01-30/
END:VEVENT
BEGIN:VEVENT
DTSTART;TZID=America/Chicago:20160129T180500
DTEND;TZID=America/Chicago:20160129T220900
DTSTAMP:20260425T095144
CREATED:20150711T230500Z
LAST-MODIFIED:20150711T230500Z
UID:10000204-1454090700-1454105340@fortjonesca.org
SUMMARY:Regular Garbage & Recycling Pickup
DESCRIPTION:Trash pickup starts in town at 7am.
URL:https://fortjonesca.org/event/regular-garbage-recycling-pickup/2016-01-29/
END:VEVENT
BEGIN:VEVENT
DTSTART;TZID=America/Chicago:20160128T180500
DTEND;TZID=America/Chicago:20160128T220900
DTSTAMP:20260425T095144
CREATED:20150711T230500Z
LAST-MODIFIED:20150711T230500Z
UID:10000203-1454004300-1454018940@fortjonesca.org
SUMMARY:Regular Garbage & Recycling Pickup
DESCRIPTION:Trash pickup starts in town at 7am.
URL:https://fortjonesca.org/event/regular-garbage-recycling-pickup/2016-01-28/
END:VEVENT
BEGIN:VEVENT
DTSTART;TZID=America/Chicago:20160127T180500
DTEND;TZID=America/Chicago:20160127T220900
DTSTAMP:20260425T095144
CREATED:20150711T230500Z
LAST-MODIFIED:20150711T230500Z
UID:10000202-1453917900-1453932540@fortjonesca.org
SUMMARY:Regular Garbage & Recycling Pickup
DESCRIPTION:Trash pickup starts in town at 7am.
URL:https://fortjonesca.org/event/regular-garbage-recycling-pickup/2016-01-27/
END:VEVENT
BEGIN:VEVENT
DTSTART;TZID=America/Chicago:20160127T080000
DTEND;TZID=America/Chicago:20160127T120000
DTSTAMP:20260425T095144
CREATED:20150812T130000Z
LAST-MODIFIED:20150812T130000Z
UID:10000559-1453881600-1453896000@fortjonesca.org
SUMMARY:Clerks Hours
DESCRIPTION:Am in the office from 8am to noon
URL:https://fortjonesca.org/event/clerks-hours/2016-01-27/
END:VEVENT
BEGIN:VEVENT
DTSTART;TZID=America/Chicago:20160126T180500
DTEND;TZID=America/Chicago:20160126T220900
DTSTAMP:20260425T095144
CREATED:20150711T230500Z
LAST-MODIFIED:20150711T230500Z
UID:10000201-1453831500-1453846140@fortjonesca.org
SUMMARY:Regular Garbage & Recycling Pickup
DESCRIPTION:Trash pickup starts in town at 7am.
URL:https://fortjonesca.org/event/regular-garbage-recycling-pickup/2016-01-26/
END:VEVENT
BEGIN:VEVENT
DTSTART;TZID=America/Chicago:20160125T180500
DTEND;TZID=America/Chicago:20160125T220900
DTSTAMP:20260425T095144
CREATED:20150711T230500Z
LAST-MODIFIED:20150711T230500Z
UID:10000200-1453745100-1453759740@fortjonesca.org
SUMMARY:Regular Garbage & Recycling Pickup
DESCRIPTION:Trash pickup starts in town at 7am.
URL:https://fortjonesca.org/event/regular-garbage-recycling-pickup/2016-01-25/
END:VEVENT
BEGIN:VEVENT
DTSTART;TZID=America/Chicago:20160124T180500
DTEND;TZID=America/Chicago:20160124T220900
DTSTAMP:20260425T095144
CREATED:20150711T230500Z
LAST-MODIFIED:20150711T230500Z
UID:10000199-1453658700-1453673340@fortjonesca.org
SUMMARY:Regular Garbage & Recycling Pickup
DESCRIPTION:Trash pickup starts in town at 7am.
URL:https://fortjonesca.org/event/regular-garbage-recycling-pickup/2016-01-24/
END:VEVENT
BEGIN:VEVENT
DTSTART;TZID=America/Chicago:20160123T180500
DTEND;TZID=America/Chicago:20160123T220900
DTSTAMP:20260425T095144
CREATED:20150711T230500Z
LAST-MODIFIED:20150711T230500Z
UID:10000198-1453572300-1453586940@fortjonesca.org
SUMMARY:Regular Garbage & Recycling Pickup
DESCRIPTION:Trash pickup starts in town at 7am.
URL:https://fortjonesca.org/event/regular-garbage-recycling-pickup/2016-01-23/
END:VEVENT
BEGIN:VEVENT
DTSTART;TZID=America/Chicago:20160122T180500
DTEND;TZID=America/Chicago:20160122T220900
DTSTAMP:20260425T095144
CREATED:20150711T230500Z
LAST-MODIFIED:20150711T230500Z
UID:10000197-1453485900-1453500540@fortjonesca.org
SUMMARY:Regular Garbage & Recycling Pickup
DESCRIPTION:Trash pickup starts in town at 7am.
URL:https://fortjonesca.org/event/regular-garbage-recycling-pickup/2016-01-22/
END:VEVENT
BEGIN:VEVENT
DTSTART;TZID=America/Chicago:20160121T180500
DTEND;TZID=America/Chicago:20160121T220900
DTSTAMP:20260425T095144
CREATED:20150711T230500Z
LAST-MODIFIED:20150711T230500Z
UID:10000196-1453399500-1453414140@fortjonesca.org
SUMMARY:Regular Garbage & Recycling Pickup
DESCRIPTION:Trash pickup starts in town at 7am.
URL:https://fortjonesca.org/event/regular-garbage-recycling-pickup/2016-01-21/
END:VEVENT
BEGIN:VEVENT
DTSTART;TZID=America/Chicago:20160120T180500
DTEND;TZID=America/Chicago:20160120T220900
DTSTAMP:20260425T095144
CREATED:20150711T230500Z
LAST-MODIFIED:20150711T230500Z
UID:10000195-1453313100-1453327740@fortjonesca.org
SUMMARY:Regular Garbage & Recycling Pickup
DESCRIPTION:Trash pickup starts in town at 7am.
URL:https://fortjonesca.org/event/regular-garbage-recycling-pickup/2016-01-20/
END:VEVENT
BEGIN:VEVENT
DTSTART;TZID=America/Chicago:20160120T080000
DTEND;TZID=America/Chicago:20160120T120000
DTSTAMP:20260425T095144
CREATED:20150812T130000Z
LAST-MODIFIED:20150812T130000Z
UID:10000558-1453276800-1453291200@fortjonesca.org
SUMMARY:Clerks Hours
DESCRIPTION:Am in the office from 8am to noon
URL:https://fortjonesca.org/event/clerks-hours/2016-01-20/
END:VEVENT
BEGIN:VEVENT
DTSTART;TZID=America/Chicago:20160119T180500
DTEND;TZID=America/Chicago:20160119T220900
DTSTAMP:20260425T095144
CREATED:20150711T230500Z
LAST-MODIFIED:20150711T230500Z
UID:10000194-1453226700-1453241340@fortjonesca.org
SUMMARY:Regular Garbage & Recycling Pickup
DESCRIPTION:Trash pickup starts in town at 7am.
URL:https://fortjonesca.org/event/regular-garbage-recycling-pickup/2016-01-19/
END:VEVENT
BEGIN:VEVENT
DTSTART;TZID=America/Chicago:20160118T180500
DTEND;TZID=America/Chicago:20160118T220900
DTSTAMP:20260425T095144
CREATED:20150711T230500Z
LAST-MODIFIED:20150711T230500Z
UID:10000193-1453140300-1453154940@fortjonesca.org
SUMMARY:Regular Garbage & Recycling Pickup
DESCRIPTION:Trash pickup starts in town at 7am.
URL:https://fortjonesca.org/event/regular-garbage-recycling-pickup/2016-01-18/
END:VEVENT
BEGIN:VEVENT
DTSTART;TZID=America/Chicago:20160117T180500
DTEND;TZID=America/Chicago:20160117T220900
DTSTAMP:20260425T095144
CREATED:20150711T230500Z
LAST-MODIFIED:20150711T230500Z
UID:10000192-1453053900-1453068540@fortjonesca.org
SUMMARY:Regular Garbage & Recycling Pickup
DESCRIPTION:Trash pickup starts in town at 7am.
URL:https://fortjonesca.org/event/regular-garbage-recycling-pickup/2016-01-17/
END:VEVENT
BEGIN:VEVENT
DTSTART;TZID=America/Chicago:20160116T180500
DTEND;TZID=America/Chicago:20160116T220900
DTSTAMP:20260425T095144
CREATED:20150711T230500Z
LAST-MODIFIED:20150711T230500Z
UID:10000191-1452967500-1452982140@fortjonesca.org
SUMMARY:Regular Garbage & Recycling Pickup
DESCRIPTION:Trash pickup starts in town at 7am.
URL:https://fortjonesca.org/event/regular-garbage-recycling-pickup/2016-01-16/
END:VEVENT
BEGIN:VEVENT
DTSTART;TZID=America/Chicago:20160115T180500
DTEND;TZID=America/Chicago:20160115T220900
DTSTAMP:20260425T095144
CREATED:20150711T230500Z
LAST-MODIFIED:20150711T230500Z
UID:10000190-1452881100-1452895740@fortjonesca.org
SUMMARY:Regular Garbage & Recycling Pickup
DESCRIPTION:Trash pickup starts in town at 7am.
URL:https://fortjonesca.org/event/regular-garbage-recycling-pickup/2016-01-15/
END:VEVENT
BEGIN:VEVENT
DTSTART;TZID=America/Chicago:20160114T180500
DTEND;TZID=America/Chicago:20160114T220900
DTSTAMP:20260425T095144
CREATED:20150711T230500Z
LAST-MODIFIED:20150711T230500Z
UID:10000189-1452794700-1452809340@fortjonesca.org
SUMMARY:Regular Garbage & Recycling Pickup
DESCRIPTION:Trash pickup starts in town at 7am.
URL:https://fortjonesca.org/event/regular-garbage-recycling-pickup/2016-01-14/
END:VEVENT
BEGIN:VEVENT
DTSTART;TZID=America/Chicago:20160113T180500
DTEND;TZID=America/Chicago:20160113T220900
DTSTAMP:20260425T095144
CREATED:20150711T230500Z
LAST-MODIFIED:20150711T230500Z
UID:10000188-1452708300-1452722940@fortjonesca.org
SUMMARY:Regular Garbage & Recycling Pickup
DESCRIPTION:Trash pickup starts in town at 7am.
URL:https://fortjonesca.org/event/regular-garbage-recycling-pickup/2016-01-13/
END:VEVENT
BEGIN:VEVENT
DTSTART;TZID=America/Chicago:20160113T080000
DTEND;TZID=America/Chicago:20160113T120000
DTSTAMP:20260425T095144
CREATED:20150812T130000Z
LAST-MODIFIED:20150812T130000Z
UID:10000557-1452672000-1452686400@fortjonesca.org
SUMMARY:Clerks Hours
DESCRIPTION:Am in the office from 8am to noon
URL:https://fortjonesca.org/event/clerks-hours/2016-01-13/
END:VEVENT
BEGIN:VEVENT
DTSTART;TZID=America/Chicago:20160112T180500
DTEND;TZID=America/Chicago:20160112T220900
DTSTAMP:20260425T095144
CREATED:20150711T230500Z
LAST-MODIFIED:20150711T230500Z
UID:10000187-1452621900-1452636540@fortjonesca.org
SUMMARY:Regular Garbage & Recycling Pickup
DESCRIPTION:Trash pickup starts in town at 7am.
URL:https://fortjonesca.org/event/regular-garbage-recycling-pickup/2016-01-12/
END:VEVENT
BEGIN:VEVENT
DTSTART;TZID=America/Chicago:20160111T180500
DTEND;TZID=America/Chicago:20160111T220900
DTSTAMP:20260425T095144
CREATED:20150711T230500Z
LAST-MODIFIED:20150711T230500Z
UID:10000186-1452535500-1452550140@fortjonesca.org
SUMMARY:Regular Garbage & Recycling Pickup
DESCRIPTION:Trash pickup starts in town at 7am.
URL:https://fortjonesca.org/event/regular-garbage-recycling-pickup/2016-01-11/
END:VEVENT
BEGIN:VEVENT
DTSTART;TZID=America/Chicago:20160110T180500
DTEND;TZID=America/Chicago:20160110T220900
DTSTAMP:20260425T095144
CREATED:20150711T230500Z
LAST-MODIFIED:20150711T230500Z
UID:10000185-1452449100-1452463740@fortjonesca.org
SUMMARY:Regular Garbage & Recycling Pickup
DESCRIPTION:Trash pickup starts in town at 7am.
URL:https://fortjonesca.org/event/regular-garbage-recycling-pickup/2016-01-10/
END:VEVENT
BEGIN:VEVENT
DTSTART;TZID=America/Chicago:20160109T180500
DTEND;TZID=America/Chicago:20160109T220900
DTSTAMP:20260425T095144
CREATED:20150711T230500Z
LAST-MODIFIED:20150711T230500Z
UID:10000184-1452362700-1452377340@fortjonesca.org
SUMMARY:Regular Garbage & Recycling Pickup
DESCRIPTION:Trash pickup starts in town at 7am.
URL:https://fortjonesca.org/event/regular-garbage-recycling-pickup/2016-01-09/
END:VEVENT
BEGIN:VEVENT
DTSTART;TZID=America/Chicago:20160108T180500
DTEND;TZID=America/Chicago:20160108T220900
DTSTAMP:20260425T095144
CREATED:20150711T230500Z
LAST-MODIFIED:20150711T230500Z
UID:10000183-1452276300-1452290940@fortjonesca.org
SUMMARY:Regular Garbage & Recycling Pickup
DESCRIPTION:Trash pickup starts in town at 7am.
URL:https://fortjonesca.org/event/regular-garbage-recycling-pickup/2016-01-08/
END:VEVENT
BEGIN:VEVENT
DTSTART;TZID=America/Chicago:20160107T180500
DTEND;TZID=America/Chicago:20160107T220900
DTSTAMP:20260425T095144
CREATED:20150711T230500Z
LAST-MODIFIED:20150711T230500Z
UID:10000182-1452189900-1452204540@fortjonesca.org
SUMMARY:Regular Garbage & Recycling Pickup
DESCRIPTION:Trash pickup starts in town at 7am.
URL:https://fortjonesca.org/event/regular-garbage-recycling-pickup/2016-01-07/
END:VEVENT
BEGIN:VEVENT
DTSTART;TZID=America/Chicago:20160106T180500
DTEND;TZID=America/Chicago:20160106T220900
DTSTAMP:20260425T095144
CREATED:20150711T230500Z
LAST-MODIFIED:20150711T230500Z
UID:10000181-1452103500-1452118140@fortjonesca.org
SUMMARY:Regular Garbage & Recycling Pickup
DESCRIPTION:Trash pickup starts in town at 7am.
URL:https://fortjonesca.org/event/regular-garbage-recycling-pickup/2016-01-06/
END:VEVENT
BEGIN:VEVENT
DTSTART;TZID=America/Chicago:20160106T080000
DTEND;TZID=America/Chicago:20160106T120000
DTSTAMP:20260425T095144
CREATED:20150812T130000Z
LAST-MODIFIED:20150812T130000Z
UID:10000556-1452067200-1452081600@fortjonesca.org
SUMMARY:Clerks Hours
DESCRIPTION:Am in the office from 8am to noon
URL:https://fortjonesca.org/event/clerks-hours/2016-01-06/
END:VEVENT
END:VCALENDAR