BEGIN:VCALENDAR
VERSION:2.0
PRODID:-//Town of Fort Jones, Siskiyou County, CA - ECPv6.15.17.1//NONSGML v1.0//EN
CALSCALE:GREGORIAN
METHOD:PUBLISH
X-WR-CALNAME:Town of Fort Jones, Siskiyou County, CA
X-ORIGINAL-URL:https://fortjonesca.org
X-WR-CALDESC:Events for Town of Fort Jones, Siskiyou County, CA
REFRESH-INTERVAL;VALUE=DURATION:PT1H
X-Robots-Tag:noindex
X-PUBLISHED-TTL:PT1H
BEGIN:VTIMEZONE
TZID:America/Chicago
BEGIN:DAYLIGHT
TZOFFSETFROM:-0600
TZOFFSETTO:-0500
TZNAME:CDT
DTSTART:20150308T080000
END:DAYLIGHT
BEGIN:STANDARD
TZOFFSETFROM:-0500
TZOFFSETTO:-0600
TZNAME:CST
DTSTART:20151101T070000
END:STANDARD
BEGIN:DAYLIGHT
TZOFFSETFROM:-0600
TZOFFSETTO:-0500
TZNAME:CDT
DTSTART:20160313T080000
END:DAYLIGHT
BEGIN:STANDARD
TZOFFSETFROM:-0500
TZOFFSETTO:-0600
TZNAME:CST
DTSTART:20161106T070000
END:STANDARD
BEGIN:DAYLIGHT
TZOFFSETFROM:-0600
TZOFFSETTO:-0500
TZNAME:CDT
DTSTART:20170312T080000
END:DAYLIGHT
BEGIN:STANDARD
TZOFFSETFROM:-0500
TZOFFSETTO:-0600
TZNAME:CST
DTSTART:20171105T070000
END:STANDARD
END:VTIMEZONE
BEGIN:VEVENT
DTSTART;TZID=America/Chicago:20160310T180500
DTEND;TZID=America/Chicago:20160310T220900
DTSTAMP:20260425T084302
CREATED:20150711T230500Z
LAST-MODIFIED:20150711T230500Z
UID:10000245-1457633100-1457647740@fortjonesca.org
SUMMARY:Regular Garbage & Recycling Pickup
DESCRIPTION:Trash pickup starts in town at 7am.
URL:https://fortjonesca.org/event/regular-garbage-recycling-pickup/2016-03-10/
END:VEVENT
BEGIN:VEVENT
DTSTART;TZID=America/Chicago:20160309T180500
DTEND;TZID=America/Chicago:20160309T220900
DTSTAMP:20260425T084302
CREATED:20150711T230500Z
LAST-MODIFIED:20150711T230500Z
UID:10000244-1457546700-1457561340@fortjonesca.org
SUMMARY:Regular Garbage & Recycling Pickup
DESCRIPTION:Trash pickup starts in town at 7am.
URL:https://fortjonesca.org/event/regular-garbage-recycling-pickup/2016-03-09/
END:VEVENT
BEGIN:VEVENT
DTSTART;TZID=America/Chicago:20160309T080000
DTEND;TZID=America/Chicago:20160309T120000
DTSTAMP:20260425T084302
CREATED:20150812T130000Z
LAST-MODIFIED:20150812T130000Z
UID:10000565-1457510400-1457524800@fortjonesca.org
SUMMARY:Clerks Hours
DESCRIPTION:Am in the office from 8am to noon
URL:https://fortjonesca.org/event/clerks-hours/2016-03-09/
END:VEVENT
BEGIN:VEVENT
DTSTART;TZID=America/Chicago:20160308T180500
DTEND;TZID=America/Chicago:20160308T220900
DTSTAMP:20260425T084302
CREATED:20150711T230500Z
LAST-MODIFIED:20150711T230500Z
UID:10000243-1457460300-1457474940@fortjonesca.org
SUMMARY:Regular Garbage & Recycling Pickup
DESCRIPTION:Trash pickup starts in town at 7am.
URL:https://fortjonesca.org/event/regular-garbage-recycling-pickup/2016-03-08/
END:VEVENT
BEGIN:VEVENT
DTSTART;TZID=America/Chicago:20160307T190000
DTEND;TZID=America/Chicago:20160307T190000
DTSTAMP:20260425T084302
CREATED:20150805T000000Z
LAST-MODIFIED:20190314T152300Z
UID:10000497-1457377200-1457377200@fortjonesca.org
SUMMARY:City Council Meeting
DESCRIPTION:
URL:https://fortjonesca.org/event/city-council-meeting/2016-03-07/
END:VEVENT
BEGIN:VEVENT
DTSTART;TZID=America/Chicago:20160307T180500
DTEND;TZID=America/Chicago:20160307T220900
DTSTAMP:20260425T084302
CREATED:20150711T230500Z
LAST-MODIFIED:20150711T230500Z
UID:10000242-1457373900-1457388540@fortjonesca.org
SUMMARY:Regular Garbage & Recycling Pickup
DESCRIPTION:Trash pickup starts in town at 7am.
URL:https://fortjonesca.org/event/regular-garbage-recycling-pickup/2016-03-07/
END:VEVENT
BEGIN:VEVENT
DTSTART;TZID=America/Chicago:20160306T180500
DTEND;TZID=America/Chicago:20160306T220900
DTSTAMP:20260425T084302
CREATED:20150711T230500Z
LAST-MODIFIED:20150711T230500Z
UID:10000241-1457287500-1457302140@fortjonesca.org
SUMMARY:Regular Garbage & Recycling Pickup
DESCRIPTION:Trash pickup starts in town at 7am.
URL:https://fortjonesca.org/event/regular-garbage-recycling-pickup/2016-03-06/
END:VEVENT
BEGIN:VEVENT
DTSTART;TZID=America/Chicago:20160305T180500
DTEND;TZID=America/Chicago:20160305T220900
DTSTAMP:20260425T084302
CREATED:20150711T230500Z
LAST-MODIFIED:20150711T230500Z
UID:10000240-1457201100-1457215740@fortjonesca.org
SUMMARY:Regular Garbage & Recycling Pickup
DESCRIPTION:Trash pickup starts in town at 7am.
URL:https://fortjonesca.org/event/regular-garbage-recycling-pickup/2016-03-05/
END:VEVENT
BEGIN:VEVENT
DTSTART;TZID=America/Chicago:20160304T180500
DTEND;TZID=America/Chicago:20160304T220900
DTSTAMP:20260425T084302
CREATED:20150711T230500Z
LAST-MODIFIED:20150711T230500Z
UID:10000239-1457114700-1457129340@fortjonesca.org
SUMMARY:Regular Garbage & Recycling Pickup
DESCRIPTION:Trash pickup starts in town at 7am.
URL:https://fortjonesca.org/event/regular-garbage-recycling-pickup/2016-03-04/
END:VEVENT
BEGIN:VEVENT
DTSTART;TZID=America/Chicago:20160303T180500
DTEND;TZID=America/Chicago:20160303T220900
DTSTAMP:20260425T084302
CREATED:20150711T230500Z
LAST-MODIFIED:20150711T230500Z
UID:10000238-1457028300-1457042940@fortjonesca.org
SUMMARY:Regular Garbage & Recycling Pickup
DESCRIPTION:Trash pickup starts in town at 7am.
URL:https://fortjonesca.org/event/regular-garbage-recycling-pickup/2016-03-03/
END:VEVENT
BEGIN:VEVENT
DTSTART;TZID=America/Chicago:20160302T180500
DTEND;TZID=America/Chicago:20160302T220900
DTSTAMP:20260425T084302
CREATED:20150711T230500Z
LAST-MODIFIED:20150711T230500Z
UID:10000237-1456941900-1456956540@fortjonesca.org
SUMMARY:Regular Garbage & Recycling Pickup
DESCRIPTION:Trash pickup starts in town at 7am.
URL:https://fortjonesca.org/event/regular-garbage-recycling-pickup/2016-03-02/
END:VEVENT
BEGIN:VEVENT
DTSTART;TZID=America/Chicago:20160302T080000
DTEND;TZID=America/Chicago:20160302T120000
DTSTAMP:20260425T084302
CREATED:20150812T130000Z
LAST-MODIFIED:20150812T130000Z
UID:10000564-1456905600-1456920000@fortjonesca.org
SUMMARY:Clerks Hours
DESCRIPTION:Am in the office from 8am to noon
URL:https://fortjonesca.org/event/clerks-hours/2016-03-02/
END:VEVENT
BEGIN:VEVENT
DTSTART;TZID=America/Chicago:20160301T180500
DTEND;TZID=America/Chicago:20160301T220900
DTSTAMP:20260425T084302
CREATED:20150711T230500Z
LAST-MODIFIED:20150711T230500Z
UID:10000236-1456855500-1456870140@fortjonesca.org
SUMMARY:Regular Garbage & Recycling Pickup
DESCRIPTION:Trash pickup starts in town at 7am.
URL:https://fortjonesca.org/event/regular-garbage-recycling-pickup/2016-03-01/
END:VEVENT
BEGIN:VEVENT
DTSTART;TZID=America/Chicago:20160229T180500
DTEND;TZID=America/Chicago:20160229T220900
DTSTAMP:20260425T084302
CREATED:20150711T230500Z
LAST-MODIFIED:20150711T230500Z
UID:10000235-1456769100-1456783740@fortjonesca.org
SUMMARY:Regular Garbage & Recycling Pickup
DESCRIPTION:Trash pickup starts in town at 7am.
URL:https://fortjonesca.org/event/regular-garbage-recycling-pickup/2016-02-29/
END:VEVENT
BEGIN:VEVENT
DTSTART;TZID=America/Chicago:20160228T180500
DTEND;TZID=America/Chicago:20160228T220900
DTSTAMP:20260425T084302
CREATED:20150711T230500Z
LAST-MODIFIED:20150711T230500Z
UID:10000234-1456682700-1456697340@fortjonesca.org
SUMMARY:Regular Garbage & Recycling Pickup
DESCRIPTION:Trash pickup starts in town at 7am.
URL:https://fortjonesca.org/event/regular-garbage-recycling-pickup/2016-02-28/
END:VEVENT
BEGIN:VEVENT
DTSTART;TZID=America/Chicago:20160227T180500
DTEND;TZID=America/Chicago:20160227T220900
DTSTAMP:20260425T084302
CREATED:20150711T230500Z
LAST-MODIFIED:20150711T230500Z
UID:10000233-1456596300-1456610940@fortjonesca.org
SUMMARY:Regular Garbage & Recycling Pickup
DESCRIPTION:Trash pickup starts in town at 7am.
URL:https://fortjonesca.org/event/regular-garbage-recycling-pickup/2016-02-27/
END:VEVENT
BEGIN:VEVENT
DTSTART;TZID=America/Chicago:20160226T180500
DTEND;TZID=America/Chicago:20160226T220900
DTSTAMP:20260425T084302
CREATED:20150711T230500Z
LAST-MODIFIED:20150711T230500Z
UID:10000232-1456509900-1456524540@fortjonesca.org
SUMMARY:Regular Garbage & Recycling Pickup
DESCRIPTION:Trash pickup starts in town at 7am.
URL:https://fortjonesca.org/event/regular-garbage-recycling-pickup/2016-02-26/
END:VEVENT
BEGIN:VEVENT
DTSTART;TZID=America/Chicago:20160225T180500
DTEND;TZID=America/Chicago:20160225T220900
DTSTAMP:20260425T084302
CREATED:20150711T230500Z
LAST-MODIFIED:20150711T230500Z
UID:10000231-1456423500-1456438140@fortjonesca.org
SUMMARY:Regular Garbage & Recycling Pickup
DESCRIPTION:Trash pickup starts in town at 7am.
URL:https://fortjonesca.org/event/regular-garbage-recycling-pickup/2016-02-25/
END:VEVENT
BEGIN:VEVENT
DTSTART;TZID=America/Chicago:20160224T180500
DTEND;TZID=America/Chicago:20160224T220900
DTSTAMP:20260425T084302
CREATED:20150711T230500Z
LAST-MODIFIED:20150711T230500Z
UID:10000230-1456337100-1456351740@fortjonesca.org
SUMMARY:Regular Garbage & Recycling Pickup
DESCRIPTION:Trash pickup starts in town at 7am.
URL:https://fortjonesca.org/event/regular-garbage-recycling-pickup/2016-02-24/
END:VEVENT
BEGIN:VEVENT
DTSTART;TZID=America/Chicago:20160224T080000
DTEND;TZID=America/Chicago:20160224T120000
DTSTAMP:20260425T084302
CREATED:20150812T130000Z
LAST-MODIFIED:20150812T130000Z
UID:10000563-1456300800-1456315200@fortjonesca.org
SUMMARY:Clerks Hours
DESCRIPTION:Am in the office from 8am to noon
URL:https://fortjonesca.org/event/clerks-hours/2016-02-24/
END:VEVENT
BEGIN:VEVENT
DTSTART;TZID=America/Chicago:20160223T180500
DTEND;TZID=America/Chicago:20160223T220900
DTSTAMP:20260425T084302
CREATED:20150711T230500Z
LAST-MODIFIED:20150711T230500Z
UID:10000229-1456250700-1456265340@fortjonesca.org
SUMMARY:Regular Garbage & Recycling Pickup
DESCRIPTION:Trash pickup starts in town at 7am.
URL:https://fortjonesca.org/event/regular-garbage-recycling-pickup/2016-02-23/
END:VEVENT
BEGIN:VEVENT
DTSTART;TZID=America/Chicago:20160222T180500
DTEND;TZID=America/Chicago:20160222T220900
DTSTAMP:20260425T084302
CREATED:20150711T230500Z
LAST-MODIFIED:20150711T230500Z
UID:10000228-1456164300-1456178940@fortjonesca.org
SUMMARY:Regular Garbage & Recycling Pickup
DESCRIPTION:Trash pickup starts in town at 7am.
URL:https://fortjonesca.org/event/regular-garbage-recycling-pickup/2016-02-22/
END:VEVENT
BEGIN:VEVENT
DTSTART;TZID=America/Chicago:20160221T180500
DTEND;TZID=America/Chicago:20160221T220900
DTSTAMP:20260425T084302
CREATED:20150711T230500Z
LAST-MODIFIED:20150711T230500Z
UID:10000227-1456077900-1456092540@fortjonesca.org
SUMMARY:Regular Garbage & Recycling Pickup
DESCRIPTION:Trash pickup starts in town at 7am.
URL:https://fortjonesca.org/event/regular-garbage-recycling-pickup/2016-02-21/
END:VEVENT
BEGIN:VEVENT
DTSTART;TZID=America/Chicago:20160220T180500
DTEND;TZID=America/Chicago:20160220T220900
DTSTAMP:20260425T084302
CREATED:20150711T230500Z
LAST-MODIFIED:20150711T230500Z
UID:10000226-1455991500-1456006140@fortjonesca.org
SUMMARY:Regular Garbage & Recycling Pickup
DESCRIPTION:Trash pickup starts in town at 7am.
URL:https://fortjonesca.org/event/regular-garbage-recycling-pickup/2016-02-20/
END:VEVENT
BEGIN:VEVENT
DTSTART;TZID=America/Chicago:20160219T180500
DTEND;TZID=America/Chicago:20160219T220900
DTSTAMP:20260425T084302
CREATED:20150711T230500Z
LAST-MODIFIED:20150711T230500Z
UID:10000225-1455905100-1455919740@fortjonesca.org
SUMMARY:Regular Garbage & Recycling Pickup
DESCRIPTION:Trash pickup starts in town at 7am.
URL:https://fortjonesca.org/event/regular-garbage-recycling-pickup/2016-02-19/
END:VEVENT
BEGIN:VEVENT
DTSTART;TZID=America/Chicago:20160218T180500
DTEND;TZID=America/Chicago:20160218T220900
DTSTAMP:20260425T084302
CREATED:20150711T230500Z
LAST-MODIFIED:20150711T230500Z
UID:10000224-1455818700-1455833340@fortjonesca.org
SUMMARY:Regular Garbage & Recycling Pickup
DESCRIPTION:Trash pickup starts in town at 7am.
URL:https://fortjonesca.org/event/regular-garbage-recycling-pickup/2016-02-18/
END:VEVENT
BEGIN:VEVENT
DTSTART;TZID=America/Chicago:20160217T180500
DTEND;TZID=America/Chicago:20160217T220900
DTSTAMP:20260425T084302
CREATED:20150711T230500Z
LAST-MODIFIED:20150711T230500Z
UID:10000223-1455732300-1455746940@fortjonesca.org
SUMMARY:Regular Garbage & Recycling Pickup
DESCRIPTION:Trash pickup starts in town at 7am.
URL:https://fortjonesca.org/event/regular-garbage-recycling-pickup/2016-02-17/
END:VEVENT
BEGIN:VEVENT
DTSTART;TZID=America/Chicago:20160217T080000
DTEND;TZID=America/Chicago:20160217T120000
DTSTAMP:20260425T084302
CREATED:20150812T130000Z
LAST-MODIFIED:20150812T130000Z
UID:10000562-1455696000-1455710400@fortjonesca.org
SUMMARY:Clerks Hours
DESCRIPTION:Am in the office from 8am to noon
URL:https://fortjonesca.org/event/clerks-hours/2016-02-17/
END:VEVENT
BEGIN:VEVENT
DTSTART;TZID=America/Chicago:20160216T180500
DTEND;TZID=America/Chicago:20160216T220900
DTSTAMP:20260425T084302
CREATED:20150711T230500Z
LAST-MODIFIED:20150711T230500Z
UID:10000222-1455645900-1455660540@fortjonesca.org
SUMMARY:Regular Garbage & Recycling Pickup
DESCRIPTION:Trash pickup starts in town at 7am.
URL:https://fortjonesca.org/event/regular-garbage-recycling-pickup/2016-02-16/
END:VEVENT
BEGIN:VEVENT
DTSTART;TZID=America/Chicago:20160215T180500
DTEND;TZID=America/Chicago:20160215T220900
DTSTAMP:20260425T084302
CREATED:20150711T230500Z
LAST-MODIFIED:20150711T230500Z
UID:10000221-1455559500-1455574140@fortjonesca.org
SUMMARY:Regular Garbage & Recycling Pickup
DESCRIPTION:Trash pickup starts in town at 7am.
URL:https://fortjonesca.org/event/regular-garbage-recycling-pickup/2016-02-15/
END:VEVENT
END:VCALENDAR