BEGIN:VCALENDAR
VERSION:2.0
PRODID:-//Town of Fort Jones, Siskiyou County, CA - ECPv6.15.17.1//NONSGML v1.0//EN
CALSCALE:GREGORIAN
METHOD:PUBLISH
X-WR-CALNAME:Town of Fort Jones, Siskiyou County, CA
X-ORIGINAL-URL:https://fortjonesca.org
X-WR-CALDESC:Events for Town of Fort Jones, Siskiyou County, CA
REFRESH-INTERVAL;VALUE=DURATION:PT1H
X-Robots-Tag:noindex
X-PUBLISHED-TTL:PT1H
BEGIN:VTIMEZONE
TZID:America/Chicago
BEGIN:DAYLIGHT
TZOFFSETFROM:-0600
TZOFFSETTO:-0500
TZNAME:CDT
DTSTART:20240310T080000
END:DAYLIGHT
BEGIN:STANDARD
TZOFFSETFROM:-0500
TZOFFSETTO:-0600
TZNAME:CST
DTSTART:20241103T070000
END:STANDARD
BEGIN:DAYLIGHT
TZOFFSETFROM:-0600
TZOFFSETTO:-0500
TZNAME:CDT
DTSTART:20250309T080000
END:DAYLIGHT
BEGIN:STANDARD
TZOFFSETFROM:-0500
TZOFFSETTO:-0600
TZNAME:CST
DTSTART:20251102T070000
END:STANDARD
BEGIN:DAYLIGHT
TZOFFSETFROM:-0600
TZOFFSETTO:-0500
TZNAME:CDT
DTSTART:20260308T080000
END:DAYLIGHT
BEGIN:STANDARD
TZOFFSETFROM:-0500
TZOFFSETTO:-0600
TZNAME:CST
DTSTART:20261101T070000
END:STANDARD
BEGIN:DAYLIGHT
TZOFFSETFROM:-0600
TZOFFSETTO:-0500
TZNAME:CDT
DTSTART:20270314T080000
END:DAYLIGHT
BEGIN:STANDARD
TZOFFSETFROM:-0500
TZOFFSETTO:-0600
TZNAME:CST
DTSTART:20271107T070000
END:STANDARD
END:VTIMEZONE
BEGIN:VEVENT
DTSTART;VALUE=DATE:20251231
DTEND;VALUE=DATE:20260101
DTSTAMP:20260424T090026
CREATED:20251209T212050Z
LAST-MODIFIED:20251209T212050Z
UID:10001752-1767139200-1767225599@fortjonesca.org
SUMMARY:New Years Eve
DESCRIPTION:closed
URL:https://fortjonesca.org/event/new-years-eve/
CATEGORIES:Clerk's Hours
END:VEVENT
BEGIN:VEVENT
DTSTART;TZID=America/Chicago:20260116T180000
DTEND;TZID=America/Chicago:20260116T200000
DTSTAMP:20260424T090026
CREATED:20260113T162015Z
LAST-MODIFIED:20260113T162015Z
UID:10001755-1768586400-1768593600@fortjonesca.org
SUMMARY:Contra Dance
DESCRIPTION:CONTRA DANCE!!!!    LIVE MUSIC \nLocation: Scott Valley Grange (7246 Quartz Valley Road\, Greenview)  \nDate: Friday\, January 16  \nTime: 6pm to 8pm  \nSUGGESTED DONATION $5.00 \n(Beginners Welcome\, all Dances Taught! No Partnner is Needed!
URL:https://fortjonesca.org/event/contra-dance/
CATEGORIES:Town Board
END:VEVENT
BEGIN:VEVENT
DTSTART;TZID=America/Chicago:20260326T100000
DTEND;TZID=America/Chicago:20260326T150000
DTSTAMP:20260424T090026
CREATED:20260320T172933Z
LAST-MODIFIED:20260320T172933Z
UID:10001756-1774519200-1774537200@fortjonesca.org
SUMMARY:Blood Drive
DESCRIPTION:Blood Drive will be held on:    \n                           When:        March 26\, 2026 @ 10am – 3:00pm  \n                           Where:        Town Hall (at City Hall)  \n  \n                            \n  \n 
URL:https://fortjonesca.org/event/blood-drive-4/
CATEGORIES:Town Board
END:VEVENT
BEGIN:VEVENT
DTSTART;TZID=America/Chicago:20260408T100000
DTEND;TZID=America/Chicago:20260408T170000
DTSTAMP:20260424T090026
CREATED:20260407T174158Z
LAST-MODIFIED:20260407T174158Z
UID:10001757-1775642400-1775667600@fortjonesca.org
SUMMARY:Water shut off
DESCRIPTION:Town Council \nMadeliene DeAndreis\, Mayor Michelle DeCausmaker\, Mayor Pro TernAlex LaRiviere\, Councilmember Mercedes Garcia\, Councilmember Paula Johnson\, Councilmem ber \nSilvia Vonderlinden Town Administrator Corinne Guidi Town Clerk \n  \n  \nApril 7th\, 2026 \nThe Town of Fort Jones will be shutting down a section of water main on April 8tlii to do maintenance on the water system. This is a standard procedure. The affected area will be all of Oakmill Drive and Butte Street\, with 2 homes on Diggles Street also affected. The shutdown is estimated to last approximately 30 minutes to 1 hom: and it is planned it will occur around 10-10:30 am on A ril 8th. The rest of the Town will have uninterrupted service.We apologize for any inconvenience this might cause.If you have any questions or concerns\, please contact City Hall at (530) 468-2281. \nThank you for your understanding.
URL:https://fortjonesca.org/event/water-shut-off/
CATEGORIES:City Council
END:VEVENT
BEGIN:VEVENT
DTSTART;TZID=America/Chicago:20260409T163000
DTEND;TZID=America/Chicago:20260409T180000
DTSTAMP:20260424T090026
CREATED:20260408T225906Z
LAST-MODIFIED:20260408T225906Z
UID:10001758-1775752200-1775757600@fortjonesca.org
SUMMARY:Special Meeting
DESCRIPTION:
URL:https://fortjonesca.org/event/special-meeting-2/
END:VEVENT
BEGIN:VEVENT
DTSTART;TZID=America/Chicago:20260409T163000
DTEND;TZID=America/Chicago:20260409T180000
DTSTAMP:20260424T090026
CREATED:20260408T230012Z
LAST-MODIFIED:20260408T230012Z
UID:10001759-1775752200-1775757600@fortjonesca.org
SUMMARY:Special Meeting
DESCRIPTION:
URL:https://fortjonesca.org/event/special-meeting-3/
END:VEVENT
BEGIN:VEVENT
DTSTART;TZID=America/Chicago:20260413T173000
DTEND;TZID=America/Chicago:20260413T183000
DTSTAMP:20260424T090026
CREATED:20260410T230740Z
LAST-MODIFIED:20260410T230740Z
UID:10001761-1776101400-1776105000@fortjonesca.org
SUMMARY:Special Town Council Meeting
DESCRIPTION:
URL:https://fortjonesca.org/event/special-town-council-meeting-3/
END:VEVENT
BEGIN:VEVENT
DTSTART;TZID=America/Chicago:20260413T183000
DTEND;TZID=America/Chicago:20260413T200000
DTSTAMP:20260424T090026
CREATED:20260410T224533Z
LAST-MODIFIED:20260410T224533Z
UID:10001760-1776105000-1776110400@fortjonesca.org
SUMMARY:Regular Town Council Meeting
DESCRIPTION:
URL:https://fortjonesca.org/event/regular-town-council-meeting/
END:VEVENT
BEGIN:VEVENT
DTSTART;TZID=America/Chicago:20260420T170000
DTEND;TZID=America/Chicago:20260420T190000
DTSTAMP:20260424T090026
CREATED:20260417T232921Z
LAST-MODIFIED:20260417T232921Z
UID:10001762-1776704400-1776711600@fortjonesca.org
SUMMARY:Special Town Council Meeting
DESCRIPTION:
URL:https://fortjonesca.org/event/special-town-council-meeting-4/
END:VEVENT
BEGIN:VEVENT
DTSTART;TZID=America/Chicago:20260427T173000
DTEND;TZID=America/Chicago:20260427T190000
DTSTAMP:20260424T090026
CREATED:20260421T213946Z
LAST-MODIFIED:20260421T213946Z
UID:10001763-1777311000-1777316400@fortjonesca.org
SUMMARY:Central Park for Fort Jones Residents
DESCRIPTION:  \nFORT JONES RESIDENTS  \n  \nHave Your Say on Our New Central Park  \nOur Town has been awarded $485\,000 non matching grant to build a beautiful new park!  \nYour input matters!   Please join us  \nWHEN:  April 27th  \nWHERE: 11960 East St.\, Fort Jones\, CA \nTIME:     5:30pm
URL:https://fortjonesca.org/event/central-park-for-fort-jones-residents/
CATEGORIES:City Council
END:VEVENT
END:VCALENDAR