BEGIN:VCALENDAR
VERSION:2.0
PRODID:-//Town of Fort Jones, Siskiyou County, CA - ECPv6.15.17.1//NONSGML v1.0//EN
CALSCALE:GREGORIAN
METHOD:PUBLISH
X-WR-CALNAME:Town of Fort Jones, Siskiyou County, CA
X-ORIGINAL-URL:https://fortjonesca.org
X-WR-CALDESC:Events for Town of Fort Jones, Siskiyou County, CA
REFRESH-INTERVAL;VALUE=DURATION:PT1H
X-Robots-Tag:noindex
X-PUBLISHED-TTL:PT1H
BEGIN:VTIMEZONE
TZID:America/Chicago
BEGIN:DAYLIGHT
TZOFFSETFROM:-0600
TZOFFSETTO:-0500
TZNAME:CDT
DTSTART:20240310T080000
END:DAYLIGHT
BEGIN:STANDARD
TZOFFSETFROM:-0500
TZOFFSETTO:-0600
TZNAME:CST
DTSTART:20241103T070000
END:STANDARD
BEGIN:DAYLIGHT
TZOFFSETFROM:-0600
TZOFFSETTO:-0500
TZNAME:CDT
DTSTART:20250309T080000
END:DAYLIGHT
BEGIN:STANDARD
TZOFFSETFROM:-0500
TZOFFSETTO:-0600
TZNAME:CST
DTSTART:20251102T070000
END:STANDARD
BEGIN:DAYLIGHT
TZOFFSETFROM:-0600
TZOFFSETTO:-0500
TZNAME:CDT
DTSTART:20260308T080000
END:DAYLIGHT
BEGIN:STANDARD
TZOFFSETFROM:-0500
TZOFFSETTO:-0600
TZNAME:CST
DTSTART:20261101T070000
END:STANDARD
BEGIN:DAYLIGHT
TZOFFSETFROM:-0600
TZOFFSETTO:-0500
TZNAME:CDT
DTSTART:20270314T080000
END:DAYLIGHT
BEGIN:STANDARD
TZOFFSETFROM:-0500
TZOFFSETTO:-0600
TZNAME:CST
DTSTART:20271107T070000
END:STANDARD
END:VTIMEZONE
BEGIN:VEVENT
DTSTART;VALUE=DATE:20250101
DTEND;VALUE=DATE:20250102
DTSTAMP:20260425T111700
CREATED:20241219T233106Z
LAST-MODIFIED:20241219T233106Z
UID:10001719-1735689600-1735775999@fortjonesca.org
SUMMARY:New Year's Day- Town Hall Closed
DESCRIPTION:
URL:https://fortjonesca.org/event/new-years-day-town-hall-closed/
CATEGORIES:City Council
END:VEVENT
BEGIN:VEVENT
DTSTART;VALUE=DATE:20250120
DTEND;VALUE=DATE:20250121
DTSTAMP:20260425T111700
CREATED:20250117T205606Z
LAST-MODIFIED:20250117T205606Z
UID:10001723-1737331200-1737417599@fortjonesca.org
SUMMARY:MLK Day- Town Hall Closed
DESCRIPTION:
URL:https://fortjonesca.org/event/mlk-day-town-hall-closed/
CATEGORIES:City Council
END:VEVENT
BEGIN:VEVENT
DTSTART;TZID=America/Chicago:20250211T173000
DTEND;TZID=America/Chicago:20250211T180000
DTSTAMP:20260425T111700
CREATED:20250210T214926Z
LAST-MODIFIED:20250210T214926Z
UID:10001724-1739295000-1739296800@fortjonesca.org
SUMMARY:Special Town Council Meeting 02/11/2025
DESCRIPTION:
URL:https://fortjonesca.org/event/special-town-council-meeting-02-11-2025/
END:VEVENT
BEGIN:VEVENT
DTSTART;TZID=America/Chicago:20250219T130000
DTEND;TZID=America/Chicago:20250219T133000
DTSTAMP:20260425T111700
CREATED:20250218T210858Z
LAST-MODIFIED:20250218T210858Z
UID:10001725-1739970000-1739971800@fortjonesca.org
SUMMARY:Special Town Council Meeting
DESCRIPTION:
URL:https://fortjonesca.org/event/special-town-council-meeting/
END:VEVENT
BEGIN:VEVENT
DTSTART;TZID=America/Chicago:20250301T100000
DTEND;TZID=America/Chicago:20250301T140000
DTSTAMP:20260425T111700
CREATED:20250221T171213Z
LAST-MODIFIED:20250221T171213Z
UID:10001726-1740823200-1740837600@fortjonesca.org
SUMMARY:Seed Swap
DESCRIPTION:
URL:https://fortjonesca.org/event/seed-swap/
CATEGORIES:City Council
ATTACH;FMTTYPE=image/jpeg:https://cdn.townweb.com/fortjonesca.org/wp-content/uploads/2025/02/Seed-Swap.jpg
END:VEVENT
BEGIN:VEVENT
DTSTART;TZID=America/Chicago:20250307T180000
DTEND;TZID=America/Chicago:20250307T200000
DTSTAMP:20260425T111700
CREATED:20250225T235535Z
LAST-MODIFIED:20250225T235535Z
UID:10001728-1741370400-1741377600@fortjonesca.org
SUMMARY:Marble Rim Gallery
DESCRIPTION:
URL:https://fortjonesca.org/event/marble-rim-gallery/
CATEGORIES:City Council
ATTACH;FMTTYPE=image/jpeg:https://cdn.townweb.com/fortjonesca.org/wp-content/uploads/2025/02/Marble-Rim-Gallery.jpg
END:VEVENT
BEGIN:VEVENT
DTSTART;TZID=America/Chicago:20250310T190000
DTEND;TZID=America/Chicago:20250310T220000
DTSTAMP:20260425T111700
CREATED:20250307T195222Z
LAST-MODIFIED:20250307T195222Z
UID:10001729-1741633200-1741644000@fortjonesca.org
SUMMARY:Regular Town Council Meeting 03/10/2507
DESCRIPTION:
URL:https://fortjonesca.org/event/regular-town-council-meeting-03-10-2507/
END:VEVENT
BEGIN:VEVENT
DTSTART;TZID=America/Chicago:20250312T140000
DTEND;TZID=America/Chicago:20250312T173000
DTSTAMP:20260425T111700
CREATED:20250224T185327Z
LAST-MODIFIED:20250224T185327Z
UID:10001727-1741788000-1741800600@fortjonesca.org
SUMMARY:Blood Drive
DESCRIPTION:Blood Drive! 
URL:https://fortjonesca.org/event/blood-drive-3/
CATEGORIES:City Council
ATTACH;FMTTYPE=image/jpeg:https://cdn.townweb.com/fortjonesca.org/wp-content/uploads/2025/02/Blood-Drive-1.jpg
END:VEVENT
BEGIN:VEVENT
DTSTART;TZID=America/Chicago:20250414T190000
DTEND;TZID=America/Chicago:20250414T220000
DTSTAMP:20260425T111700
CREATED:20250414T162605Z
LAST-MODIFIED:20250414T162605Z
UID:10001730-1744657200-1744668000@fortjonesca.org
SUMMARY:Regular Town Council Meeting 04/14/25
DESCRIPTION:
URL:https://fortjonesca.org/event/regular-town-council-meeting-04-14-25/
END:VEVENT
BEGIN:VEVENT
DTSTART;TZID=America/Chicago:20250414T190000
DTEND;TZID=America/Chicago:20250414T220000
DTSTAMP:20260425T111700
CREATED:20250414T162739Z
LAST-MODIFIED:20250414T162739Z
UID:10001731-1744657200-1744668000@fortjonesca.org
SUMMARY:Regular Town Council Meeting 04/14/25
DESCRIPTION:
URL:https://fortjonesca.org/event/regular-town-council-meeting-04-14-25-2/
END:VEVENT
BEGIN:VEVENT
DTSTART;TZID=America/Chicago:20250423T180000
DTEND;TZID=America/Chicago:20250423T230000
DTSTAMP:20260425T111700
CREATED:20250421T193055Z
LAST-MODIFIED:20250421T193055Z
UID:10001735-1745431200-1745449200@fortjonesca.org
SUMMARY:Special Town Council Meeting  4-23-25
DESCRIPTION:
URL:https://fortjonesca.org/event/special-town-council-meeting-4-23-25/
END:VEVENT
BEGIN:VEVENT
DTSTART;TZID=America/Chicago:20250423T180000
DTEND;TZID=America/Chicago:20250423T230000
DTSTAMP:20260425T111700
CREATED:20250421T193237Z
LAST-MODIFIED:20250421T193237Z
UID:10001736-1745431200-1745449200@fortjonesca.org
SUMMARY:Special Town Council Meeting  4-23-25
DESCRIPTION:
URL:https://fortjonesca.org/event/special-town-council-meeting-4-23-25-2/
END:VEVENT
BEGIN:VEVENT
DTSTART;TZID=America/Chicago:20250426T090000
DTEND;TZID=America/Chicago:20250426T130000
DTSTAMP:20260425T111700
CREATED:20250417T171305Z
LAST-MODIFIED:20250417T171305Z
UID:10001734-1745658000-1745672400@fortjonesca.org
SUMMARY:Transition to Certified Organic Workshop
DESCRIPTION:
URL:https://fortjonesca.org/event/transition-to-certified-organic-workshop/
CATEGORIES:City Council
ATTACH;FMTTYPE=image/jpeg:https://cdn.townweb.com/fortjonesca.org/wp-content/uploads/2025/04/Transition-to-Certified-Organic-Workshop-scaled.jpg
END:VEVENT
BEGIN:VEVENT
DTSTART;TZID=America/Chicago:20250502T180000
DTEND;TZID=America/Chicago:20250502T200000
DTSTAMP:20260425T111700
CREATED:20250414T180745Z
LAST-MODIFIED:20250414T180745Z
UID:10001733-1746208800-1746216000@fortjonesca.org
SUMMARY:Marble Rim Gallery
DESCRIPTION:
URL:https://fortjonesca.org/event/marble-rim-gallery-2/
CATEGORIES:City Council
ATTACH;FMTTYPE=image/jpeg:https://cdn.townweb.com/fortjonesca.org/wp-content/uploads/2025/04/Marble-Rim-Gallery.jpg
END:VEVENT
BEGIN:VEVENT
DTSTART;TZID=America/Chicago:20250503T090000
DTEND;TZID=America/Chicago:20250504T210000
DTSTAMP:20260425T111700
CREATED:20250502T232344Z
LAST-MODIFIED:20250502T232344Z
UID:10001738-1746262800-1746392400@fortjonesca.org
SUMMARY:Scott Valley Pleasure Park Rodeo! May 3rd & 4th
DESCRIPTION:
URL:https://fortjonesca.org/event/scott-valley-pleasure-park-rodeo-may-3rd-4th/
CATEGORIES:City Council
ATTACH;FMTTYPE=image/jpeg:https://cdn.townweb.com/fortjonesca.org/wp-content/uploads/2025/05/Etna-Rodeo.jpg
END:VEVENT
BEGIN:VEVENT
DTSTART;TZID=America/Chicago:20250510T080000
DTEND;TZID=America/Chicago:20250510T120000
DTSTAMP:20260425T111700
CREATED:20250414T180626Z
LAST-MODIFIED:20250417T204922Z
UID:10001732-1746864000-1746878400@fortjonesca.org
SUMMARY:Town Clean-up Day!
DESCRIPTION:
URL:https://fortjonesca.org/event/town-clean-up-day/
CATEGORIES:City Council
ATTACH;FMTTYPE=image/jpeg:https://cdn.townweb.com/fortjonesca.org/wp-content/uploads/2025/04/Clean-Up-Day.jpg
END:VEVENT
BEGIN:VEVENT
DTSTART;TZID=America/Chicago:20250512T180000
DTEND;TZID=America/Chicago:20250512T190000
DTSTAMP:20260425T111700
CREATED:20250509T173746Z
LAST-MODIFIED:20250509T173746Z
UID:10001739-1747072800-1747076400@fortjonesca.org
SUMMARY:Special Town Council Meeting  5-12-25
DESCRIPTION:
URL:https://fortjonesca.org/event/special-town-council-meeting-5-12-25/
END:VEVENT
BEGIN:VEVENT
DTSTART;TZID=America/Chicago:20250512T190000
DTEND;TZID=America/Chicago:20250512T220000
DTSTAMP:20260425T111700
CREATED:20250509T173857Z
LAST-MODIFIED:20250509T173857Z
UID:10001740-1747076400-1747087200@fortjonesca.org
SUMMARY:Regular Town Council Meeting 5-12-25
DESCRIPTION:
URL:https://fortjonesca.org/event/regular-town-council-meeting-5-12-25/
END:VEVENT
BEGIN:VEVENT
DTSTART;TZID=America/Chicago:20250529T113000
DTEND;TZID=America/Chicago:20250529T150000
DTSTAMP:20260425T111700
CREATED:20250523T225834Z
LAST-MODIFIED:20250523T225834Z
UID:10001742-1748518200-1748530800@fortjonesca.org
SUMMARY:Blood Drive! May 29th 11:30-3:00PM
DESCRIPTION:
URL:https://fortjonesca.org/event/blood-drive-may-29th-1130-300pm/
CATEGORIES:City Council
ATTACH;FMTTYPE=image/jpeg:https://cdn.townweb.com/fortjonesca.org/wp-content/uploads/2025/05/Blood-Drive-May-29th-2025.jpg
END:VEVENT
BEGIN:VEVENT
DTSTART;TZID=America/Chicago:20250606T080000
DTEND;TZID=America/Chicago:20250608T170000
DTSTAMP:20260425T111700
CREATED:20250603T230824Z
LAST-MODIFIED:20250603T231936Z
UID:10001743-1749196800-1749402000@fortjonesca.org
SUMMARY:VALLEYWIDE YARD SALE WEEKEND! JUNE 6-8th
DESCRIPTION:To get a map\, go to scottvalleyfocus.com  or call 530-467-5548 for more information.
URL:https://fortjonesca.org/event/valleywide-yard-sale-weekend-june-6-8th/
CATEGORIES:City Council
ATTACH;FMTTYPE=image/jpeg:https://cdn.townweb.com/fortjonesca.org/wp-content/uploads/2025/06/Valleywide-Yard-Sale-Weekend.jpg
END:VEVENT
BEGIN:VEVENT
DTSTART;TZID=America/Chicago:20250617T103000
DTEND;TZID=America/Chicago:20250617T120000
DTSTAMP:20260425T111700
CREATED:20250509T222012Z
LAST-MODIFIED:20250509T222012Z
UID:10001741-1750156200-1750161600@fortjonesca.org
SUMMARY:Annual Fort Jones Library Art Class for Teens!
DESCRIPTION:
URL:https://fortjonesca.org/event/annual-fort-jones-library-art-class-for-teens/
CATEGORIES:City Council
ATTACH;FMTTYPE=image/jpeg:https://cdn.townweb.com/fortjonesca.org/wp-content/uploads/2025/05/Annual-Fort-Jones-Library-Art-Class-for-Teens-1-scaled.jpg
END:VEVENT
BEGIN:VEVENT
DTSTART;TZID=America/Chicago:20250619T183000
DTEND;TZID=America/Chicago:20250619T203000
DTSTAMP:20260425T111700
CREATED:20250502T230100Z
LAST-MODIFIED:20250502T230100Z
UID:10001737-1750357800-1750365000@fortjonesca.org
SUMMARY:Meet Our Team
DESCRIPTION:
URL:https://fortjonesca.org/event/meet-our-team/
CATEGORIES:City Council
ATTACH;FMTTYPE=image/jpeg:https://cdn.townweb.com/fortjonesca.org/wp-content/uploads/2025/05/Meet-Our-Team-scaled.jpg
END:VEVENT
BEGIN:VEVENT
DTSTART;TZID=America/Chicago:20250828T183000
DTEND;TZID=America/Chicago:20250828T203000
DTSTAMP:20260425T111700
CREATED:20250812T150926Z
LAST-MODIFIED:20250812T150926Z
UID:10001744-1756405800-1756413000@fortjonesca.org
SUMMARY:Siskiyou Community Forum - Thursday\, August 28th 6:30-8:30pm
DESCRIPTION:
URL:https://fortjonesca.org/event/siskiyou-community-forum-thursday-august-28th-630-830pm/
CATEGORIES:City Council
ATTACH;FMTTYPE=image/jpeg:https://cdn.townweb.com/fortjonesca.org/wp-content/uploads/2025/08/SCA_Forum_2_250828.jpg
END:VEVENT
BEGIN:VEVENT
DTSTART;TZID=America/Chicago:20250903T110000
DTEND;TZID=America/Chicago:20250903T120000
DTSTAMP:20260425T111700
CREATED:20250812T155223Z
LAST-MODIFIED:20250812T155223Z
UID:10001745-1756897200-1756900800@fortjonesca.org
SUMMARY:Evacuation Planning Workshop- Wednesday\, September 3rd 11-12:00pm
DESCRIPTION:
URL:https://fortjonesca.org/event/evacuation-planning-workshop-wednesday-september-3rd-11-1200pm/
CATEGORIES:City Council
ATTACH;FMTTYPE=image/jpeg:https://cdn.townweb.com/fortjonesca.org/wp-content/uploads/2025/08/Fort-Jones-Evacuation-Planning-.jpg
END:VEVENT
BEGIN:VEVENT
DTSTART;TZID=America/Chicago:20251213T070000
DTEND;TZID=America/Chicago:20251213T080000
DTSTAMP:20260425T111700
CREATED:20251206T004306Z
LAST-MODIFIED:20251206T004306Z
UID:10001748-1765609200-1765612800@fortjonesca.org
SUMMARY:Fireman Pancake Breakfast
DESCRIPTION:Fireman Pancake Breakfast is on Saturday\, December 13th @7am at the fire station in Fort Jones 
URL:https://fortjonesca.org/event/fireman-pancake-breakfast/
CATEGORIES:City Council
END:VEVENT
BEGIN:VEVENT
DTSTART;TZID=America/Chicago:20251213T090000
DTEND;TZID=America/Chicago:20251213T170000
DTSTAMP:20260425T111700
CREATED:20251206T004429Z
LAST-MODIFIED:20251206T004429Z
UID:10001749-1765616400-1765645200@fortjonesca.org
SUMMARY:Craft Fair
DESCRIPTION:Craft Fair on December 13th at 9:00am 
URL:https://fortjonesca.org/event/craft-fair/
CATEGORIES:Clerk's Hours
END:VEVENT
BEGIN:VEVENT
DTSTART;TZID=America/Chicago:20251217T180000
DTEND;TZID=America/Chicago:20251217T210000
DTSTAMP:20260425T111700
CREATED:20251211T003805Z
LAST-MODIFIED:20251211T003805Z
UID:10001753-1765994400-1766005200@fortjonesca.org
SUMMARY:CASTING CALL and TABLE READ
DESCRIPTION:CASTING CALL and TABLE READ!! For the MAD Players NEW melodrama “Out to Pasture…or How to Get Old Without Even Trying” Wednesday\, December 17th\, 6:00 p.m. Scout Hall 107 Newton Street\, Fort Jones Rehearsal Schedule Tuesdays and Thursdays from 6:30 to 8:30 p.m. Saturdays from 10:00 a.m. to 12:00 noon Fort Jones Scout Hall Performance Schedule Friday and Saturday\, February 13 and 14\, 7:00 p.m. Fort Jones Community Center AND Friday\, February 20\, 7:00 p.m. Saturday and Sunday\, February 21 and 22\, 2:00 p.m. The Avery Theatre Etna We need actors\, set painters\, stage hands\, and extra hands! If you would like to participate or have questions\, please contact Dee Jones at 530-598-4490
URL:https://fortjonesca.org/event/casting-call-and-table-read/
CATEGORIES:City Council
END:VEVENT
BEGIN:VEVENT
DTSTART;VALUE=DATE:20251224
DTEND;VALUE=DATE:20251227
DTSTAMP:20260425T111700
CREATED:20251209T211818Z
LAST-MODIFIED:20251209T212008Z
UID:10001751-1766534400-1766793599@fortjonesca.org
SUMMARY:Christmas Eve & Christmas Day
DESCRIPTION:closed for the holiday 
URL:https://fortjonesca.org/event/christmas-eve-christmas-day/
CATEGORIES:Clerk's Hours
END:VEVENT
BEGIN:VEVENT
DTSTART;VALUE=DATE:20251231
DTEND;VALUE=DATE:20260101
DTSTAMP:20260425T111700
CREATED:20251209T212050Z
LAST-MODIFIED:20251209T212050Z
UID:10001752-1767139200-1767225599@fortjonesca.org
SUMMARY:New Years Eve
DESCRIPTION:closed
URL:https://fortjonesca.org/event/new-years-eve/
CATEGORIES:Clerk's Hours
END:VEVENT
BEGIN:VEVENT
DTSTART;TZID=America/Chicago:20260116T180000
DTEND;TZID=America/Chicago:20260116T200000
DTSTAMP:20260425T111700
CREATED:20260113T162015Z
LAST-MODIFIED:20260113T162015Z
UID:10001755-1768586400-1768593600@fortjonesca.org
SUMMARY:Contra Dance
DESCRIPTION:CONTRA DANCE!!!!    LIVE MUSIC \nLocation: Scott Valley Grange (7246 Quartz Valley Road\, Greenview)  \nDate: Friday\, January 16  \nTime: 6pm to 8pm  \nSUGGESTED DONATION $5.00 \n(Beginners Welcome\, all Dances Taught! No Partnner is Needed!
URL:https://fortjonesca.org/event/contra-dance/
CATEGORIES:Town Board
END:VEVENT
END:VCALENDAR