BEGIN:VCALENDAR
VERSION:2.0
PRODID:-//Town of Fort Jones, Siskiyou County, CA - ECPv6.15.17.1//NONSGML v1.0//EN
CALSCALE:GREGORIAN
METHOD:PUBLISH
X-WR-CALNAME:Town of Fort Jones, Siskiyou County, CA
X-ORIGINAL-URL:https://fortjonesca.org
X-WR-CALDESC:Events for Town of Fort Jones, Siskiyou County, CA
REFRESH-INTERVAL;VALUE=DURATION:PT1H
X-Robots-Tag:noindex
X-PUBLISHED-TTL:PT1H
BEGIN:VTIMEZONE
TZID:America/Chicago
BEGIN:DAYLIGHT
TZOFFSETFROM:-0600
TZOFFSETTO:-0500
TZNAME:CDT
DTSTART:20150308T080000
END:DAYLIGHT
BEGIN:STANDARD
TZOFFSETFROM:-0500
TZOFFSETTO:-0600
TZNAME:CST
DTSTART:20151101T070000
END:STANDARD
BEGIN:DAYLIGHT
TZOFFSETFROM:-0600
TZOFFSETTO:-0500
TZNAME:CDT
DTSTART:20160313T080000
END:DAYLIGHT
BEGIN:STANDARD
TZOFFSETFROM:-0500
TZOFFSETTO:-0600
TZNAME:CST
DTSTART:20161106T070000
END:STANDARD
BEGIN:DAYLIGHT
TZOFFSETFROM:-0600
TZOFFSETTO:-0500
TZNAME:CDT
DTSTART:20170312T080000
END:DAYLIGHT
BEGIN:STANDARD
TZOFFSETFROM:-0500
TZOFFSETTO:-0600
TZNAME:CST
DTSTART:20171105T070000
END:STANDARD
END:VTIMEZONE
BEGIN:VEVENT
DTSTART;TZID=America/Chicago:20160502T190000
DTEND;TZID=America/Chicago:20160502T190000
DTSTAMP:20260425T090601
CREATED:20150805T000000Z
LAST-MODIFIED:20190314T152300Z
UID:10000499-1462215600-1462215600@fortjonesca.org
SUMMARY:City Council Meeting
DESCRIPTION:
URL:https://fortjonesca.org/event/city-council-meeting/2016-05-02/
END:VEVENT
BEGIN:VEVENT
DTSTART;TZID=America/Chicago:20160502T180500
DTEND;TZID=America/Chicago:20160502T220900
DTSTAMP:20260425T090601
CREATED:20150711T230500Z
LAST-MODIFIED:20150711T230500Z
UID:10000298-1462212300-1462226940@fortjonesca.org
SUMMARY:Regular Garbage & Recycling Pickup
DESCRIPTION:Trash pickup starts in town at 7am.
URL:https://fortjonesca.org/event/regular-garbage-recycling-pickup/2016-05-02/
END:VEVENT
BEGIN:VEVENT
DTSTART;TZID=America/Chicago:20160501T180500
DTEND;TZID=America/Chicago:20160501T220900
DTSTAMP:20260425T090601
CREATED:20150711T230500Z
LAST-MODIFIED:20150711T230500Z
UID:10000297-1462125900-1462140540@fortjonesca.org
SUMMARY:Regular Garbage & Recycling Pickup
DESCRIPTION:Trash pickup starts in town at 7am.
URL:https://fortjonesca.org/event/regular-garbage-recycling-pickup/2016-05-01/
END:VEVENT
BEGIN:VEVENT
DTSTART;TZID=America/Chicago:20160430T180500
DTEND;TZID=America/Chicago:20160430T220900
DTSTAMP:20260425T090601
CREATED:20150711T230500Z
LAST-MODIFIED:20150711T230500Z
UID:10000296-1462039500-1462054140@fortjonesca.org
SUMMARY:Regular Garbage & Recycling Pickup
DESCRIPTION:Trash pickup starts in town at 7am.
URL:https://fortjonesca.org/event/regular-garbage-recycling-pickup/2016-04-30/
END:VEVENT
BEGIN:VEVENT
DTSTART;TZID=America/Chicago:20160429T180500
DTEND;TZID=America/Chicago:20160429T220900
DTSTAMP:20260425T090601
CREATED:20150711T230500Z
LAST-MODIFIED:20150711T230500Z
UID:10000295-1461953100-1461967740@fortjonesca.org
SUMMARY:Regular Garbage & Recycling Pickup
DESCRIPTION:Trash pickup starts in town at 7am.
URL:https://fortjonesca.org/event/regular-garbage-recycling-pickup/2016-04-29/
END:VEVENT
BEGIN:VEVENT
DTSTART;TZID=America/Chicago:20160428T180500
DTEND;TZID=America/Chicago:20160428T220900
DTSTAMP:20260425T090601
CREATED:20150711T230500Z
LAST-MODIFIED:20150711T230500Z
UID:10000294-1461866700-1461881340@fortjonesca.org
SUMMARY:Regular Garbage & Recycling Pickup
DESCRIPTION:Trash pickup starts in town at 7am.
URL:https://fortjonesca.org/event/regular-garbage-recycling-pickup/2016-04-28/
END:VEVENT
BEGIN:VEVENT
DTSTART;TZID=America/Chicago:20160427T180500
DTEND;TZID=America/Chicago:20160427T220900
DTSTAMP:20260425T090601
CREATED:20150711T230500Z
LAST-MODIFIED:20150711T230500Z
UID:10000293-1461780300-1461794940@fortjonesca.org
SUMMARY:Regular Garbage & Recycling Pickup
DESCRIPTION:Trash pickup starts in town at 7am.
URL:https://fortjonesca.org/event/regular-garbage-recycling-pickup/2016-04-27/
END:VEVENT
BEGIN:VEVENT
DTSTART;TZID=America/Chicago:20160427T080000
DTEND;TZID=America/Chicago:20160427T120000
DTSTAMP:20260425T090601
CREATED:20150812T130000Z
LAST-MODIFIED:20150812T130000Z
UID:10000572-1461744000-1461758400@fortjonesca.org
SUMMARY:Clerks Hours
DESCRIPTION:Am in the office from 8am to noon
URL:https://fortjonesca.org/event/clerks-hours/2016-04-27/
END:VEVENT
BEGIN:VEVENT
DTSTART;TZID=America/Chicago:20160426T180500
DTEND;TZID=America/Chicago:20160426T220900
DTSTAMP:20260425T090601
CREATED:20150711T230500Z
LAST-MODIFIED:20150711T230500Z
UID:10000292-1461693900-1461708540@fortjonesca.org
SUMMARY:Regular Garbage & Recycling Pickup
DESCRIPTION:Trash pickup starts in town at 7am.
URL:https://fortjonesca.org/event/regular-garbage-recycling-pickup/2016-04-26/
END:VEVENT
BEGIN:VEVENT
DTSTART;TZID=America/Chicago:20160425T180500
DTEND;TZID=America/Chicago:20160425T220900
DTSTAMP:20260425T090601
CREATED:20150711T230500Z
LAST-MODIFIED:20150711T230500Z
UID:10000291-1461607500-1461622140@fortjonesca.org
SUMMARY:Regular Garbage & Recycling Pickup
DESCRIPTION:Trash pickup starts in town at 7am.
URL:https://fortjonesca.org/event/regular-garbage-recycling-pickup/2016-04-25/
END:VEVENT
BEGIN:VEVENT
DTSTART;TZID=America/Chicago:20160424T180500
DTEND;TZID=America/Chicago:20160424T220900
DTSTAMP:20260425T090601
CREATED:20150711T230500Z
LAST-MODIFIED:20150711T230500Z
UID:10000290-1461521100-1461535740@fortjonesca.org
SUMMARY:Regular Garbage & Recycling Pickup
DESCRIPTION:Trash pickup starts in town at 7am.
URL:https://fortjonesca.org/event/regular-garbage-recycling-pickup/2016-04-24/
END:VEVENT
BEGIN:VEVENT
DTSTART;TZID=America/Chicago:20160423T180500
DTEND;TZID=America/Chicago:20160423T220900
DTSTAMP:20260425T090601
CREATED:20150711T230500Z
LAST-MODIFIED:20150711T230500Z
UID:10000289-1461434700-1461449340@fortjonesca.org
SUMMARY:Regular Garbage & Recycling Pickup
DESCRIPTION:Trash pickup starts in town at 7am.
URL:https://fortjonesca.org/event/regular-garbage-recycling-pickup/2016-04-23/
END:VEVENT
BEGIN:VEVENT
DTSTART;TZID=America/Chicago:20160422T180500
DTEND;TZID=America/Chicago:20160422T220900
DTSTAMP:20260425T090601
CREATED:20150711T230500Z
LAST-MODIFIED:20150711T230500Z
UID:10000288-1461348300-1461362940@fortjonesca.org
SUMMARY:Regular Garbage & Recycling Pickup
DESCRIPTION:Trash pickup starts in town at 7am.
URL:https://fortjonesca.org/event/regular-garbage-recycling-pickup/2016-04-22/
END:VEVENT
BEGIN:VEVENT
DTSTART;TZID=America/Chicago:20160421T180500
DTEND;TZID=America/Chicago:20160421T220900
DTSTAMP:20260425T090601
CREATED:20150711T230500Z
LAST-MODIFIED:20150711T230500Z
UID:10000287-1461261900-1461276540@fortjonesca.org
SUMMARY:Regular Garbage & Recycling Pickup
DESCRIPTION:Trash pickup starts in town at 7am.
URL:https://fortjonesca.org/event/regular-garbage-recycling-pickup/2016-04-21/
END:VEVENT
BEGIN:VEVENT
DTSTART;TZID=America/Chicago:20160420T180500
DTEND;TZID=America/Chicago:20160420T220900
DTSTAMP:20260425T090601
CREATED:20150711T230500Z
LAST-MODIFIED:20150711T230500Z
UID:10000286-1461175500-1461190140@fortjonesca.org
SUMMARY:Regular Garbage & Recycling Pickup
DESCRIPTION:Trash pickup starts in town at 7am.
URL:https://fortjonesca.org/event/regular-garbage-recycling-pickup/2016-04-20/
END:VEVENT
BEGIN:VEVENT
DTSTART;TZID=America/Chicago:20160420T080000
DTEND;TZID=America/Chicago:20160420T120000
DTSTAMP:20260425T090601
CREATED:20150812T130000Z
LAST-MODIFIED:20150812T130000Z
UID:10000571-1461139200-1461153600@fortjonesca.org
SUMMARY:Clerks Hours
DESCRIPTION:Am in the office from 8am to noon
URL:https://fortjonesca.org/event/clerks-hours/2016-04-20/
END:VEVENT
BEGIN:VEVENT
DTSTART;TZID=America/Chicago:20160419T180500
DTEND;TZID=America/Chicago:20160419T220900
DTSTAMP:20260425T090601
CREATED:20150711T230500Z
LAST-MODIFIED:20150711T230500Z
UID:10000285-1461089100-1461103740@fortjonesca.org
SUMMARY:Regular Garbage & Recycling Pickup
DESCRIPTION:Trash pickup starts in town at 7am.
URL:https://fortjonesca.org/event/regular-garbage-recycling-pickup/2016-04-19/
END:VEVENT
BEGIN:VEVENT
DTSTART;TZID=America/Chicago:20160418T180500
DTEND;TZID=America/Chicago:20160418T220900
DTSTAMP:20260425T090601
CREATED:20150711T230500Z
LAST-MODIFIED:20150711T230500Z
UID:10000284-1461002700-1461017340@fortjonesca.org
SUMMARY:Regular Garbage & Recycling Pickup
DESCRIPTION:Trash pickup starts in town at 7am.
URL:https://fortjonesca.org/event/regular-garbage-recycling-pickup/2016-04-18/
END:VEVENT
BEGIN:VEVENT
DTSTART;TZID=America/Chicago:20160417T180500
DTEND;TZID=America/Chicago:20160417T220900
DTSTAMP:20260425T090601
CREATED:20150711T230500Z
LAST-MODIFIED:20150711T230500Z
UID:10000283-1460916300-1460930940@fortjonesca.org
SUMMARY:Regular Garbage & Recycling Pickup
DESCRIPTION:Trash pickup starts in town at 7am.
URL:https://fortjonesca.org/event/regular-garbage-recycling-pickup/2016-04-17/
END:VEVENT
BEGIN:VEVENT
DTSTART;TZID=America/Chicago:20160416T180500
DTEND;TZID=America/Chicago:20160416T220900
DTSTAMP:20260425T090601
CREATED:20150711T230500Z
LAST-MODIFIED:20150711T230500Z
UID:10000282-1460829900-1460844540@fortjonesca.org
SUMMARY:Regular Garbage & Recycling Pickup
DESCRIPTION:Trash pickup starts in town at 7am.
URL:https://fortjonesca.org/event/regular-garbage-recycling-pickup/2016-04-16/
END:VEVENT
BEGIN:VEVENT
DTSTART;TZID=America/Chicago:20160415T180500
DTEND;TZID=America/Chicago:20160415T220900
DTSTAMP:20260425T090601
CREATED:20150711T230500Z
LAST-MODIFIED:20150711T230500Z
UID:10000281-1460743500-1460758140@fortjonesca.org
SUMMARY:Regular Garbage & Recycling Pickup
DESCRIPTION:Trash pickup starts in town at 7am.
URL:https://fortjonesca.org/event/regular-garbage-recycling-pickup/2016-04-15/
END:VEVENT
BEGIN:VEVENT
DTSTART;TZID=America/Chicago:20160414T180500
DTEND;TZID=America/Chicago:20160414T220900
DTSTAMP:20260425T090601
CREATED:20150711T230500Z
LAST-MODIFIED:20150711T230500Z
UID:10000280-1460657100-1460671740@fortjonesca.org
SUMMARY:Regular Garbage & Recycling Pickup
DESCRIPTION:Trash pickup starts in town at 7am.
URL:https://fortjonesca.org/event/regular-garbage-recycling-pickup/2016-04-14/
END:VEVENT
BEGIN:VEVENT
DTSTART;TZID=America/Chicago:20160413T180500
DTEND;TZID=America/Chicago:20160413T220900
DTSTAMP:20260425T090601
CREATED:20150711T230500Z
LAST-MODIFIED:20150711T230500Z
UID:10000279-1460570700-1460585340@fortjonesca.org
SUMMARY:Regular Garbage & Recycling Pickup
DESCRIPTION:Trash pickup starts in town at 7am.
URL:https://fortjonesca.org/event/regular-garbage-recycling-pickup/2016-04-13/
END:VEVENT
BEGIN:VEVENT
DTSTART;TZID=America/Chicago:20160413T080000
DTEND;TZID=America/Chicago:20160413T120000
DTSTAMP:20260425T090601
CREATED:20150812T130000Z
LAST-MODIFIED:20150812T130000Z
UID:10000570-1460534400-1460548800@fortjonesca.org
SUMMARY:Clerks Hours
DESCRIPTION:Am in the office from 8am to noon
URL:https://fortjonesca.org/event/clerks-hours/2016-04-13/
END:VEVENT
BEGIN:VEVENT
DTSTART;TZID=America/Chicago:20160412T180500
DTEND;TZID=America/Chicago:20160412T220900
DTSTAMP:20260425T090601
CREATED:20150711T230500Z
LAST-MODIFIED:20150711T230500Z
UID:10000278-1460484300-1460498940@fortjonesca.org
SUMMARY:Regular Garbage & Recycling Pickup
DESCRIPTION:Trash pickup starts in town at 7am.
URL:https://fortjonesca.org/event/regular-garbage-recycling-pickup/2016-04-12/
END:VEVENT
BEGIN:VEVENT
DTSTART;TZID=America/Chicago:20160411T180500
DTEND;TZID=America/Chicago:20160411T220900
DTSTAMP:20260425T090601
CREATED:20150711T230500Z
LAST-MODIFIED:20150711T230500Z
UID:10000277-1460397900-1460412540@fortjonesca.org
SUMMARY:Regular Garbage & Recycling Pickup
DESCRIPTION:Trash pickup starts in town at 7am.
URL:https://fortjonesca.org/event/regular-garbage-recycling-pickup/2016-04-11/
END:VEVENT
BEGIN:VEVENT
DTSTART;TZID=America/Chicago:20160410T180500
DTEND;TZID=America/Chicago:20160410T220900
DTSTAMP:20260425T090601
CREATED:20150711T230500Z
LAST-MODIFIED:20150711T230500Z
UID:10000276-1460311500-1460326140@fortjonesca.org
SUMMARY:Regular Garbage & Recycling Pickup
DESCRIPTION:Trash pickup starts in town at 7am.
URL:https://fortjonesca.org/event/regular-garbage-recycling-pickup/2016-04-10/
END:VEVENT
BEGIN:VEVENT
DTSTART;TZID=America/Chicago:20160409T180500
DTEND;TZID=America/Chicago:20160409T220900
DTSTAMP:20260425T090601
CREATED:20150711T230500Z
LAST-MODIFIED:20150711T230500Z
UID:10000275-1460225100-1460239740@fortjonesca.org
SUMMARY:Regular Garbage & Recycling Pickup
DESCRIPTION:Trash pickup starts in town at 7am.
URL:https://fortjonesca.org/event/regular-garbage-recycling-pickup/2016-04-09/
END:VEVENT
BEGIN:VEVENT
DTSTART;TZID=America/Chicago:20160408T180500
DTEND;TZID=America/Chicago:20160408T220900
DTSTAMP:20260425T090601
CREATED:20150711T230500Z
LAST-MODIFIED:20150711T230500Z
UID:10000274-1460138700-1460153340@fortjonesca.org
SUMMARY:Regular Garbage & Recycling Pickup
DESCRIPTION:Trash pickup starts in town at 7am.
URL:https://fortjonesca.org/event/regular-garbage-recycling-pickup/2016-04-08/
END:VEVENT
BEGIN:VEVENT
DTSTART;TZID=America/Chicago:20160407T180500
DTEND;TZID=America/Chicago:20160407T220900
DTSTAMP:20260425T090601
CREATED:20150711T230500Z
LAST-MODIFIED:20150711T230500Z
UID:10000273-1460052300-1460066940@fortjonesca.org
SUMMARY:Regular Garbage & Recycling Pickup
DESCRIPTION:Trash pickup starts in town at 7am.
URL:https://fortjonesca.org/event/regular-garbage-recycling-pickup/2016-04-07/
END:VEVENT
END:VCALENDAR