BEGIN:VCALENDAR
VERSION:2.0
PRODID:-//Town of Fort Jones, Siskiyou County, CA - ECPv6.15.17.1//NONSGML v1.0//EN
CALSCALE:GREGORIAN
METHOD:PUBLISH
X-WR-CALNAME:Town of Fort Jones, Siskiyou County, CA
X-ORIGINAL-URL:https://fortjonesca.org
X-WR-CALDESC:Events for Town of Fort Jones, Siskiyou County, CA
REFRESH-INTERVAL;VALUE=DURATION:PT1H
X-Robots-Tag:noindex
X-PUBLISHED-TTL:PT1H
BEGIN:VTIMEZONE
TZID:America/Chicago
BEGIN:DAYLIGHT
TZOFFSETFROM:-0600
TZOFFSETTO:-0500
TZNAME:CDT
DTSTART:20200308T080000
END:DAYLIGHT
BEGIN:STANDARD
TZOFFSETFROM:-0500
TZOFFSETTO:-0600
TZNAME:CST
DTSTART:20201101T070000
END:STANDARD
BEGIN:DAYLIGHT
TZOFFSETFROM:-0600
TZOFFSETTO:-0500
TZNAME:CDT
DTSTART:20210314T080000
END:DAYLIGHT
BEGIN:STANDARD
TZOFFSETFROM:-0500
TZOFFSETTO:-0600
TZNAME:CST
DTSTART:20211107T070000
END:STANDARD
BEGIN:DAYLIGHT
TZOFFSETFROM:-0600
TZOFFSETTO:-0500
TZNAME:CDT
DTSTART:20220313T080000
END:DAYLIGHT
BEGIN:STANDARD
TZOFFSETFROM:-0500
TZOFFSETTO:-0600
TZNAME:CST
DTSTART:20221106T070000
END:STANDARD
END:VTIMEZONE
BEGIN:VEVENT
DTSTART;TZID=America/Chicago:20211001T180000
DTEND;TZID=America/Chicago:20211001T200000
DTSTAMP:20260423T024136
CREATED:20210730T200356Z
LAST-MODIFIED:20210730T200356Z
UID:10000743-1633111200-1633118400@fortjonesca.org
SUMMARY:AA Meeting
DESCRIPTION:
URL:https://fortjonesca.org/event/aa-meeting/2021-10-01/
END:VEVENT
BEGIN:VEVENT
DTSTART;TZID=America/Chicago:20211002T090000
DTEND;TZID=America/Chicago:20211002T090000
DTSTAMP:20260423T024136
CREATED:20210817T184434Z
LAST-MODIFIED:20210817T184434Z
UID:10000856-1633165200-1633165200@fortjonesca.org
SUMMARY:Fort Jones Fall Festival
DESCRIPTION:https://cdn.townweb.com/fortjonesca.org/wp-content/uploads/2021/08/fall-festival-2021-flyer.pdf \nThe 9th annual Fort Jones Fall Festival will be held at Walker Field on October 2nd. Admission is FREE! \nActivities include: \n\nClassic Car Show\nHit & Miss Engines\nDoggie Duck Dive\nFabulous Fifties Music\nChildren’s Fun & Games\nFood & Craft Vendors\n\nA Fort Jones Lions Club event to benefit the Fort Jones Lions Benefit Scholarship Fund and other community activities.
URL:https://fortjonesca.org/event/fort-jones-fall-festival/
END:VEVENT
BEGIN:VEVENT
DTSTART;TZID=America/Chicago:20211008T180000
DTEND;TZID=America/Chicago:20211008T200000
DTSTAMP:20260423T024136
CREATED:20210730T200356Z
LAST-MODIFIED:20210730T200356Z
UID:10000744-1633716000-1633723200@fortjonesca.org
SUMMARY:AA Meeting
DESCRIPTION:
URL:https://fortjonesca.org/event/aa-meeting/2021-10-08/
END:VEVENT
BEGIN:VEVENT
DTSTART;VALUE=DATE:20211011
DTEND;VALUE=DATE:20211012
DTSTAMP:20260423T024136
CREATED:20211007T194850Z
LAST-MODIFIED:20211007T194850Z
UID:10000878-1633910400-1633996799@fortjonesca.org
SUMMARY:Closed on Columbus Day
DESCRIPTION:City Hall and the Fort Jones Branch Library will be closed in observance of Columbus day on Monday\, October 11. Regular hours will resume on Tuesday\, October 12.
URL:https://fortjonesca.org/event/closed-on-columbus-day/
END:VEVENT
BEGIN:VEVENT
DTSTART;TZID=America/Chicago:20211013T093000
DTEND;TZID=America/Chicago:20211013T103000
DTSTAMP:20260423T024136
CREATED:20211013T212834Z
LAST-MODIFIED:20211013T213137Z
UID:10000882-1634117400-1634121000@fortjonesca.org
SUMMARY:Wednesday Morning Yoga
DESCRIPTION:No cost\, all ages welcome! 9:30am-10:30am at City Hall. Bring a mat for the floor.
URL:https://fortjonesca.org/event/wednesday-morning-yoga/2021-10-13/
END:VEVENT
BEGIN:VEVENT
DTSTART;TZID=America/Chicago:20211014T100000
DTEND;TZID=America/Chicago:20211014T140000
DTSTAMP:20260423T024136
CREATED:20211005T164552Z
LAST-MODIFIED:20211005T165126Z
UID:10000876-1634205600-1634220000@fortjonesca.org
SUMMARY:Siskiyou County Public Health Pfizer Vaccine Booster Clinic
DESCRIPTION:First and second doses of the Pfizer vaccine can be received at this clinic. \nAPPOINTMENT REQUIRED \nThursday October 14\, 2021\, 10:00am-2:30pm \nSiskiyou Golden Fairgrounds \n1712 Fairlane Rd Yreka\, CA
URL:https://fortjonesca.org/event/siskiyou-county-public-health-pfizer-vaccine-booster-clinic/
END:VEVENT
BEGIN:VEVENT
DTSTART;TZID=America/Chicago:20211015T180000
DTEND;TZID=America/Chicago:20211015T200000
DTSTAMP:20260423T024136
CREATED:20210730T200356Z
LAST-MODIFIED:20210730T200356Z
UID:10000745-1634320800-1634328000@fortjonesca.org
SUMMARY:AA Meeting
DESCRIPTION:
URL:https://fortjonesca.org/event/aa-meeting/2021-10-15/
END:VEVENT
BEGIN:VEVENT
DTSTART;TZID=America/Chicago:20211016T090000
DTEND;TZID=America/Chicago:20211016T130000
DTSTAMP:20260423T024136
CREATED:20211005T205956Z
LAST-MODIFIED:20211005T205956Z
UID:10000877-1634374800-1634389200@fortjonesca.org
SUMMARY:Household Hazardous Waste Collection
DESCRIPTION:When: Saturday\, October 16\, 2021 from 9:00am to 1:00pm \nWhere: Black Butte Transfer Station–3710 Springhill Rd. Mt. Shasta\, CA \nCost: Free!
URL:https://fortjonesca.org/event/household-hazardous-waste-collection/
END:VEVENT
BEGIN:VEVENT
DTSTART;TZID=America/Chicago:20211020T093000
DTEND;TZID=America/Chicago:20211020T103000
DTSTAMP:20260423T024136
CREATED:20211013T212834Z
LAST-MODIFIED:20211013T213137Z
UID:10000883-1634722200-1634725800@fortjonesca.org
SUMMARY:Wednesday Morning Yoga
DESCRIPTION:No cost\, all ages welcome! 9:30am-10:30am at City Hall. Bring a mat for the floor.
URL:https://fortjonesca.org/event/wednesday-morning-yoga/2021-10-20/
END:VEVENT
BEGIN:VEVENT
DTSTART;TZID=America/Chicago:20211020T100000
DTEND;TZID=America/Chicago:20211020T140000
DTSTAMP:20260423T024136
CREATED:20211013T211916Z
LAST-MODIFIED:20211013T211916Z
UID:10000881-1634724000-1634738400@fortjonesca.org
SUMMARY:Mobile Health Clinic
DESCRIPTION:On Friday\, October 20\, Siskiyou County Public Health will be providing testing and vaccinations at City Hall from 10:00am-2:00pm.  \nServices provided: \nCovid-19\, flu\, and TDAP vaccinations; routine childhood vaccinations \nRapid Covid-19 Testing
URL:https://fortjonesca.org/event/mobile-health-clinic/
END:VEVENT
BEGIN:VEVENT
DTSTART;TZID=America/Chicago:20211022T180000
DTEND;TZID=America/Chicago:20211022T200000
DTSTAMP:20260423T024136
CREATED:20210730T200356Z
LAST-MODIFIED:20210730T200356Z
UID:10000746-1634925600-1634932800@fortjonesca.org
SUMMARY:AA Meeting
DESCRIPTION:
URL:https://fortjonesca.org/event/aa-meeting/2021-10-22/
END:VEVENT
BEGIN:VEVENT
DTSTART;TZID=America/Chicago:20211027T093000
DTEND;TZID=America/Chicago:20211027T103000
DTSTAMP:20260423T024136
CREATED:20211013T212834Z
LAST-MODIFIED:20211013T213137Z
UID:10000884-1635327000-1635330600@fortjonesca.org
SUMMARY:Wednesday Morning Yoga
DESCRIPTION:No cost\, all ages welcome! 9:30am-10:30am at City Hall. Bring a mat for the floor.
URL:https://fortjonesca.org/event/wednesday-morning-yoga/2021-10-27/
END:VEVENT
BEGIN:VEVENT
DTSTART;TZID=America/Chicago:20211029T180000
DTEND;TZID=America/Chicago:20211029T200000
DTSTAMP:20260423T024136
CREATED:20210730T200356Z
LAST-MODIFIED:20210730T200356Z
UID:10000747-1635530400-1635537600@fortjonesca.org
SUMMARY:AA Meeting
DESCRIPTION:
URL:https://fortjonesca.org/event/aa-meeting/2021-10-29/
END:VEVENT
BEGIN:VEVENT
DTSTART;TZID=America/Chicago:20211103T093000
DTEND;TZID=America/Chicago:20211103T103000
DTSTAMP:20260423T024136
CREATED:20211013T212834Z
LAST-MODIFIED:20211013T213137Z
UID:10000885-1635931800-1635935400@fortjonesca.org
SUMMARY:Wednesday Morning Yoga
DESCRIPTION:No cost\, all ages welcome! 9:30am-10:30am at City Hall. Bring a mat for the floor.
URL:https://fortjonesca.org/event/wednesday-morning-yoga/2021-11-03/
END:VEVENT
BEGIN:VEVENT
DTSTART;TZID=America/Chicago:20211105T180000
DTEND;TZID=America/Chicago:20211105T200000
DTSTAMP:20260423T024136
CREATED:20210730T200356Z
LAST-MODIFIED:20210730T200356Z
UID:10000748-1636135200-1636142400@fortjonesca.org
SUMMARY:AA Meeting
DESCRIPTION:
URL:https://fortjonesca.org/event/aa-meeting/2021-11-05/
END:VEVENT
BEGIN:VEVENT
DTSTART;TZID=America/Chicago:20211105T180000
DTEND;TZID=America/Chicago:20211105T200000
DTSTAMP:20260423T024136
CREATED:20210802T222003Z
LAST-MODIFIED:20210802T222700Z
UID:10000841-1636135200-1636142400@fortjonesca.org
SUMMARY:First Friday Art Reception
DESCRIPTION:Marble Rim Art Gallery Presents the artwork of Rachel Agron. Reception to be held at the Marble Rim Art Gallery at 11835 Main St. on Friday\, August 6th from 6:00 p.m. to 8:00 p.m. Artwork will be displayed through August 14.
URL:https://fortjonesca.org/event/first-friday-art-reception-2/2021-11-05/
END:VEVENT
BEGIN:VEVENT
DTSTART;VALUE=DATE:20211106
DTEND;VALUE=DATE:20211107
DTSTAMP:20260423T024136
CREATED:20211007T202429Z
LAST-MODIFIED:20211007T202429Z
UID:10000879-1636156800-1636243199@fortjonesca.org
SUMMARY:Valley Oaks Craft Faire
DESCRIPTION:Join the Valley Oaks Seniors on Saturday\, November 6 for a day of handicrafts and shopping! For additional information or to reserve your booth\, contact Mary Bebee.
URL:https://fortjonesca.org/event/valley-oaks-craft-faire/
END:VEVENT
BEGIN:VEVENT
DTSTART;TZID=America/Chicago:20211110T093000
DTEND;TZID=America/Chicago:20211110T103000
DTSTAMP:20260423T024136
CREATED:20211013T212834Z
LAST-MODIFIED:20211013T213137Z
UID:10000886-1636536600-1636540200@fortjonesca.org
SUMMARY:Wednesday Morning Yoga
DESCRIPTION:No cost\, all ages welcome! 9:30am-10:30am at City Hall. Bring a mat for the floor.
URL:https://fortjonesca.org/event/wednesday-morning-yoga/2021-11-10/
END:VEVENT
BEGIN:VEVENT
DTSTART;TZID=America/Chicago:20211112T180000
DTEND;TZID=America/Chicago:20211112T200000
DTSTAMP:20260423T024136
CREATED:20210730T200356Z
LAST-MODIFIED:20210730T200356Z
UID:10000749-1636740000-1636747200@fortjonesca.org
SUMMARY:AA Meeting
DESCRIPTION:
URL:https://fortjonesca.org/event/aa-meeting/2021-11-12/
END:VEVENT
BEGIN:VEVENT
DTSTART;TZID=America/Chicago:20211115T100000
DTEND;TZID=America/Chicago:20211115T140000
DTSTAMP:20260423T024136
CREATED:20211104T230416Z
LAST-MODIFIED:20211104T230416Z
UID:10000987-1636970400-1636984800@fortjonesca.org
SUMMARY:Vaccine Clinic
DESCRIPTION: 
URL:https://fortjonesca.org/event/vaccine-clinic/
END:VEVENT
BEGIN:VEVENT
DTSTART;TZID=America/Chicago:20211117T093000
DTEND;TZID=America/Chicago:20211117T103000
DTSTAMP:20260423T024136
CREATED:20211013T212834Z
LAST-MODIFIED:20211013T213137Z
UID:10000887-1637141400-1637145000@fortjonesca.org
SUMMARY:Wednesday Morning Yoga
DESCRIPTION:No cost\, all ages welcome! 9:30am-10:30am at City Hall. Bring a mat for the floor.
URL:https://fortjonesca.org/event/wednesday-morning-yoga/2021-11-17/
END:VEVENT
BEGIN:VEVENT
DTSTART;TZID=America/Chicago:20211119T173000
DTEND;TZID=America/Chicago:20211119T200000
DTSTAMP:20260423T024136
CREATED:20211007T203454Z
LAST-MODIFIED:20211007T203454Z
UID:10000880-1637343000-1637352000@fortjonesca.org
SUMMARY:Family Turkey Bingo
DESCRIPTION:Join the Scott Valley Rotary and Valley Oaks Seniors on November 19 for food and games! \n7300 Quartz Valley Rd Greenview \nDoors open at 5:30\, games begin at 6:30
URL:https://fortjonesca.org/event/family-turkey-bingo/
END:VEVENT
BEGIN:VEVENT
DTSTART;TZID=America/Chicago:20211119T180000
DTEND;TZID=America/Chicago:20211119T200000
DTSTAMP:20260423T024136
CREATED:20210730T200356Z
LAST-MODIFIED:20210730T200356Z
UID:10000750-1637344800-1637352000@fortjonesca.org
SUMMARY:AA Meeting
DESCRIPTION:
URL:https://fortjonesca.org/event/aa-meeting/2021-11-19/
END:VEVENT
BEGIN:VEVENT
DTSTART;TZID=America/Chicago:20211124T093000
DTEND;TZID=America/Chicago:20211124T103000
DTSTAMP:20260423T024136
CREATED:20211013T212834Z
LAST-MODIFIED:20211013T213137Z
UID:10000888-1637746200-1637749800@fortjonesca.org
SUMMARY:Wednesday Morning Yoga
DESCRIPTION:No cost\, all ages welcome! 9:30am-10:30am at City Hall. Bring a mat for the floor.
URL:https://fortjonesca.org/event/wednesday-morning-yoga/2021-11-24/
END:VEVENT
BEGIN:VEVENT
DTSTART;TZID=America/Chicago:20211126T180000
DTEND;TZID=America/Chicago:20211126T200000
DTSTAMP:20260423T024136
CREATED:20210730T200356Z
LAST-MODIFIED:20210730T200356Z
UID:10000751-1637949600-1637956800@fortjonesca.org
SUMMARY:AA Meeting
DESCRIPTION:
URL:https://fortjonesca.org/event/aa-meeting/2021-11-26/
END:VEVENT
BEGIN:VEVENT
DTSTART;TZID=America/Chicago:20211201T093000
DTEND;TZID=America/Chicago:20211201T103000
DTSTAMP:20260423T024136
CREATED:20211013T212834Z
LAST-MODIFIED:20211013T213137Z
UID:10000889-1638351000-1638354600@fortjonesca.org
SUMMARY:Wednesday Morning Yoga
DESCRIPTION:No cost\, all ages welcome! 9:30am-10:30am at City Hall. Bring a mat for the floor.
URL:https://fortjonesca.org/event/wednesday-morning-yoga/2021-12-01/
END:VEVENT
BEGIN:VEVENT
DTSTART;TZID=America/Chicago:20211203T180000
DTEND;TZID=America/Chicago:20211203T190000
DTSTAMP:20260423T024136
CREATED:20211203T214411Z
LAST-MODIFIED:20211203T214411Z
UID:10000989-1638554400-1638558000@fortjonesca.org
SUMMARY:Christmas Tree Lighting Ceremony
DESCRIPTION:Join us at 6:00pm on Main St. for our annual Christmas Tree Lighting!
URL:https://fortjonesca.org/event/christmas-tree-lighting-ceremony/
END:VEVENT
BEGIN:VEVENT
DTSTART;TZID=America/Chicago:20211203T180000
DTEND;TZID=America/Chicago:20211203T200000
DTSTAMP:20260423T024136
CREATED:20210730T200356Z
LAST-MODIFIED:20210730T200356Z
UID:10000752-1638554400-1638561600@fortjonesca.org
SUMMARY:AA Meeting
DESCRIPTION:
URL:https://fortjonesca.org/event/aa-meeting/2021-12-03/
END:VEVENT
BEGIN:VEVENT
DTSTART;TZID=America/Chicago:20211208T093000
DTEND;TZID=America/Chicago:20211208T103000
DTSTAMP:20260423T024136
CREATED:20211013T212834Z
LAST-MODIFIED:20211013T213137Z
UID:10000890-1638955800-1638959400@fortjonesca.org
SUMMARY:Wednesday Morning Yoga
DESCRIPTION:No cost\, all ages welcome! 9:30am-10:30am at City Hall. Bring a mat for the floor.
URL:https://fortjonesca.org/event/wednesday-morning-yoga/2021-12-08/
END:VEVENT
BEGIN:VEVENT
DTSTART;TZID=America/Chicago:20211210T180000
DTEND;TZID=America/Chicago:20211210T200000
DTSTAMP:20260423T024136
CREATED:20210730T200356Z
LAST-MODIFIED:20210730T200356Z
UID:10000753-1639159200-1639166400@fortjonesca.org
SUMMARY:AA Meeting
DESCRIPTION:
URL:https://fortjonesca.org/event/aa-meeting/2021-12-10/
END:VEVENT
END:VCALENDAR