BEGIN:VCALENDAR
VERSION:2.0
PRODID:-//Town of Fort Jones, Siskiyou County, CA - ECPv6.15.17.1//NONSGML v1.0//EN
CALSCALE:GREGORIAN
METHOD:PUBLISH
X-WR-CALNAME:Town of Fort Jones, Siskiyou County, CA
X-ORIGINAL-URL:https://fortjonesca.org
X-WR-CALDESC:Events for Town of Fort Jones, Siskiyou County, CA
REFRESH-INTERVAL;VALUE=DURATION:PT1H
X-Robots-Tag:noindex
X-PUBLISHED-TTL:PT1H
BEGIN:VTIMEZONE
TZID:America/Chicago
BEGIN:DAYLIGHT
TZOFFSETFROM:-0600
TZOFFSETTO:-0500
TZNAME:CDT
DTSTART:20230312T080000
END:DAYLIGHT
BEGIN:STANDARD
TZOFFSETFROM:-0500
TZOFFSETTO:-0600
TZNAME:CST
DTSTART:20231105T070000
END:STANDARD
BEGIN:DAYLIGHT
TZOFFSETFROM:-0600
TZOFFSETTO:-0500
TZNAME:CDT
DTSTART:20240310T080000
END:DAYLIGHT
BEGIN:STANDARD
TZOFFSETFROM:-0500
TZOFFSETTO:-0600
TZNAME:CST
DTSTART:20241103T070000
END:STANDARD
BEGIN:DAYLIGHT
TZOFFSETFROM:-0600
TZOFFSETTO:-0500
TZNAME:CDT
DTSTART:20250309T080000
END:DAYLIGHT
BEGIN:STANDARD
TZOFFSETFROM:-0500
TZOFFSETTO:-0600
TZNAME:CST
DTSTART:20251102T070000
END:STANDARD
END:VTIMEZONE
BEGIN:VEVENT
DTSTART;TZID=America/Chicago:20240214T180000
DTEND;TZID=America/Chicago:20240214T200000
DTSTAMP:20260425T065349
CREATED:20240129T222141Z
LAST-MODIFIED:20240129T222141Z
UID:10001352-1707933600-1707940800@fortjonesca.org
SUMMARY:Mad Players Rehearsal / Town Hall
DESCRIPTION:
URL:https://fortjonesca.org/event/mad-players-rehearsal-town-hall-10/
CATEGORIES:Clerk's Hours
END:VEVENT
BEGIN:VEVENT
DTSTART;TZID=America/Chicago:20240215T100000
DTEND;TZID=America/Chicago:20240215T120000
DTSTAMP:20260425T065349
CREATED:20240128T001533Z
LAST-MODIFIED:20240128T001533Z
UID:10001333-1707991200-1707998400@fortjonesca.org
SUMMARY:Mad Players Rehearsal / Town Hall
DESCRIPTION:
URL:https://fortjonesca.org/event/mad-players-rehearsal-town-hall-16/
CATEGORIES:Clerk's Hours
END:VEVENT
BEGIN:VEVENT
DTSTART;VALUE=DATE:20240216
DTEND;VALUE=DATE:20240217
DTSTAMP:20260425T065349
CREATED:20240128T002143Z
LAST-MODIFIED:20240128T002143Z
UID:10001335-1708041600-1708127999@fortjonesca.org
SUMMARY:Mad Players SHOW / Town Hall
DESCRIPTION:
URL:https://fortjonesca.org/event/mad-players-show-town-hall/
CATEGORIES:Clerk's Hours
END:VEVENT
BEGIN:VEVENT
DTSTART;VALUE=DATE:20240217
DTEND;VALUE=DATE:20240218
DTSTAMP:20260425T065349
CREATED:20240128T002333Z
LAST-MODIFIED:20240128T002333Z
UID:10001336-1708128000-1708214399@fortjonesca.org
SUMMARY:Mad Players SHOW / Town Hall
DESCRIPTION:
URL:https://fortjonesca.org/event/mad-players-show-town-hall-2/
CATEGORIES:Clerk's Hours
END:VEVENT
BEGIN:VEVENT
DTSTART;TZID=America/Chicago:20240224T100000
DTEND;TZID=America/Chicago:20240224T150000
DTSTAMP:20260425T065349
CREATED:20240129T222557Z
LAST-MODIFIED:20240207T000014Z
UID:10001353-1708768800-1708786800@fortjonesca.org
SUMMARY:Seed Swap (open to public / Don Flickinger) / Town Hall
DESCRIPTION:
URL:https://fortjonesca.org/event/seed-swap-open-to-public-don-flickinger/
CATEGORIES:Clerk's Hours
END:VEVENT
BEGIN:VEVENT
DTSTART;TZID=America/Chicago:20240227T090000
DTEND;TZID=America/Chicago:20240227T170000
DTSTAMP:20260425T065349
CREATED:20240311T234316Z
LAST-MODIFIED:20240311T234316Z
UID:10001583-1709024400-1709053200@fortjonesca.org
SUMMARY:Golden Eagle Charter School / Town Hall
DESCRIPTION:
URL:https://fortjonesca.org/event/golden-eagle-charter-school-town-hall-2/
CATEGORIES:Clerk's Hours
END:VEVENT
BEGIN:VEVENT
DTSTART;TZID=America/Chicago:20240227T180000
DTEND;TZID=America/Chicago:20240227T210000
DTSTAMP:20260425T065349
CREATED:20240129T223744Z
LAST-MODIFIED:20240129T223744Z
UID:10001355-1709056800-1709067600@fortjonesca.org
SUMMARY:Lions Club Meeting / Town Hall
DESCRIPTION:
URL:https://fortjonesca.org/event/lions-club-meeting-town-hall-2/
CATEGORIES:Clerk's Hours
END:VEVENT
BEGIN:VEVENT
DTSTART;TZID=America/Chicago:20240228T140000
DTEND;TZID=America/Chicago:20240228T170000
DTSTAMP:20260425T065349
CREATED:20240129T223935Z
LAST-MODIFIED:20240312T000556Z
UID:10001356-1709128800-1709139600@fortjonesca.org
SUMMARY:Scott Valley Groundwater Advisory Committee (Matt) / Town Hall
DESCRIPTION:
URL:https://fortjonesca.org/event/water-shed-council-matt-town-hall/
CATEGORIES:Clerk's Hours
END:VEVENT
BEGIN:VEVENT
DTSTART;VALUE=DATE:20240302
DTEND;VALUE=DATE:20240304
DTSTAMP:20260425T065349
CREATED:20240208T001452Z
LAST-MODIFIED:20240208T001452Z
UID:10001570-1709337600-1709510399@fortjonesca.org
SUMMARY:North Zone Fallers (private party) / Town Hall
DESCRIPTION:
URL:https://fortjonesca.org/event/north-zone-fallers-private-party-town-hall/
CATEGORIES:Clerk's Hours
END:VEVENT
BEGIN:VEVENT
DTSTART;VALUE=DATE:20240303
DTEND;VALUE=DATE:20240304
DTSTAMP:20260425T065349
CREATED:20240208T001534Z
LAST-MODIFIED:20240208T001534Z
UID:10001571-1709424000-1709510399@fortjonesca.org
SUMMARY:North Zone Fallers (private party) / Town Hall
DESCRIPTION:
URL:https://fortjonesca.org/event/north-zone-fallers-private-party-town-hall-2/
CATEGORIES:Clerk's Hours
END:VEVENT
BEGIN:VEVENT
DTSTART;VALUE=DATE:20240305
DTEND;VALUE=DATE:20240306
DTSTAMP:20260425T065349
CREATED:20240208T001958Z
LAST-MODIFIED:20240208T002035Z
UID:10001572-1709596800-1709683199@fortjonesca.org
SUMMARY:Presidential Primary Elections / Town Hall
DESCRIPTION:
URL:https://fortjonesca.org/event/presidential-primary-elections/
CATEGORIES:Clerk's Hours
END:VEVENT
BEGIN:VEVENT
DTSTART;TZID=America/Chicago:20240307T190000
DTEND;TZID=America/Chicago:20240307T210000
DTSTAMP:20260425T065349
CREATED:20240208T002158Z
LAST-MODIFIED:20240208T002158Z
UID:10001573-1709838000-1709845200@fortjonesca.org
SUMMARY:Backcountry Horsemen / Town Hall
DESCRIPTION:
URL:https://fortjonesca.org/event/backcountry-horsemen-town-hall-2/
CATEGORIES:Clerk's Hours
END:VEVENT
BEGIN:VEVENT
DTSTART;TZID=America/Chicago:20240309T100000
DTEND;TZID=America/Chicago:20240309T120000
DTSTAMP:20260425T065349
CREATED:20240311T234613Z
LAST-MODIFIED:20240311T234613Z
UID:10001584-1709978400-1709985600@fortjonesca.org
SUMMARY:Scott Valley Gem and Mineral Society / Town Hall
DESCRIPTION:
URL:https://fortjonesca.org/event/scott-valley-gem-and-mineral-society-town-hall-2/
CATEGORIES:Clerk's Hours
END:VEVENT
BEGIN:VEVENT
DTSTART;TZID=America/Chicago:20240309T120000
DTEND;TZID=America/Chicago:20240309T190000
DTSTAMP:20260425T065349
CREATED:20240208T002314Z
LAST-MODIFIED:20240208T002314Z
UID:10001574-1709985600-1710010800@fortjonesca.org
SUMMARY:Sally B-Day party (private event) / Town Hall
DESCRIPTION:
URL:https://fortjonesca.org/event/sally-b-day-party-private-event-town-hall/
CATEGORIES:Clerk's Hours
END:VEVENT
BEGIN:VEVENT
DTSTART;TZID=America/Chicago:20240311T190000
DTEND;TZID=America/Chicago:20240311T220000
DTSTAMP:20260425T065349
CREATED:20240311T234659Z
LAST-MODIFIED:20240311T234659Z
UID:10001585-1710183600-1710194400@fortjonesca.org
SUMMARY:City Council Meeting / Town Hall
DESCRIPTION:
URL:https://fortjonesca.org/event/city-council-meeting-town-hall/
CATEGORIES:Clerk's Hours
END:VEVENT
BEGIN:VEVENT
DTSTART;TZID=America/Chicago:20240312T090000
DTEND;TZID=America/Chicago:20240312T170000
DTSTAMP:20260425T065349
CREATED:20240311T234833Z
LAST-MODIFIED:20240311T234833Z
UID:10001586-1710234000-1710262800@fortjonesca.org
SUMMARY:Golden Eagle Charter School / Town Hall
DESCRIPTION:
URL:https://fortjonesca.org/event/golden-eagle-charter-school-town-hall-3/
CATEGORIES:Clerk's Hours
END:VEVENT
BEGIN:VEVENT
DTSTART;TZID=America/Chicago:20240312T190000
DTEND;TZID=America/Chicago:20240312T200000
DTSTAMP:20260425T065349
CREATED:20240208T002543Z
LAST-MODIFIED:20240208T002543Z
UID:10001575-1710270000-1710273600@fortjonesca.org
SUMMARY:Lions Club Meeting / Town Hall
DESCRIPTION:
URL:https://fortjonesca.org/event/lions-club-meeting-town-hall-3/
CATEGORIES:Clerk's Hours
END:VEVENT
BEGIN:VEVENT
DTSTART;TZID=America/Chicago:20240313T100000
DTEND;TZID=America/Chicago:20240313T120000
DTSTAMP:20260425T065349
CREATED:20240208T002657Z
LAST-MODIFIED:20240208T002657Z
UID:10001576-1710324000-1710331200@fortjonesca.org
SUMMARY:Siskiyou County Public Health Vaccine Clinic / Town Hall
DESCRIPTION:
URL:https://fortjonesca.org/event/siskiyou-county-public-health-vaccine-clinic-town-hall/
CATEGORIES:Clerk's Hours
END:VEVENT
BEGIN:VEVENT
DTSTART;TZID=America/Chicago:20240316T180000
DTEND;TZID=America/Chicago:20240316T210000
DTSTAMP:20260425T065349
CREATED:20240208T002745Z
LAST-MODIFIED:20240208T002745Z
UID:10001577-1710612000-1710622800@fortjonesca.org
SUMMARY:Backcountry Horsemen (Dinner Party) / Town Hall
DESCRIPTION:
URL:https://fortjonesca.org/event/backcountry-horsemen-dinner-party-town-hall/
CATEGORIES:Clerk's Hours
END:VEVENT
BEGIN:VEVENT
DTSTART;TZID=America/Chicago:20240319T090000
DTEND;TZID=America/Chicago:20240319T170000
DTSTAMP:20260425T065349
CREATED:20240311T234911Z
LAST-MODIFIED:20240311T234911Z
UID:10001587-1710838800-1710867600@fortjonesca.org
SUMMARY:Golden Eagle Charter School / Town Hall
DESCRIPTION:
URL:https://fortjonesca.org/event/golden-eagle-charter-school-town-hall-4/
CATEGORIES:Clerk's Hours
END:VEVENT
BEGIN:VEVENT
DTSTART;TZID=America/Chicago:20240326T180000
DTEND;TZID=America/Chicago:20240326T190000
DTSTAMP:20260425T065349
CREATED:20240208T003027Z
LAST-MODIFIED:20240208T003027Z
UID:10001578-1711476000-1711479600@fortjonesca.org
SUMMARY:Lions Club Meeting / Town Hall
DESCRIPTION:
URL:https://fortjonesca.org/event/lions-club-meeting-town-hall-4/
CATEGORIES:Clerk's Hours
END:VEVENT
BEGIN:VEVENT
DTSTART;VALUE=DATE:20240328
DTEND;VALUE=DATE:20240329
DTSTAMP:20260425T065349
CREATED:20240208T003056Z
LAST-MODIFIED:20240208T003134Z
UID:10001579-1711584000-1711670399@fortjonesca.org
SUMMARY:Blood Drive / Town Hall
DESCRIPTION:
URL:https://fortjonesca.org/event/blood-drive/
CATEGORIES:Clerk's Hours
END:VEVENT
BEGIN:VEVENT
DTSTART;VALUE=DATE:20240330
DTEND;VALUE=DATE:20240331
DTSTAMP:20260425T065349
CREATED:20240208T003242Z
LAST-MODIFIED:20240208T003242Z
UID:10001580-1711756800-1711843199@fortjonesca.org
SUMMARY:Josefina Baby Shower (private party) / Town Hall
DESCRIPTION:
URL:https://fortjonesca.org/event/josefina-baby-shower-private-party-town-hall/
CATEGORIES:Clerk's Hours
END:VEVENT
BEGIN:VEVENT
DTSTART;TZID=America/Chicago:20240513T180000
DTEND;TZID=America/Chicago:20240513T210000
DTSTAMP:20260425T065349
CREATED:20240506T230415Z
LAST-MODIFIED:20240506T230415Z
UID:10001588-1715623200-1715634000@fortjonesca.org
SUMMARY:Regular City Council Meeting
DESCRIPTION:
URL:https://fortjonesca.org/event/regular-city-council-meeting/
END:VEVENT
BEGIN:VEVENT
DTSTART;TZID=America/Chicago:20241022T100000
DTEND;TZID=America/Chicago:20241022T120000
DTSTAMP:20260425T065349
CREATED:20241022T172457Z
LAST-MODIFIED:20241022T173820Z
UID:10001706-1729591200-1729598400@fortjonesca.org
SUMMARY:Public Health Vaccination Clinic
DESCRIPTION:Happening Now!
URL:https://fortjonesca.org/event/public-health-vaccination-clinic/
CATEGORIES:City Council
ATTACH;FMTTYPE=image/jpeg:https://cdn.townweb.com/fortjonesca.org/wp-content/uploads/2024/10/FJ-Vaccination-Clinic-1.jpg
END:VEVENT
BEGIN:VEVENT
DTSTART;TZID=America/Chicago:20241023T140000
DTEND;TZID=America/Chicago:20241023T160000
DTSTAMP:20260425T065349
CREATED:20241022T223152Z
LAST-MODIFIED:20241022T223152Z
UID:10001710-1729692000-1729699200@fortjonesca.org
SUMMARY:Diabetes Empowerment Class
DESCRIPTION:
URL:https://fortjonesca.org/event/diabetes-empowerment-class/2024-10-23/
CATEGORIES:City Council
ATTACH;FMTTYPE=image/jpeg:https://cdn.townweb.com/fortjonesca.org/wp-content/uploads/2024/10/Deep-Diabetes-1-scaled.jpg
END:VEVENT
BEGIN:VEVENT
DTSTART;TZID=America/Chicago:20241025T113000
DTEND;TZID=America/Chicago:20241025T153000
DTSTAMP:20260425T065349
CREATED:20241018T211029Z
LAST-MODIFIED:20241018T211029Z
UID:10001598-1729855800-1729870200@fortjonesca.org
SUMMARY:Blood Drive
DESCRIPTION:
URL:https://fortjonesca.org/event/blood-drive-2/
CATEGORIES:City Council
ATTACH;FMTTYPE=image/jpeg:https://cdn.townweb.com/fortjonesca.org/wp-content/uploads/2024/10/Blood-Drive-1.jpg
END:VEVENT
BEGIN:VEVENT
DTSTART;TZID=America/Chicago:20241026T130000
DTEND;TZID=America/Chicago:20241026T150000
DTSTAMP:20260425T065349
CREATED:20241016T153828Z
LAST-MODIFIED:20241016T153828Z
UID:10001589-1729947600-1729954800@fortjonesca.org
SUMMARY:Trunk or Treat
DESCRIPTION:
URL:https://fortjonesca.org/event/trunk-or-treat-2/
CATEGORIES:Town Board
ATTACH;FMTTYPE=image/jpeg:https://cdn.townweb.com/fortjonesca.org/wp-content/uploads/2024/10/Trunk-or-Treat-1.jpg
END:VEVENT
BEGIN:VEVENT
DTSTART;TZID=America/Chicago:20241030T140000
DTEND;TZID=America/Chicago:20241030T160000
DTSTAMP:20260425T065349
CREATED:20241022T223152Z
LAST-MODIFIED:20241022T223152Z
UID:10001711-1730296800-1730304000@fortjonesca.org
SUMMARY:Diabetes Empowerment Class
DESCRIPTION:
URL:https://fortjonesca.org/event/diabetes-empowerment-class/2024-10-30/
CATEGORIES:City Council
ATTACH;FMTTYPE=image/jpeg:https://cdn.townweb.com/fortjonesca.org/wp-content/uploads/2024/10/Deep-Diabetes-1-scaled.jpg
END:VEVENT
BEGIN:VEVENT
DTSTART;TZID=America/Chicago:20241102T090000
DTEND;TZID=America/Chicago:20241102T150000
DTSTAMP:20260425T065349
CREATED:20241018T212927Z
LAST-MODIFIED:20241018T212927Z
UID:10001599-1730538000-1730559600@fortjonesca.org
SUMMARY:Shopapalooza
DESCRIPTION:Vendor Fair and Raffle \nSacred Heart Parish Center
URL:https://fortjonesca.org/event/shopapalooza/
CATEGORIES:City Council
END:VEVENT
END:VCALENDAR