BEGIN:VCALENDAR
VERSION:2.0
PRODID:-//Town of Fort Jones, Siskiyou County, CA - ECPv6.15.17.1//NONSGML v1.0//EN
CALSCALE:GREGORIAN
METHOD:PUBLISH
X-WR-CALNAME:Town of Fort Jones, Siskiyou County, CA
X-ORIGINAL-URL:https://fortjonesca.org
X-WR-CALDESC:Events for Town of Fort Jones, Siskiyou County, CA
REFRESH-INTERVAL;VALUE=DURATION:PT1H
X-Robots-Tag:noindex
X-PUBLISHED-TTL:PT1H
BEGIN:VTIMEZONE
TZID:America/Chicago
BEGIN:DAYLIGHT
TZOFFSETFROM:-0600
TZOFFSETTO:-0500
TZNAME:CDT
DTSTART:20150308T080000
END:DAYLIGHT
BEGIN:STANDARD
TZOFFSETFROM:-0500
TZOFFSETTO:-0600
TZNAME:CST
DTSTART:20151101T070000
END:STANDARD
BEGIN:DAYLIGHT
TZOFFSETFROM:-0600
TZOFFSETTO:-0500
TZNAME:CDT
DTSTART:20160313T080000
END:DAYLIGHT
BEGIN:STANDARD
TZOFFSETFROM:-0500
TZOFFSETTO:-0600
TZNAME:CST
DTSTART:20161106T070000
END:STANDARD
BEGIN:DAYLIGHT
TZOFFSETFROM:-0600
TZOFFSETTO:-0500
TZNAME:CDT
DTSTART:20170312T080000
END:DAYLIGHT
BEGIN:STANDARD
TZOFFSETFROM:-0500
TZOFFSETTO:-0600
TZNAME:CST
DTSTART:20171105T070000
END:STANDARD
END:VTIMEZONE
BEGIN:VEVENT
DTSTART;TZID=America/Chicago:20160601T180500
DTEND;TZID=America/Chicago:20160601T220900
DTSTAMP:20260424T013749
CREATED:20150711T230500Z
LAST-MODIFIED:20150711T230500Z
UID:10000328-1464804300-1464818940@fortjonesca.org
SUMMARY:Regular Garbage & Recycling Pickup
DESCRIPTION:Trash pickup starts in town at 7am.
URL:https://fortjonesca.org/event/regular-garbage-recycling-pickup/2016-06-01/
END:VEVENT
BEGIN:VEVENT
DTSTART;TZID=America/Chicago:20160601T080000
DTEND;TZID=America/Chicago:20160601T120000
DTSTAMP:20260424T013749
CREATED:20150812T130000Z
LAST-MODIFIED:20150812T130000Z
UID:10000577-1464768000-1464782400@fortjonesca.org
SUMMARY:Clerks Hours
DESCRIPTION:Am in the office from 8am to noon
URL:https://fortjonesca.org/event/clerks-hours/2016-06-01/
END:VEVENT
BEGIN:VEVENT
DTSTART;TZID=America/Chicago:20160531T180500
DTEND;TZID=America/Chicago:20160531T220900
DTSTAMP:20260424T013749
CREATED:20150711T230500Z
LAST-MODIFIED:20150711T230500Z
UID:10000327-1464717900-1464732540@fortjonesca.org
SUMMARY:Regular Garbage & Recycling Pickup
DESCRIPTION:Trash pickup starts in town at 7am.
URL:https://fortjonesca.org/event/regular-garbage-recycling-pickup/2016-05-31/
END:VEVENT
BEGIN:VEVENT
DTSTART;TZID=America/Chicago:20160530T180500
DTEND;TZID=America/Chicago:20160530T220900
DTSTAMP:20260424T013749
CREATED:20150711T230500Z
LAST-MODIFIED:20150711T230500Z
UID:10000326-1464631500-1464646140@fortjonesca.org
SUMMARY:Regular Garbage & Recycling Pickup
DESCRIPTION:Trash pickup starts in town at 7am.
URL:https://fortjonesca.org/event/regular-garbage-recycling-pickup/2016-05-30/
END:VEVENT
BEGIN:VEVENT
DTSTART;TZID=America/Chicago:20160529T180500
DTEND;TZID=America/Chicago:20160529T220900
DTSTAMP:20260424T013749
CREATED:20150711T230500Z
LAST-MODIFIED:20150711T230500Z
UID:10000325-1464545100-1464559740@fortjonesca.org
SUMMARY:Regular Garbage & Recycling Pickup
DESCRIPTION:Trash pickup starts in town at 7am.
URL:https://fortjonesca.org/event/regular-garbage-recycling-pickup/2016-05-29/
END:VEVENT
BEGIN:VEVENT
DTSTART;TZID=America/Chicago:20160528T180500
DTEND;TZID=America/Chicago:20160528T220900
DTSTAMP:20260424T013749
CREATED:20150711T230500Z
LAST-MODIFIED:20150711T230500Z
UID:10000324-1464458700-1464473340@fortjonesca.org
SUMMARY:Regular Garbage & Recycling Pickup
DESCRIPTION:Trash pickup starts in town at 7am.
URL:https://fortjonesca.org/event/regular-garbage-recycling-pickup/2016-05-28/
END:VEVENT
BEGIN:VEVENT
DTSTART;TZID=America/Chicago:20160527T180500
DTEND;TZID=America/Chicago:20160527T220900
DTSTAMP:20260424T013749
CREATED:20150711T230500Z
LAST-MODIFIED:20150711T230500Z
UID:10000323-1464372300-1464386940@fortjonesca.org
SUMMARY:Regular Garbage & Recycling Pickup
DESCRIPTION:Trash pickup starts in town at 7am.
URL:https://fortjonesca.org/event/regular-garbage-recycling-pickup/2016-05-27/
END:VEVENT
BEGIN:VEVENT
DTSTART;TZID=America/Chicago:20160526T180500
DTEND;TZID=America/Chicago:20160526T220900
DTSTAMP:20260424T013749
CREATED:20150711T230500Z
LAST-MODIFIED:20150711T230500Z
UID:10000322-1464285900-1464300540@fortjonesca.org
SUMMARY:Regular Garbage & Recycling Pickup
DESCRIPTION:Trash pickup starts in town at 7am.
URL:https://fortjonesca.org/event/regular-garbage-recycling-pickup/2016-05-26/
END:VEVENT
BEGIN:VEVENT
DTSTART;TZID=America/Chicago:20160525T180500
DTEND;TZID=America/Chicago:20160525T220900
DTSTAMP:20260424T013749
CREATED:20150711T230500Z
LAST-MODIFIED:20150711T230500Z
UID:10000321-1464199500-1464214140@fortjonesca.org
SUMMARY:Regular Garbage & Recycling Pickup
DESCRIPTION:Trash pickup starts in town at 7am.
URL:https://fortjonesca.org/event/regular-garbage-recycling-pickup/2016-05-25/
END:VEVENT
BEGIN:VEVENT
DTSTART;TZID=America/Chicago:20160525T080000
DTEND;TZID=America/Chicago:20160525T120000
DTSTAMP:20260424T013749
CREATED:20150812T130000Z
LAST-MODIFIED:20150812T130000Z
UID:10000576-1464163200-1464177600@fortjonesca.org
SUMMARY:Clerks Hours
DESCRIPTION:Am in the office from 8am to noon
URL:https://fortjonesca.org/event/clerks-hours/2016-05-25/
END:VEVENT
BEGIN:VEVENT
DTSTART;TZID=America/Chicago:20160524T180500
DTEND;TZID=America/Chicago:20160524T220900
DTSTAMP:20260424T013749
CREATED:20150711T230500Z
LAST-MODIFIED:20150711T230500Z
UID:10000320-1464113100-1464127740@fortjonesca.org
SUMMARY:Regular Garbage & Recycling Pickup
DESCRIPTION:Trash pickup starts in town at 7am.
URL:https://fortjonesca.org/event/regular-garbage-recycling-pickup/2016-05-24/
END:VEVENT
BEGIN:VEVENT
DTSTART;TZID=America/Chicago:20160523T180500
DTEND;TZID=America/Chicago:20160523T220900
DTSTAMP:20260424T013749
CREATED:20150711T230500Z
LAST-MODIFIED:20150711T230500Z
UID:10000319-1464026700-1464041340@fortjonesca.org
SUMMARY:Regular Garbage & Recycling Pickup
DESCRIPTION:Trash pickup starts in town at 7am.
URL:https://fortjonesca.org/event/regular-garbage-recycling-pickup/2016-05-23/
END:VEVENT
BEGIN:VEVENT
DTSTART;TZID=America/Chicago:20160522T180500
DTEND;TZID=America/Chicago:20160522T220900
DTSTAMP:20260424T013749
CREATED:20150711T230500Z
LAST-MODIFIED:20150711T230500Z
UID:10000318-1463940300-1463954940@fortjonesca.org
SUMMARY:Regular Garbage & Recycling Pickup
DESCRIPTION:Trash pickup starts in town at 7am.
URL:https://fortjonesca.org/event/regular-garbage-recycling-pickup/2016-05-22/
END:VEVENT
BEGIN:VEVENT
DTSTART;TZID=America/Chicago:20160521T180500
DTEND;TZID=America/Chicago:20160521T220900
DTSTAMP:20260424T013749
CREATED:20150711T230500Z
LAST-MODIFIED:20150711T230500Z
UID:10000317-1463853900-1463868540@fortjonesca.org
SUMMARY:Regular Garbage & Recycling Pickup
DESCRIPTION:Trash pickup starts in town at 7am.
URL:https://fortjonesca.org/event/regular-garbage-recycling-pickup/2016-05-21/
END:VEVENT
BEGIN:VEVENT
DTSTART;TZID=America/Chicago:20160520T180500
DTEND;TZID=America/Chicago:20160520T220900
DTSTAMP:20260424T013749
CREATED:20150711T230500Z
LAST-MODIFIED:20150711T230500Z
UID:10000316-1463767500-1463782140@fortjonesca.org
SUMMARY:Regular Garbage & Recycling Pickup
DESCRIPTION:Trash pickup starts in town at 7am.
URL:https://fortjonesca.org/event/regular-garbage-recycling-pickup/2016-05-20/
END:VEVENT
BEGIN:VEVENT
DTSTART;TZID=America/Chicago:20160519T180500
DTEND;TZID=America/Chicago:20160519T220900
DTSTAMP:20260424T013749
CREATED:20150711T230500Z
LAST-MODIFIED:20150711T230500Z
UID:10000315-1463681100-1463695740@fortjonesca.org
SUMMARY:Regular Garbage & Recycling Pickup
DESCRIPTION:Trash pickup starts in town at 7am.
URL:https://fortjonesca.org/event/regular-garbage-recycling-pickup/2016-05-19/
END:VEVENT
BEGIN:VEVENT
DTSTART;TZID=America/Chicago:20160518T180500
DTEND;TZID=America/Chicago:20160518T220900
DTSTAMP:20260424T013749
CREATED:20150711T230500Z
LAST-MODIFIED:20150711T230500Z
UID:10000314-1463594700-1463609340@fortjonesca.org
SUMMARY:Regular Garbage & Recycling Pickup
DESCRIPTION:Trash pickup starts in town at 7am.
URL:https://fortjonesca.org/event/regular-garbage-recycling-pickup/2016-05-18/
END:VEVENT
BEGIN:VEVENT
DTSTART;TZID=America/Chicago:20160518T080000
DTEND;TZID=America/Chicago:20160518T120000
DTSTAMP:20260424T013749
CREATED:20150812T130000Z
LAST-MODIFIED:20150812T130000Z
UID:10000575-1463558400-1463572800@fortjonesca.org
SUMMARY:Clerks Hours
DESCRIPTION:Am in the office from 8am to noon
URL:https://fortjonesca.org/event/clerks-hours/2016-05-18/
END:VEVENT
BEGIN:VEVENT
DTSTART;TZID=America/Chicago:20160517T180500
DTEND;TZID=America/Chicago:20160517T220900
DTSTAMP:20260424T013749
CREATED:20150711T230500Z
LAST-MODIFIED:20150711T230500Z
UID:10000313-1463508300-1463522940@fortjonesca.org
SUMMARY:Regular Garbage & Recycling Pickup
DESCRIPTION:Trash pickup starts in town at 7am.
URL:https://fortjonesca.org/event/regular-garbage-recycling-pickup/2016-05-17/
END:VEVENT
BEGIN:VEVENT
DTSTART;TZID=America/Chicago:20160516T180500
DTEND;TZID=America/Chicago:20160516T220900
DTSTAMP:20260424T013749
CREATED:20150711T230500Z
LAST-MODIFIED:20150711T230500Z
UID:10000312-1463421900-1463436540@fortjonesca.org
SUMMARY:Regular Garbage & Recycling Pickup
DESCRIPTION:Trash pickup starts in town at 7am.
URL:https://fortjonesca.org/event/regular-garbage-recycling-pickup/2016-05-16/
END:VEVENT
BEGIN:VEVENT
DTSTART;TZID=America/Chicago:20160515T180500
DTEND;TZID=America/Chicago:20160515T220900
DTSTAMP:20260424T013749
CREATED:20150711T230500Z
LAST-MODIFIED:20150711T230500Z
UID:10000311-1463335500-1463350140@fortjonesca.org
SUMMARY:Regular Garbage & Recycling Pickup
DESCRIPTION:Trash pickup starts in town at 7am.
URL:https://fortjonesca.org/event/regular-garbage-recycling-pickup/2016-05-15/
END:VEVENT
BEGIN:VEVENT
DTSTART;TZID=America/Chicago:20160514T180500
DTEND;TZID=America/Chicago:20160514T220900
DTSTAMP:20260424T013749
CREATED:20150711T230500Z
LAST-MODIFIED:20150711T230500Z
UID:10000310-1463249100-1463263740@fortjonesca.org
SUMMARY:Regular Garbage & Recycling Pickup
DESCRIPTION:Trash pickup starts in town at 7am.
URL:https://fortjonesca.org/event/regular-garbage-recycling-pickup/2016-05-14/
END:VEVENT
BEGIN:VEVENT
DTSTART;TZID=America/Chicago:20160513T180500
DTEND;TZID=America/Chicago:20160513T220900
DTSTAMP:20260424T013749
CREATED:20150711T230500Z
LAST-MODIFIED:20150711T230500Z
UID:10000309-1463162700-1463177340@fortjonesca.org
SUMMARY:Regular Garbage & Recycling Pickup
DESCRIPTION:Trash pickup starts in town at 7am.
URL:https://fortjonesca.org/event/regular-garbage-recycling-pickup/2016-05-13/
END:VEVENT
BEGIN:VEVENT
DTSTART;TZID=America/Chicago:20160512T180500
DTEND;TZID=America/Chicago:20160512T220900
DTSTAMP:20260424T013749
CREATED:20150711T230500Z
LAST-MODIFIED:20150711T230500Z
UID:10000308-1463076300-1463090940@fortjonesca.org
SUMMARY:Regular Garbage & Recycling Pickup
DESCRIPTION:Trash pickup starts in town at 7am.
URL:https://fortjonesca.org/event/regular-garbage-recycling-pickup/2016-05-12/
END:VEVENT
BEGIN:VEVENT
DTSTART;TZID=America/Chicago:20160511T180500
DTEND;TZID=America/Chicago:20160511T220900
DTSTAMP:20260424T013749
CREATED:20150711T230500Z
LAST-MODIFIED:20150711T230500Z
UID:10000307-1462989900-1463004540@fortjonesca.org
SUMMARY:Regular Garbage & Recycling Pickup
DESCRIPTION:Trash pickup starts in town at 7am.
URL:https://fortjonesca.org/event/regular-garbage-recycling-pickup/2016-05-11/
END:VEVENT
BEGIN:VEVENT
DTSTART;TZID=America/Chicago:20160511T080000
DTEND;TZID=America/Chicago:20160511T120000
DTSTAMP:20260424T013749
CREATED:20150812T130000Z
LAST-MODIFIED:20150812T130000Z
UID:10000574-1462953600-1462968000@fortjonesca.org
SUMMARY:Clerks Hours
DESCRIPTION:Am in the office from 8am to noon
URL:https://fortjonesca.org/event/clerks-hours/2016-05-11/
END:VEVENT
BEGIN:VEVENT
DTSTART;TZID=America/Chicago:20160510T180500
DTEND;TZID=America/Chicago:20160510T220900
DTSTAMP:20260424T013749
CREATED:20150711T230500Z
LAST-MODIFIED:20150711T230500Z
UID:10000306-1462903500-1462918140@fortjonesca.org
SUMMARY:Regular Garbage & Recycling Pickup
DESCRIPTION:Trash pickup starts in town at 7am.
URL:https://fortjonesca.org/event/regular-garbage-recycling-pickup/2016-05-10/
END:VEVENT
BEGIN:VEVENT
DTSTART;TZID=America/Chicago:20160509T180500
DTEND;TZID=America/Chicago:20160509T220900
DTSTAMP:20260424T013749
CREATED:20150711T230500Z
LAST-MODIFIED:20150711T230500Z
UID:10000305-1462817100-1462831740@fortjonesca.org
SUMMARY:Regular Garbage & Recycling Pickup
DESCRIPTION:Trash pickup starts in town at 7am.
URL:https://fortjonesca.org/event/regular-garbage-recycling-pickup/2016-05-09/
END:VEVENT
BEGIN:VEVENT
DTSTART;TZID=America/Chicago:20160508T180500
DTEND;TZID=America/Chicago:20160508T220900
DTSTAMP:20260424T013749
CREATED:20150711T230500Z
LAST-MODIFIED:20150711T230500Z
UID:10000304-1462730700-1462745340@fortjonesca.org
SUMMARY:Regular Garbage & Recycling Pickup
DESCRIPTION:Trash pickup starts in town at 7am.
URL:https://fortjonesca.org/event/regular-garbage-recycling-pickup/2016-05-08/
END:VEVENT
BEGIN:VEVENT
DTSTART;TZID=America/Chicago:20160507T180500
DTEND;TZID=America/Chicago:20160507T220900
DTSTAMP:20260424T013749
CREATED:20150711T230500Z
LAST-MODIFIED:20150711T230500Z
UID:10000303-1462644300-1462658940@fortjonesca.org
SUMMARY:Regular Garbage & Recycling Pickup
DESCRIPTION:Trash pickup starts in town at 7am.
URL:https://fortjonesca.org/event/regular-garbage-recycling-pickup/2016-05-07/
END:VEVENT
END:VCALENDAR