BEGIN:VCALENDAR
VERSION:2.0
PRODID:-//Town of Fort Jones, Siskiyou County, CA - ECPv6.15.17.1//NONSGML v1.0//EN
CALSCALE:GREGORIAN
METHOD:PUBLISH
X-WR-CALNAME:Town of Fort Jones, Siskiyou County, CA
X-ORIGINAL-URL:https://fortjonesca.org
X-WR-CALDESC:Events for Town of Fort Jones, Siskiyou County, CA
REFRESH-INTERVAL;VALUE=DURATION:PT1H
X-Robots-Tag:noindex
X-PUBLISHED-TTL:PT1H
BEGIN:VTIMEZONE
TZID:America/Chicago
BEGIN:DAYLIGHT
TZOFFSETFROM:-0600
TZOFFSETTO:-0500
TZNAME:CDT
DTSTART:20150308T080000
END:DAYLIGHT
BEGIN:STANDARD
TZOFFSETFROM:-0500
TZOFFSETTO:-0600
TZNAME:CST
DTSTART:20151101T070000
END:STANDARD
BEGIN:DAYLIGHT
TZOFFSETFROM:-0600
TZOFFSETTO:-0500
TZNAME:CDT
DTSTART:20160313T080000
END:DAYLIGHT
BEGIN:STANDARD
TZOFFSETFROM:-0500
TZOFFSETTO:-0600
TZNAME:CST
DTSTART:20161106T070000
END:STANDARD
BEGIN:DAYLIGHT
TZOFFSETFROM:-0600
TZOFFSETTO:-0500
TZNAME:CDT
DTSTART:20170312T080000
END:DAYLIGHT
BEGIN:STANDARD
TZOFFSETFROM:-0500
TZOFFSETTO:-0600
TZNAME:CST
DTSTART:20171105T070000
END:STANDARD
END:VTIMEZONE
BEGIN:VEVENT
DTSTART;TZID=America/Chicago:20160712T180500
DTEND;TZID=America/Chicago:20160712T220900
DTSTAMP:20260423T192807
CREATED:20150711T230500Z
LAST-MODIFIED:20150711T230500Z
UID:10000369-1468346700-1468361340@fortjonesca.org
SUMMARY:Regular Garbage & Recycling Pickup
DESCRIPTION:Trash pickup starts in town at 7am.
URL:https://fortjonesca.org/event/regular-garbage-recycling-pickup/2016-07-12/
END:VEVENT
BEGIN:VEVENT
DTSTART;TZID=America/Chicago:20160711T180500
DTEND;TZID=America/Chicago:20160711T220900
DTSTAMP:20260423T192807
CREATED:20150711T230500Z
LAST-MODIFIED:20150711T230500Z
UID:10000368-1468260300-1468274940@fortjonesca.org
SUMMARY:Regular Garbage & Recycling Pickup
DESCRIPTION:Trash pickup starts in town at 7am.
URL:https://fortjonesca.org/event/regular-garbage-recycling-pickup/2016-07-11/
END:VEVENT
BEGIN:VEVENT
DTSTART;TZID=America/Chicago:20160710T180500
DTEND;TZID=America/Chicago:20160710T220900
DTSTAMP:20260423T192807
CREATED:20150711T230500Z
LAST-MODIFIED:20150711T230500Z
UID:10000367-1468173900-1468188540@fortjonesca.org
SUMMARY:Regular Garbage & Recycling Pickup
DESCRIPTION:Trash pickup starts in town at 7am.
URL:https://fortjonesca.org/event/regular-garbage-recycling-pickup/2016-07-10/
END:VEVENT
BEGIN:VEVENT
DTSTART;TZID=America/Chicago:20160709T180500
DTEND;TZID=America/Chicago:20160709T220900
DTSTAMP:20260423T192807
CREATED:20150711T230500Z
LAST-MODIFIED:20150711T230500Z
UID:10000366-1468087500-1468102140@fortjonesca.org
SUMMARY:Regular Garbage & Recycling Pickup
DESCRIPTION:Trash pickup starts in town at 7am.
URL:https://fortjonesca.org/event/regular-garbage-recycling-pickup/2016-07-09/
END:VEVENT
BEGIN:VEVENT
DTSTART;TZID=America/Chicago:20160708T180500
DTEND;TZID=America/Chicago:20160708T220900
DTSTAMP:20260423T192807
CREATED:20150711T230500Z
LAST-MODIFIED:20150711T230500Z
UID:10000365-1468001100-1468015740@fortjonesca.org
SUMMARY:Regular Garbage & Recycling Pickup
DESCRIPTION:Trash pickup starts in town at 7am.
URL:https://fortjonesca.org/event/regular-garbage-recycling-pickup/2016-07-08/
END:VEVENT
BEGIN:VEVENT
DTSTART;TZID=America/Chicago:20160707T180500
DTEND;TZID=America/Chicago:20160707T220900
DTSTAMP:20260423T192807
CREATED:20150711T230500Z
LAST-MODIFIED:20150711T230500Z
UID:10000364-1467914700-1467929340@fortjonesca.org
SUMMARY:Regular Garbage & Recycling Pickup
DESCRIPTION:Trash pickup starts in town at 7am.
URL:https://fortjonesca.org/event/regular-garbage-recycling-pickup/2016-07-07/
END:VEVENT
BEGIN:VEVENT
DTSTART;TZID=America/Chicago:20160706T180500
DTEND;TZID=America/Chicago:20160706T220900
DTSTAMP:20260423T192807
CREATED:20150711T230500Z
LAST-MODIFIED:20150711T230500Z
UID:10000363-1467828300-1467842940@fortjonesca.org
SUMMARY:Regular Garbage & Recycling Pickup
DESCRIPTION:Trash pickup starts in town at 7am.
URL:https://fortjonesca.org/event/regular-garbage-recycling-pickup/2016-07-06/
END:VEVENT
BEGIN:VEVENT
DTSTART;TZID=America/Chicago:20160706T080000
DTEND;TZID=America/Chicago:20160706T120000
DTSTAMP:20260423T192807
CREATED:20150812T130000Z
LAST-MODIFIED:20150812T130000Z
UID:10000582-1467792000-1467806400@fortjonesca.org
SUMMARY:Clerks Hours
DESCRIPTION:Am in the office from 8am to noon
URL:https://fortjonesca.org/event/clerks-hours/2016-07-06/
END:VEVENT
BEGIN:VEVENT
DTSTART;TZID=America/Chicago:20160705T180500
DTEND;TZID=America/Chicago:20160705T220900
DTSTAMP:20260423T192807
CREATED:20150711T230500Z
LAST-MODIFIED:20150711T230500Z
UID:10000362-1467741900-1467756540@fortjonesca.org
SUMMARY:Regular Garbage & Recycling Pickup
DESCRIPTION:Trash pickup starts in town at 7am.
URL:https://fortjonesca.org/event/regular-garbage-recycling-pickup/2016-07-05/
END:VEVENT
BEGIN:VEVENT
DTSTART;TZID=America/Chicago:20160704T190000
DTEND;TZID=America/Chicago:20160704T190000
DTSTAMP:20260423T192807
CREATED:20150805T000000Z
LAST-MODIFIED:20190314T152300Z
UID:10000501-1467658800-1467658800@fortjonesca.org
SUMMARY:City Council Meeting
DESCRIPTION:
URL:https://fortjonesca.org/event/city-council-meeting/2016-07-04/
END:VEVENT
BEGIN:VEVENT
DTSTART;TZID=America/Chicago:20160704T180500
DTEND;TZID=America/Chicago:20160704T220900
DTSTAMP:20260423T192807
CREATED:20150711T230500Z
LAST-MODIFIED:20150711T230500Z
UID:10000361-1467655500-1467670140@fortjonesca.org
SUMMARY:Regular Garbage & Recycling Pickup
DESCRIPTION:Trash pickup starts in town at 7am.
URL:https://fortjonesca.org/event/regular-garbage-recycling-pickup/2016-07-04/
END:VEVENT
BEGIN:VEVENT
DTSTART;TZID=America/Chicago:20160703T180500
DTEND;TZID=America/Chicago:20160703T220900
DTSTAMP:20260423T192807
CREATED:20150711T230500Z
LAST-MODIFIED:20150711T230500Z
UID:10000360-1467569100-1467583740@fortjonesca.org
SUMMARY:Regular Garbage & Recycling Pickup
DESCRIPTION:Trash pickup starts in town at 7am.
URL:https://fortjonesca.org/event/regular-garbage-recycling-pickup/2016-07-03/
END:VEVENT
BEGIN:VEVENT
DTSTART;TZID=America/Chicago:20160702T180500
DTEND;TZID=America/Chicago:20160702T220900
DTSTAMP:20260423T192807
CREATED:20150711T230500Z
LAST-MODIFIED:20150711T230500Z
UID:10000359-1467482700-1467497340@fortjonesca.org
SUMMARY:Regular Garbage & Recycling Pickup
DESCRIPTION:Trash pickup starts in town at 7am.
URL:https://fortjonesca.org/event/regular-garbage-recycling-pickup/2016-07-02/
END:VEVENT
BEGIN:VEVENT
DTSTART;TZID=America/Chicago:20160701T180500
DTEND;TZID=America/Chicago:20160701T220900
DTSTAMP:20260423T192807
CREATED:20150711T230500Z
LAST-MODIFIED:20150711T230500Z
UID:10000358-1467396300-1467410940@fortjonesca.org
SUMMARY:Regular Garbage & Recycling Pickup
DESCRIPTION:Trash pickup starts in town at 7am.
URL:https://fortjonesca.org/event/regular-garbage-recycling-pickup/2016-07-01/
END:VEVENT
BEGIN:VEVENT
DTSTART;TZID=America/Chicago:20160630T180500
DTEND;TZID=America/Chicago:20160630T220900
DTSTAMP:20260423T192807
CREATED:20150711T230500Z
LAST-MODIFIED:20150711T230500Z
UID:10000357-1467309900-1467324540@fortjonesca.org
SUMMARY:Regular Garbage & Recycling Pickup
DESCRIPTION:Trash pickup starts in town at 7am.
URL:https://fortjonesca.org/event/regular-garbage-recycling-pickup/2016-06-30/
END:VEVENT
BEGIN:VEVENT
DTSTART;TZID=America/Chicago:20160629T180500
DTEND;TZID=America/Chicago:20160629T220900
DTSTAMP:20260423T192807
CREATED:20150711T230500Z
LAST-MODIFIED:20150711T230500Z
UID:10000356-1467223500-1467238140@fortjonesca.org
SUMMARY:Regular Garbage & Recycling Pickup
DESCRIPTION:Trash pickup starts in town at 7am.
URL:https://fortjonesca.org/event/regular-garbage-recycling-pickup/2016-06-29/
END:VEVENT
BEGIN:VEVENT
DTSTART;TZID=America/Chicago:20160629T080000
DTEND;TZID=America/Chicago:20160629T120000
DTSTAMP:20260423T192807
CREATED:20150812T130000Z
LAST-MODIFIED:20150812T130000Z
UID:10000581-1467187200-1467201600@fortjonesca.org
SUMMARY:Clerks Hours
DESCRIPTION:Am in the office from 8am to noon
URL:https://fortjonesca.org/event/clerks-hours/2016-06-29/
END:VEVENT
BEGIN:VEVENT
DTSTART;TZID=America/Chicago:20160628T180500
DTEND;TZID=America/Chicago:20160628T220900
DTSTAMP:20260423T192807
CREATED:20150711T230500Z
LAST-MODIFIED:20150711T230500Z
UID:10000355-1467137100-1467151740@fortjonesca.org
SUMMARY:Regular Garbage & Recycling Pickup
DESCRIPTION:Trash pickup starts in town at 7am.
URL:https://fortjonesca.org/event/regular-garbage-recycling-pickup/2016-06-28/
END:VEVENT
BEGIN:VEVENT
DTSTART;TZID=America/Chicago:20160627T180500
DTEND;TZID=America/Chicago:20160627T220900
DTSTAMP:20260423T192807
CREATED:20150711T230500Z
LAST-MODIFIED:20150711T230500Z
UID:10000354-1467050700-1467065340@fortjonesca.org
SUMMARY:Regular Garbage & Recycling Pickup
DESCRIPTION:Trash pickup starts in town at 7am.
URL:https://fortjonesca.org/event/regular-garbage-recycling-pickup/2016-06-27/
END:VEVENT
BEGIN:VEVENT
DTSTART;TZID=America/Chicago:20160626T180500
DTEND;TZID=America/Chicago:20160626T220900
DTSTAMP:20260423T192807
CREATED:20150711T230500Z
LAST-MODIFIED:20150711T230500Z
UID:10000353-1466964300-1466978940@fortjonesca.org
SUMMARY:Regular Garbage & Recycling Pickup
DESCRIPTION:Trash pickup starts in town at 7am.
URL:https://fortjonesca.org/event/regular-garbage-recycling-pickup/2016-06-26/
END:VEVENT
BEGIN:VEVENT
DTSTART;TZID=America/Chicago:20160625T180500
DTEND;TZID=America/Chicago:20160625T220900
DTSTAMP:20260423T192807
CREATED:20150711T230500Z
LAST-MODIFIED:20150711T230500Z
UID:10000352-1466877900-1466892540@fortjonesca.org
SUMMARY:Regular Garbage & Recycling Pickup
DESCRIPTION:Trash pickup starts in town at 7am.
URL:https://fortjonesca.org/event/regular-garbage-recycling-pickup/2016-06-25/
END:VEVENT
BEGIN:VEVENT
DTSTART;TZID=America/Chicago:20160624T180500
DTEND;TZID=America/Chicago:20160624T220900
DTSTAMP:20260423T192807
CREATED:20150711T230500Z
LAST-MODIFIED:20150711T230500Z
UID:10000351-1466791500-1466806140@fortjonesca.org
SUMMARY:Regular Garbage & Recycling Pickup
DESCRIPTION:Trash pickup starts in town at 7am.
URL:https://fortjonesca.org/event/regular-garbage-recycling-pickup/2016-06-24/
END:VEVENT
BEGIN:VEVENT
DTSTART;TZID=America/Chicago:20160623T180500
DTEND;TZID=America/Chicago:20160623T220900
DTSTAMP:20260423T192807
CREATED:20150711T230500Z
LAST-MODIFIED:20150711T230500Z
UID:10000350-1466705100-1466719740@fortjonesca.org
SUMMARY:Regular Garbage & Recycling Pickup
DESCRIPTION:Trash pickup starts in town at 7am.
URL:https://fortjonesca.org/event/regular-garbage-recycling-pickup/2016-06-23/
END:VEVENT
BEGIN:VEVENT
DTSTART;TZID=America/Chicago:20160622T180500
DTEND;TZID=America/Chicago:20160622T220900
DTSTAMP:20260423T192807
CREATED:20150711T230500Z
LAST-MODIFIED:20150711T230500Z
UID:10000349-1466618700-1466633340@fortjonesca.org
SUMMARY:Regular Garbage & Recycling Pickup
DESCRIPTION:Trash pickup starts in town at 7am.
URL:https://fortjonesca.org/event/regular-garbage-recycling-pickup/2016-06-22/
END:VEVENT
BEGIN:VEVENT
DTSTART;TZID=America/Chicago:20160622T080000
DTEND;TZID=America/Chicago:20160622T120000
DTSTAMP:20260423T192807
CREATED:20150812T130000Z
LAST-MODIFIED:20150812T130000Z
UID:10000580-1466582400-1466596800@fortjonesca.org
SUMMARY:Clerks Hours
DESCRIPTION:Am in the office from 8am to noon
URL:https://fortjonesca.org/event/clerks-hours/2016-06-22/
END:VEVENT
BEGIN:VEVENT
DTSTART;TZID=America/Chicago:20160621T180500
DTEND;TZID=America/Chicago:20160621T220900
DTSTAMP:20260423T192807
CREATED:20150711T230500Z
LAST-MODIFIED:20150711T230500Z
UID:10000348-1466532300-1466546940@fortjonesca.org
SUMMARY:Regular Garbage & Recycling Pickup
DESCRIPTION:Trash pickup starts in town at 7am.
URL:https://fortjonesca.org/event/regular-garbage-recycling-pickup/2016-06-21/
END:VEVENT
BEGIN:VEVENT
DTSTART;TZID=America/Chicago:20160620T180500
DTEND;TZID=America/Chicago:20160620T220900
DTSTAMP:20260423T192807
CREATED:20150711T230500Z
LAST-MODIFIED:20150711T230500Z
UID:10000347-1466445900-1466460540@fortjonesca.org
SUMMARY:Regular Garbage & Recycling Pickup
DESCRIPTION:Trash pickup starts in town at 7am.
URL:https://fortjonesca.org/event/regular-garbage-recycling-pickup/2016-06-20/
END:VEVENT
BEGIN:VEVENT
DTSTART;TZID=America/Chicago:20160619T180500
DTEND;TZID=America/Chicago:20160619T220900
DTSTAMP:20260423T192807
CREATED:20150711T230500Z
LAST-MODIFIED:20150711T230500Z
UID:10000346-1466359500-1466374140@fortjonesca.org
SUMMARY:Regular Garbage & Recycling Pickup
DESCRIPTION:Trash pickup starts in town at 7am.
URL:https://fortjonesca.org/event/regular-garbage-recycling-pickup/2016-06-19/
END:VEVENT
BEGIN:VEVENT
DTSTART;TZID=America/Chicago:20160618T180500
DTEND;TZID=America/Chicago:20160618T220900
DTSTAMP:20260423T192807
CREATED:20150711T230500Z
LAST-MODIFIED:20150711T230500Z
UID:10000345-1466273100-1466287740@fortjonesca.org
SUMMARY:Regular Garbage & Recycling Pickup
DESCRIPTION:Trash pickup starts in town at 7am.
URL:https://fortjonesca.org/event/regular-garbage-recycling-pickup/2016-06-18/
END:VEVENT
BEGIN:VEVENT
DTSTART;TZID=America/Chicago:20160617T180500
DTEND;TZID=America/Chicago:20160617T220900
DTSTAMP:20260423T192807
CREATED:20150711T230500Z
LAST-MODIFIED:20150711T230500Z
UID:10000344-1466186700-1466201340@fortjonesca.org
SUMMARY:Regular Garbage & Recycling Pickup
DESCRIPTION:Trash pickup starts in town at 7am.
URL:https://fortjonesca.org/event/regular-garbage-recycling-pickup/2016-06-17/
END:VEVENT
END:VCALENDAR