BEGIN:VCALENDAR
VERSION:2.0
PRODID:-//Town of Fort Jones, Siskiyou County, CA - ECPv6.15.17.1//NONSGML v1.0//EN
CALSCALE:GREGORIAN
METHOD:PUBLISH
X-WR-CALNAME:Town of Fort Jones, Siskiyou County, CA
X-ORIGINAL-URL:https://fortjonesca.org
X-WR-CALDESC:Events for Town of Fort Jones, Siskiyou County, CA
REFRESH-INTERVAL;VALUE=DURATION:PT1H
X-Robots-Tag:noindex
X-PUBLISHED-TTL:PT1H
BEGIN:VTIMEZONE
TZID:America/Chicago
BEGIN:DAYLIGHT
TZOFFSETFROM:-0600
TZOFFSETTO:-0500
TZNAME:CDT
DTSTART:20220313T080000
END:DAYLIGHT
BEGIN:STANDARD
TZOFFSETFROM:-0500
TZOFFSETTO:-0600
TZNAME:CST
DTSTART:20221106T070000
END:STANDARD
BEGIN:DAYLIGHT
TZOFFSETFROM:-0600
TZOFFSETTO:-0500
TZNAME:CDT
DTSTART:20230312T080000
END:DAYLIGHT
BEGIN:STANDARD
TZOFFSETFROM:-0500
TZOFFSETTO:-0600
TZNAME:CST
DTSTART:20231105T070000
END:STANDARD
BEGIN:DAYLIGHT
TZOFFSETFROM:-0600
TZOFFSETTO:-0500
TZNAME:CDT
DTSTART:20240310T080000
END:DAYLIGHT
BEGIN:STANDARD
TZOFFSETFROM:-0500
TZOFFSETTO:-0600
TZNAME:CST
DTSTART:20241103T070000
END:STANDARD
END:VTIMEZONE
BEGIN:VEVENT
DTSTART;TZID=America/Chicago:20230412T093000
DTEND;TZID=America/Chicago:20230412T103000
DTSTAMP:20260423T125103
CREATED:20211013T212834Z
LAST-MODIFIED:20211013T213137Z
UID:10000960-1681291800-1681295400@fortjonesca.org
SUMMARY:Wednesday Morning Yoga
DESCRIPTION:No cost\, all ages welcome! 9:30am-10:30am at City Hall. Bring a mat for the floor.
URL:https://fortjonesca.org/event/wednesday-morning-yoga/2023-04-12/
END:VEVENT
BEGIN:VEVENT
DTSTART;TZID=America/Chicago:20230414T180000
DTEND;TZID=America/Chicago:20230414T200000
DTSTAMP:20260423T125103
CREATED:20210730T200356Z
LAST-MODIFIED:20210730T200356Z
UID:10000823-1681495200-1681502400@fortjonesca.org
SUMMARY:AA Meeting
DESCRIPTION:
URL:https://fortjonesca.org/event/aa-meeting/2023-04-14/
END:VEVENT
BEGIN:VEVENT
DTSTART;TZID=America/Chicago:20230419T093000
DTEND;TZID=America/Chicago:20230419T103000
DTSTAMP:20260423T125103
CREATED:20211013T212834Z
LAST-MODIFIED:20211013T213137Z
UID:10000961-1681896600-1681900200@fortjonesca.org
SUMMARY:Wednesday Morning Yoga
DESCRIPTION:No cost\, all ages welcome! 9:30am-10:30am at City Hall. Bring a mat for the floor.
URL:https://fortjonesca.org/event/wednesday-morning-yoga/2023-04-19/
END:VEVENT
BEGIN:VEVENT
DTSTART;TZID=America/Chicago:20230421T180000
DTEND;TZID=America/Chicago:20230421T200000
DTSTAMP:20260423T125103
CREATED:20210730T200356Z
LAST-MODIFIED:20210730T200356Z
UID:10000824-1682100000-1682107200@fortjonesca.org
SUMMARY:AA Meeting
DESCRIPTION:
URL:https://fortjonesca.org/event/aa-meeting/2023-04-21/
END:VEVENT
BEGIN:VEVENT
DTSTART;TZID=America/Chicago:20230426T093000
DTEND;TZID=America/Chicago:20230426T103000
DTSTAMP:20260423T125103
CREATED:20211013T212834Z
LAST-MODIFIED:20211013T213137Z
UID:10000962-1682501400-1682505000@fortjonesca.org
SUMMARY:Wednesday Morning Yoga
DESCRIPTION:No cost\, all ages welcome! 9:30am-10:30am at City Hall. Bring a mat for the floor.
URL:https://fortjonesca.org/event/wednesday-morning-yoga/2023-04-26/
END:VEVENT
BEGIN:VEVENT
DTSTART;TZID=America/Chicago:20230428T180000
DTEND;TZID=America/Chicago:20230428T200000
DTSTAMP:20260423T125103
CREATED:20210730T200356Z
LAST-MODIFIED:20210730T200356Z
UID:10000825-1682704800-1682712000@fortjonesca.org
SUMMARY:AA Meeting
DESCRIPTION:
URL:https://fortjonesca.org/event/aa-meeting/2023-04-28/
END:VEVENT
BEGIN:VEVENT
DTSTART;TZID=America/Chicago:20230503T093000
DTEND;TZID=America/Chicago:20230503T103000
DTSTAMP:20260423T125103
CREATED:20211013T212834Z
LAST-MODIFIED:20211013T213137Z
UID:10000963-1683106200-1683109800@fortjonesca.org
SUMMARY:Wednesday Morning Yoga
DESCRIPTION:No cost\, all ages welcome! 9:30am-10:30am at City Hall. Bring a mat for the floor.
URL:https://fortjonesca.org/event/wednesday-morning-yoga/2023-05-03/
END:VEVENT
BEGIN:VEVENT
DTSTART;TZID=America/Chicago:20230505T180000
DTEND;TZID=America/Chicago:20230505T200000
DTSTAMP:20260423T125103
CREATED:20210730T200356Z
LAST-MODIFIED:20210730T200356Z
UID:10000826-1683309600-1683316800@fortjonesca.org
SUMMARY:AA Meeting
DESCRIPTION:
URL:https://fortjonesca.org/event/aa-meeting/2023-05-05/
END:VEVENT
BEGIN:VEVENT
DTSTART;TZID=America/Chicago:20230505T180000
DTEND;TZID=America/Chicago:20230505T200000
DTSTAMP:20260423T125103
CREATED:20210802T222003Z
LAST-MODIFIED:20210802T222700Z
UID:10000851-1683309600-1683316800@fortjonesca.org
SUMMARY:First Friday Art Reception
DESCRIPTION:Marble Rim Art Gallery Presents the artwork of Rachel Agron. Reception to be held at the Marble Rim Art Gallery at 11835 Main St. on Friday\, August 6th from 6:00 p.m. to 8:00 p.m. Artwork will be displayed through August 14.
URL:https://fortjonesca.org/event/first-friday-art-reception-2/2023-05-05/
END:VEVENT
BEGIN:VEVENT
DTSTART;TZID=America/Chicago:20230508T190000
DTEND;TZID=America/Chicago:20230508T200500
DTSTAMP:20260423T125103
CREATED:20230506T000550Z
LAST-MODIFIED:20230506T000550Z
UID:10001232-1683572400-1683576300@fortjonesca.org
SUMMARY:May City Council Regular Meeting
DESCRIPTION:
URL:https://fortjonesca.org/event/may-city-council-regular-meeting/
END:VEVENT
BEGIN:VEVENT
DTSTART;TZID=America/Chicago:20230510T093000
DTEND;TZID=America/Chicago:20230510T103000
DTSTAMP:20260423T125103
CREATED:20211013T212834Z
LAST-MODIFIED:20211013T213137Z
UID:10000964-1683711000-1683714600@fortjonesca.org
SUMMARY:Wednesday Morning Yoga
DESCRIPTION:No cost\, all ages welcome! 9:30am-10:30am at City Hall. Bring a mat for the floor.
URL:https://fortjonesca.org/event/wednesday-morning-yoga/2023-05-10/
END:VEVENT
BEGIN:VEVENT
DTSTART;TZID=America/Chicago:20230512T180000
DTEND;TZID=America/Chicago:20230512T200000
DTSTAMP:20260423T125103
CREATED:20210730T200356Z
LAST-MODIFIED:20210730T200356Z
UID:10000827-1683914400-1683921600@fortjonesca.org
SUMMARY:AA Meeting
DESCRIPTION:
URL:https://fortjonesca.org/event/aa-meeting/2023-05-12/
END:VEVENT
BEGIN:VEVENT
DTSTART;TZID=America/Chicago:20230516T180000
DTEND;TZID=America/Chicago:20230516T193000
DTSTAMP:20260423T125103
CREATED:20230511T211312Z
LAST-MODIFIED:20230511T211312Z
UID:10001233-1684260000-1684265400@fortjonesca.org
SUMMARY:May Special Meeting
DESCRIPTION:
URL:https://fortjonesca.org/event/may-special-meeting/
END:VEVENT
BEGIN:VEVENT
DTSTART;TZID=America/Chicago:20230517T093000
DTEND;TZID=America/Chicago:20230517T103000
DTSTAMP:20260423T125103
CREATED:20211013T212834Z
LAST-MODIFIED:20211013T213137Z
UID:10000965-1684315800-1684319400@fortjonesca.org
SUMMARY:Wednesday Morning Yoga
DESCRIPTION:No cost\, all ages welcome! 9:30am-10:30am at City Hall. Bring a mat for the floor.
URL:https://fortjonesca.org/event/wednesday-morning-yoga/2023-05-17/
END:VEVENT
BEGIN:VEVENT
DTSTART;TZID=America/Chicago:20230519T180000
DTEND;TZID=America/Chicago:20230519T200000
DTSTAMP:20260423T125103
CREATED:20210730T200356Z
LAST-MODIFIED:20210730T200356Z
UID:10000828-1684519200-1684526400@fortjonesca.org
SUMMARY:AA Meeting
DESCRIPTION:
URL:https://fortjonesca.org/event/aa-meeting/2023-05-19/
END:VEVENT
BEGIN:VEVENT
DTSTART;TZID=America/Chicago:20230524T093000
DTEND;TZID=America/Chicago:20230524T103000
DTSTAMP:20260423T125103
CREATED:20211013T212834Z
LAST-MODIFIED:20211013T213137Z
UID:10000966-1684920600-1684924200@fortjonesca.org
SUMMARY:Wednesday Morning Yoga
DESCRIPTION:No cost\, all ages welcome! 9:30am-10:30am at City Hall. Bring a mat for the floor.
URL:https://fortjonesca.org/event/wednesday-morning-yoga/2023-05-24/
END:VEVENT
BEGIN:VEVENT
DTSTART;TZID=America/Chicago:20230526T180000
DTEND;TZID=America/Chicago:20230526T200000
DTSTAMP:20260423T125103
CREATED:20210730T200356Z
LAST-MODIFIED:20210730T200356Z
UID:10000829-1685124000-1685131200@fortjonesca.org
SUMMARY:AA Meeting
DESCRIPTION:
URL:https://fortjonesca.org/event/aa-meeting/2023-05-26/
END:VEVENT
BEGIN:VEVENT
DTSTART;TZID=America/Chicago:20230531T093000
DTEND;TZID=America/Chicago:20230531T103000
DTSTAMP:20260423T125103
CREATED:20211013T212834Z
LAST-MODIFIED:20211013T213137Z
UID:10000967-1685525400-1685529000@fortjonesca.org
SUMMARY:Wednesday Morning Yoga
DESCRIPTION:No cost\, all ages welcome! 9:30am-10:30am at City Hall. Bring a mat for the floor.
URL:https://fortjonesca.org/event/wednesday-morning-yoga/2023-05-31/
END:VEVENT
BEGIN:VEVENT
DTSTART;TZID=America/Chicago:20230602T180000
DTEND;TZID=America/Chicago:20230602T200000
DTSTAMP:20260423T125103
CREATED:20210730T200356Z
LAST-MODIFIED:20210730T200356Z
UID:10000830-1685728800-1685736000@fortjonesca.org
SUMMARY:AA Meeting
DESCRIPTION:
URL:https://fortjonesca.org/event/aa-meeting/2023-06-02/
END:VEVENT
BEGIN:VEVENT
DTSTART;TZID=America/Chicago:20230602T180000
DTEND;TZID=America/Chicago:20230602T200000
DTSTAMP:20260423T125103
CREATED:20210802T222003Z
LAST-MODIFIED:20210802T222700Z
UID:10000852-1685728800-1685736000@fortjonesca.org
SUMMARY:First Friday Art Reception
DESCRIPTION:Marble Rim Art Gallery Presents the artwork of Rachel Agron. Reception to be held at the Marble Rim Art Gallery at 11835 Main St. on Friday\, August 6th from 6:00 p.m. to 8:00 p.m. Artwork will be displayed through August 14.
URL:https://fortjonesca.org/event/first-friday-art-reception-2/2023-06-02/
END:VEVENT
BEGIN:VEVENT
DTSTART;TZID=America/Chicago:20230607T093000
DTEND;TZID=America/Chicago:20230607T103000
DTSTAMP:20260423T125103
CREATED:20211013T212834Z
LAST-MODIFIED:20211013T213137Z
UID:10000968-1686130200-1686133800@fortjonesca.org
SUMMARY:Wednesday Morning Yoga
DESCRIPTION:No cost\, all ages welcome! 9:30am-10:30am at City Hall. Bring a mat for the floor.
URL:https://fortjonesca.org/event/wednesday-morning-yoga/2023-06-07/
END:VEVENT
BEGIN:VEVENT
DTSTART;TZID=America/Chicago:20230609T180000
DTEND;TZID=America/Chicago:20230609T200000
DTSTAMP:20260423T125103
CREATED:20210730T200356Z
LAST-MODIFIED:20210730T200356Z
UID:10000831-1686333600-1686340800@fortjonesca.org
SUMMARY:AA Meeting
DESCRIPTION:
URL:https://fortjonesca.org/event/aa-meeting/2023-06-09/
END:VEVENT
BEGIN:VEVENT
DTSTART;TZID=America/Chicago:20230614T093000
DTEND;TZID=America/Chicago:20230614T103000
DTSTAMP:20260423T125103
CREATED:20211013T212834Z
LAST-MODIFIED:20211013T213137Z
UID:10000969-1686735000-1686738600@fortjonesca.org
SUMMARY:Wednesday Morning Yoga
DESCRIPTION:No cost\, all ages welcome! 9:30am-10:30am at City Hall. Bring a mat for the floor.
URL:https://fortjonesca.org/event/wednesday-morning-yoga/2023-06-14/
END:VEVENT
BEGIN:VEVENT
DTSTART;TZID=America/Chicago:20230616T180000
DTEND;TZID=America/Chicago:20230616T200000
DTSTAMP:20260423T125103
CREATED:20210730T200356Z
LAST-MODIFIED:20210730T200356Z
UID:10000832-1686938400-1686945600@fortjonesca.org
SUMMARY:AA Meeting
DESCRIPTION:
URL:https://fortjonesca.org/event/aa-meeting/2023-06-16/
END:VEVENT
BEGIN:VEVENT
DTSTART;TZID=America/Chicago:20230621T093000
DTEND;TZID=America/Chicago:20230621T103000
DTSTAMP:20260423T125103
CREATED:20211013T212834Z
LAST-MODIFIED:20211013T213137Z
UID:10000970-1687339800-1687343400@fortjonesca.org
SUMMARY:Wednesday Morning Yoga
DESCRIPTION:No cost\, all ages welcome! 9:30am-10:30am at City Hall. Bring a mat for the floor.
URL:https://fortjonesca.org/event/wednesday-morning-yoga/2023-06-21/
END:VEVENT
BEGIN:VEVENT
DTSTART;TZID=America/Chicago:20230623T180000
DTEND;TZID=America/Chicago:20230623T200000
DTSTAMP:20260423T125103
CREATED:20210730T200356Z
LAST-MODIFIED:20210730T200356Z
UID:10000833-1687543200-1687550400@fortjonesca.org
SUMMARY:AA Meeting
DESCRIPTION:
URL:https://fortjonesca.org/event/aa-meeting/2023-06-23/
END:VEVENT
BEGIN:VEVENT
DTSTART;TZID=America/Chicago:20230628T093000
DTEND;TZID=America/Chicago:20230628T103000
DTSTAMP:20260423T125103
CREATED:20211013T212834Z
LAST-MODIFIED:20211013T213137Z
UID:10000971-1687944600-1687948200@fortjonesca.org
SUMMARY:Wednesday Morning Yoga
DESCRIPTION:No cost\, all ages welcome! 9:30am-10:30am at City Hall. Bring a mat for the floor.
URL:https://fortjonesca.org/event/wednesday-morning-yoga/2023-06-28/
END:VEVENT
BEGIN:VEVENT
DTSTART;TZID=America/Chicago:20230630T180000
DTEND;TZID=America/Chicago:20230630T200000
DTSTAMP:20260423T125103
CREATED:20210730T200356Z
LAST-MODIFIED:20210730T200356Z
UID:10000834-1688148000-1688155200@fortjonesca.org
SUMMARY:AA Meeting
DESCRIPTION:
URL:https://fortjonesca.org/event/aa-meeting/2023-06-30/
END:VEVENT
BEGIN:VEVENT
DTSTART;TZID=America/Chicago:20230705T093000
DTEND;TZID=America/Chicago:20230705T103000
DTSTAMP:20260423T125103
CREATED:20211013T212834Z
LAST-MODIFIED:20211013T213137Z
UID:10000972-1688549400-1688553000@fortjonesca.org
SUMMARY:Wednesday Morning Yoga
DESCRIPTION:No cost\, all ages welcome! 9:30am-10:30am at City Hall. Bring a mat for the floor.
URL:https://fortjonesca.org/event/wednesday-morning-yoga/2023-07-05/
END:VEVENT
BEGIN:VEVENT
DTSTART;TZID=America/Chicago:20230707T180000
DTEND;TZID=America/Chicago:20230707T200000
DTSTAMP:20260423T125103
CREATED:20210730T200356Z
LAST-MODIFIED:20210730T200356Z
UID:10000835-1688752800-1688760000@fortjonesca.org
SUMMARY:AA Meeting
DESCRIPTION:
URL:https://fortjonesca.org/event/aa-meeting/2023-07-07/
END:VEVENT
END:VCALENDAR