BEGIN:VCALENDAR
VERSION:2.0
PRODID:-//Town of Fort Jones, Siskiyou County, CA - ECPv6.15.17.1//NONSGML v1.0//EN
CALSCALE:GREGORIAN
METHOD:PUBLISH
X-WR-CALNAME:Town of Fort Jones, Siskiyou County, CA
X-ORIGINAL-URL:https://fortjonesca.org
X-WR-CALDESC:Events for Town of Fort Jones, Siskiyou County, CA
REFRESH-INTERVAL;VALUE=DURATION:PT1H
X-Robots-Tag:noindex
X-PUBLISHED-TTL:PT1H
BEGIN:VTIMEZONE
TZID:America/Chicago
BEGIN:DAYLIGHT
TZOFFSETFROM:-0600
TZOFFSETTO:-0500
TZNAME:CDT
DTSTART:20150308T080000
END:DAYLIGHT
BEGIN:STANDARD
TZOFFSETFROM:-0500
TZOFFSETTO:-0600
TZNAME:CST
DTSTART:20151101T070000
END:STANDARD
BEGIN:DAYLIGHT
TZOFFSETFROM:-0600
TZOFFSETTO:-0500
TZNAME:CDT
DTSTART:20160313T080000
END:DAYLIGHT
BEGIN:STANDARD
TZOFFSETFROM:-0500
TZOFFSETTO:-0600
TZNAME:CST
DTSTART:20161106T070000
END:STANDARD
BEGIN:DAYLIGHT
TZOFFSETFROM:-0600
TZOFFSETTO:-0500
TZNAME:CDT
DTSTART:20170312T080000
END:DAYLIGHT
BEGIN:STANDARD
TZOFFSETFROM:-0500
TZOFFSETTO:-0600
TZNAME:CST
DTSTART:20171105T070000
END:STANDARD
END:VTIMEZONE
BEGIN:VEVENT
DTSTART;TZID=America/Chicago:20160822T180500
DTEND;TZID=America/Chicago:20160822T220900
DTSTAMP:20260423T115355
CREATED:20150711T230500Z
LAST-MODIFIED:20150711T230500Z
UID:10000410-1471889100-1471903740@fortjonesca.org
SUMMARY:Regular Garbage & Recycling Pickup
DESCRIPTION:Trash pickup starts in town at 7am.
URL:https://fortjonesca.org/event/regular-garbage-recycling-pickup/2016-08-22/
END:VEVENT
BEGIN:VEVENT
DTSTART;TZID=America/Chicago:20160821T180500
DTEND;TZID=America/Chicago:20160821T220900
DTSTAMP:20260423T115355
CREATED:20150711T230500Z
LAST-MODIFIED:20150711T230500Z
UID:10000409-1471802700-1471817340@fortjonesca.org
SUMMARY:Regular Garbage & Recycling Pickup
DESCRIPTION:Trash pickup starts in town at 7am.
URL:https://fortjonesca.org/event/regular-garbage-recycling-pickup/2016-08-21/
END:VEVENT
BEGIN:VEVENT
DTSTART;TZID=America/Chicago:20160820T180500
DTEND;TZID=America/Chicago:20160820T220900
DTSTAMP:20260423T115355
CREATED:20150711T230500Z
LAST-MODIFIED:20150711T230500Z
UID:10000408-1471716300-1471730940@fortjonesca.org
SUMMARY:Regular Garbage & Recycling Pickup
DESCRIPTION:Trash pickup starts in town at 7am.
URL:https://fortjonesca.org/event/regular-garbage-recycling-pickup/2016-08-20/
END:VEVENT
BEGIN:VEVENT
DTSTART;TZID=America/Chicago:20160819T180500
DTEND;TZID=America/Chicago:20160819T220900
DTSTAMP:20260423T115355
CREATED:20150711T230500Z
LAST-MODIFIED:20150711T230500Z
UID:10000407-1471629900-1471644540@fortjonesca.org
SUMMARY:Regular Garbage & Recycling Pickup
DESCRIPTION:Trash pickup starts in town at 7am.
URL:https://fortjonesca.org/event/regular-garbage-recycling-pickup/2016-08-19/
END:VEVENT
BEGIN:VEVENT
DTSTART;TZID=America/Chicago:20160818T180500
DTEND;TZID=America/Chicago:20160818T220900
DTSTAMP:20260423T115355
CREATED:20150711T230500Z
LAST-MODIFIED:20150711T230500Z
UID:10000406-1471543500-1471558140@fortjonesca.org
SUMMARY:Regular Garbage & Recycling Pickup
DESCRIPTION:Trash pickup starts in town at 7am.
URL:https://fortjonesca.org/event/regular-garbage-recycling-pickup/2016-08-18/
END:VEVENT
BEGIN:VEVENT
DTSTART;TZID=America/Chicago:20160817T180500
DTEND;TZID=America/Chicago:20160817T220900
DTSTAMP:20260423T115355
CREATED:20150711T230500Z
LAST-MODIFIED:20150711T230500Z
UID:10000405-1471457100-1471471740@fortjonesca.org
SUMMARY:Regular Garbage & Recycling Pickup
DESCRIPTION:Trash pickup starts in town at 7am.
URL:https://fortjonesca.org/event/regular-garbage-recycling-pickup/2016-08-17/
END:VEVENT
BEGIN:VEVENT
DTSTART;TZID=America/Chicago:20160817T080000
DTEND;TZID=America/Chicago:20160817T120000
DTSTAMP:20260423T115355
CREATED:20150812T130000Z
LAST-MODIFIED:20150812T130000Z
UID:10000588-1471420800-1471435200@fortjonesca.org
SUMMARY:Clerks Hours
DESCRIPTION:Am in the office from 8am to noon
URL:https://fortjonesca.org/event/clerks-hours/2016-08-17/
END:VEVENT
BEGIN:VEVENT
DTSTART;TZID=America/Chicago:20160816T180500
DTEND;TZID=America/Chicago:20160816T220900
DTSTAMP:20260423T115355
CREATED:20150711T230500Z
LAST-MODIFIED:20150711T230500Z
UID:10000404-1471370700-1471385340@fortjonesca.org
SUMMARY:Regular Garbage & Recycling Pickup
DESCRIPTION:Trash pickup starts in town at 7am.
URL:https://fortjonesca.org/event/regular-garbage-recycling-pickup/2016-08-16/
END:VEVENT
BEGIN:VEVENT
DTSTART;TZID=America/Chicago:20160815T180500
DTEND;TZID=America/Chicago:20160815T220900
DTSTAMP:20260423T115355
CREATED:20150711T230500Z
LAST-MODIFIED:20150711T230500Z
UID:10000403-1471284300-1471298940@fortjonesca.org
SUMMARY:Regular Garbage & Recycling Pickup
DESCRIPTION:Trash pickup starts in town at 7am.
URL:https://fortjonesca.org/event/regular-garbage-recycling-pickup/2016-08-15/
END:VEVENT
BEGIN:VEVENT
DTSTART;TZID=America/Chicago:20160814T180500
DTEND;TZID=America/Chicago:20160814T220900
DTSTAMP:20260423T115355
CREATED:20150711T230500Z
LAST-MODIFIED:20150711T230500Z
UID:10000402-1471197900-1471212540@fortjonesca.org
SUMMARY:Regular Garbage & Recycling Pickup
DESCRIPTION:Trash pickup starts in town at 7am.
URL:https://fortjonesca.org/event/regular-garbage-recycling-pickup/2016-08-14/
END:VEVENT
BEGIN:VEVENT
DTSTART;TZID=America/Chicago:20160813T180500
DTEND;TZID=America/Chicago:20160813T220900
DTSTAMP:20260423T115355
CREATED:20150711T230500Z
LAST-MODIFIED:20150711T230500Z
UID:10000401-1471111500-1471126140@fortjonesca.org
SUMMARY:Regular Garbage & Recycling Pickup
DESCRIPTION:Trash pickup starts in town at 7am.
URL:https://fortjonesca.org/event/regular-garbage-recycling-pickup/2016-08-13/
END:VEVENT
BEGIN:VEVENT
DTSTART;TZID=America/Chicago:20160812T180500
DTEND;TZID=America/Chicago:20160812T220900
DTSTAMP:20260423T115355
CREATED:20150711T230500Z
LAST-MODIFIED:20150711T230500Z
UID:10000400-1471025100-1471039740@fortjonesca.org
SUMMARY:Regular Garbage & Recycling Pickup
DESCRIPTION:Trash pickup starts in town at 7am.
URL:https://fortjonesca.org/event/regular-garbage-recycling-pickup/2016-08-12/
END:VEVENT
BEGIN:VEVENT
DTSTART;TZID=America/Chicago:20160811T180500
DTEND;TZID=America/Chicago:20160811T220900
DTSTAMP:20260423T115355
CREATED:20150711T230500Z
LAST-MODIFIED:20150711T230500Z
UID:10000399-1470938700-1470953340@fortjonesca.org
SUMMARY:Regular Garbage & Recycling Pickup
DESCRIPTION:Trash pickup starts in town at 7am.
URL:https://fortjonesca.org/event/regular-garbage-recycling-pickup/2016-08-11/
END:VEVENT
BEGIN:VEVENT
DTSTART;TZID=America/Chicago:20160810T180500
DTEND;TZID=America/Chicago:20160810T220900
DTSTAMP:20260423T115355
CREATED:20150711T230500Z
LAST-MODIFIED:20150711T230500Z
UID:10000398-1470852300-1470866940@fortjonesca.org
SUMMARY:Regular Garbage & Recycling Pickup
DESCRIPTION:Trash pickup starts in town at 7am.
URL:https://fortjonesca.org/event/regular-garbage-recycling-pickup/2016-08-10/
END:VEVENT
BEGIN:VEVENT
DTSTART;TZID=America/Chicago:20160810T080000
DTEND;TZID=America/Chicago:20160810T120000
DTSTAMP:20260423T115355
CREATED:20150812T130000Z
LAST-MODIFIED:20150812T130000Z
UID:10000587-1470816000-1470830400@fortjonesca.org
SUMMARY:Clerks Hours
DESCRIPTION:Am in the office from 8am to noon
URL:https://fortjonesca.org/event/clerks-hours/2016-08-10/
END:VEVENT
BEGIN:VEVENT
DTSTART;TZID=America/Chicago:20160809T180500
DTEND;TZID=America/Chicago:20160809T220900
DTSTAMP:20260423T115355
CREATED:20150711T230500Z
LAST-MODIFIED:20150711T230500Z
UID:10000397-1470765900-1470780540@fortjonesca.org
SUMMARY:Regular Garbage & Recycling Pickup
DESCRIPTION:Trash pickup starts in town at 7am.
URL:https://fortjonesca.org/event/regular-garbage-recycling-pickup/2016-08-09/
END:VEVENT
BEGIN:VEVENT
DTSTART;TZID=America/Chicago:20160808T180500
DTEND;TZID=America/Chicago:20160808T220900
DTSTAMP:20260423T115355
CREATED:20150711T230500Z
LAST-MODIFIED:20150711T230500Z
UID:10000396-1470679500-1470694140@fortjonesca.org
SUMMARY:Regular Garbage & Recycling Pickup
DESCRIPTION:Trash pickup starts in town at 7am.
URL:https://fortjonesca.org/event/regular-garbage-recycling-pickup/2016-08-08/
END:VEVENT
BEGIN:VEVENT
DTSTART;TZID=America/Chicago:20160807T180500
DTEND;TZID=America/Chicago:20160807T220900
DTSTAMP:20260423T115355
CREATED:20150711T230500Z
LAST-MODIFIED:20150711T230500Z
UID:10000395-1470593100-1470607740@fortjonesca.org
SUMMARY:Regular Garbage & Recycling Pickup
DESCRIPTION:Trash pickup starts in town at 7am.
URL:https://fortjonesca.org/event/regular-garbage-recycling-pickup/2016-08-07/
END:VEVENT
BEGIN:VEVENT
DTSTART;TZID=America/Chicago:20160806T180500
DTEND;TZID=America/Chicago:20160806T220900
DTSTAMP:20260423T115355
CREATED:20150711T230500Z
LAST-MODIFIED:20150711T230500Z
UID:10000394-1470506700-1470521340@fortjonesca.org
SUMMARY:Regular Garbage & Recycling Pickup
DESCRIPTION:Trash pickup starts in town at 7am.
URL:https://fortjonesca.org/event/regular-garbage-recycling-pickup/2016-08-06/
END:VEVENT
BEGIN:VEVENT
DTSTART;TZID=America/Chicago:20160805T180500
DTEND;TZID=America/Chicago:20160805T220900
DTSTAMP:20260423T115355
CREATED:20150711T230500Z
LAST-MODIFIED:20150711T230500Z
UID:10000393-1470420300-1470434940@fortjonesca.org
SUMMARY:Regular Garbage & Recycling Pickup
DESCRIPTION:Trash pickup starts in town at 7am.
URL:https://fortjonesca.org/event/regular-garbage-recycling-pickup/2016-08-05/
END:VEVENT
BEGIN:VEVENT
DTSTART;TZID=America/Chicago:20160804T180500
DTEND;TZID=America/Chicago:20160804T220900
DTSTAMP:20260423T115355
CREATED:20150711T230500Z
LAST-MODIFIED:20150711T230500Z
UID:10000392-1470333900-1470348540@fortjonesca.org
SUMMARY:Regular Garbage & Recycling Pickup
DESCRIPTION:Trash pickup starts in town at 7am.
URL:https://fortjonesca.org/event/regular-garbage-recycling-pickup/2016-08-04/
END:VEVENT
BEGIN:VEVENT
DTSTART;TZID=America/Chicago:20160803T180500
DTEND;TZID=America/Chicago:20160803T220900
DTSTAMP:20260423T115355
CREATED:20150711T230500Z
LAST-MODIFIED:20150711T230500Z
UID:10000391-1470247500-1470262140@fortjonesca.org
SUMMARY:Regular Garbage & Recycling Pickup
DESCRIPTION:Trash pickup starts in town at 7am.
URL:https://fortjonesca.org/event/regular-garbage-recycling-pickup/2016-08-03/
END:VEVENT
BEGIN:VEVENT
DTSTART;TZID=America/Chicago:20160803T080000
DTEND;TZID=America/Chicago:20160803T120000
DTSTAMP:20260423T115355
CREATED:20150812T130000Z
LAST-MODIFIED:20150812T130000Z
UID:10000586-1470211200-1470225600@fortjonesca.org
SUMMARY:Clerks Hours
DESCRIPTION:Am in the office from 8am to noon
URL:https://fortjonesca.org/event/clerks-hours/2016-08-03/
END:VEVENT
BEGIN:VEVENT
DTSTART;TZID=America/Chicago:20160802T180500
DTEND;TZID=America/Chicago:20160802T220900
DTSTAMP:20260423T115355
CREATED:20150711T230500Z
LAST-MODIFIED:20150711T230500Z
UID:10000390-1470161100-1470175740@fortjonesca.org
SUMMARY:Regular Garbage & Recycling Pickup
DESCRIPTION:Trash pickup starts in town at 7am.
URL:https://fortjonesca.org/event/regular-garbage-recycling-pickup/2016-08-02/
END:VEVENT
BEGIN:VEVENT
DTSTART;TZID=America/Chicago:20160801T190000
DTEND;TZID=America/Chicago:20160801T190000
DTSTAMP:20260423T115355
CREATED:20150805T000000Z
LAST-MODIFIED:20190314T152300Z
UID:10000502-1470078000-1470078000@fortjonesca.org
SUMMARY:City Council Meeting
DESCRIPTION:
URL:https://fortjonesca.org/event/city-council-meeting/2016-08-01/
END:VEVENT
BEGIN:VEVENT
DTSTART;TZID=America/Chicago:20160801T180500
DTEND;TZID=America/Chicago:20160801T220900
DTSTAMP:20260423T115355
CREATED:20150711T230500Z
LAST-MODIFIED:20150711T230500Z
UID:10000389-1470074700-1470089340@fortjonesca.org
SUMMARY:Regular Garbage & Recycling Pickup
DESCRIPTION:Trash pickup starts in town at 7am.
URL:https://fortjonesca.org/event/regular-garbage-recycling-pickup/2016-08-01/
END:VEVENT
BEGIN:VEVENT
DTSTART;TZID=America/Chicago:20160731T180500
DTEND;TZID=America/Chicago:20160731T220900
DTSTAMP:20260423T115355
CREATED:20150711T230500Z
LAST-MODIFIED:20150711T230500Z
UID:10000388-1469988300-1470002940@fortjonesca.org
SUMMARY:Regular Garbage & Recycling Pickup
DESCRIPTION:Trash pickup starts in town at 7am.
URL:https://fortjonesca.org/event/regular-garbage-recycling-pickup/2016-07-31/
END:VEVENT
BEGIN:VEVENT
DTSTART;TZID=America/Chicago:20160730T180500
DTEND;TZID=America/Chicago:20160730T220900
DTSTAMP:20260423T115355
CREATED:20150711T230500Z
LAST-MODIFIED:20150711T230500Z
UID:10000387-1469901900-1469916540@fortjonesca.org
SUMMARY:Regular Garbage & Recycling Pickup
DESCRIPTION:Trash pickup starts in town at 7am.
URL:https://fortjonesca.org/event/regular-garbage-recycling-pickup/2016-07-30/
END:VEVENT
BEGIN:VEVENT
DTSTART;TZID=America/Chicago:20160729T180500
DTEND;TZID=America/Chicago:20160729T220900
DTSTAMP:20260423T115355
CREATED:20150711T230500Z
LAST-MODIFIED:20150711T230500Z
UID:10000386-1469815500-1469830140@fortjonesca.org
SUMMARY:Regular Garbage & Recycling Pickup
DESCRIPTION:Trash pickup starts in town at 7am.
URL:https://fortjonesca.org/event/regular-garbage-recycling-pickup/2016-07-29/
END:VEVENT
BEGIN:VEVENT
DTSTART;TZID=America/Chicago:20160728T180500
DTEND;TZID=America/Chicago:20160728T220900
DTSTAMP:20260423T115355
CREATED:20150711T230500Z
LAST-MODIFIED:20150711T230500Z
UID:10000385-1469729100-1469743740@fortjonesca.org
SUMMARY:Regular Garbage & Recycling Pickup
DESCRIPTION:Trash pickup starts in town at 7am.
URL:https://fortjonesca.org/event/regular-garbage-recycling-pickup/2016-07-28/
END:VEVENT
END:VCALENDAR