BEGIN:VCALENDAR
VERSION:2.0
PRODID:-//Town of Fort Jones, Siskiyou County, CA - ECPv6.15.17.1//NONSGML v1.0//EN
CALSCALE:GREGORIAN
METHOD:PUBLISH
X-WR-CALNAME:Town of Fort Jones, Siskiyou County, CA
X-ORIGINAL-URL:https://fortjonesca.org
X-WR-CALDESC:Events for Town of Fort Jones, Siskiyou County, CA
REFRESH-INTERVAL;VALUE=DURATION:PT1H
X-Robots-Tag:noindex
X-PUBLISHED-TTL:PT1H
BEGIN:VTIMEZONE
TZID:America/Chicago
BEGIN:DAYLIGHT
TZOFFSETFROM:-0600
TZOFFSETTO:-0500
TZNAME:CDT
DTSTART:20220313T080000
END:DAYLIGHT
BEGIN:STANDARD
TZOFFSETFROM:-0500
TZOFFSETTO:-0600
TZNAME:CST
DTSTART:20221106T070000
END:STANDARD
BEGIN:DAYLIGHT
TZOFFSETFROM:-0600
TZOFFSETTO:-0500
TZNAME:CDT
DTSTART:20230312T080000
END:DAYLIGHT
BEGIN:STANDARD
TZOFFSETFROM:-0500
TZOFFSETTO:-0600
TZNAME:CST
DTSTART:20231105T070000
END:STANDARD
BEGIN:DAYLIGHT
TZOFFSETFROM:-0600
TZOFFSETTO:-0500
TZNAME:CDT
DTSTART:20240310T080000
END:DAYLIGHT
BEGIN:STANDARD
TZOFFSETFROM:-0500
TZOFFSETTO:-0600
TZNAME:CST
DTSTART:20241103T070000
END:STANDARD
END:VTIMEZONE
BEGIN:VEVENT
DTSTART;TZID=America/Chicago:20230106T180000
DTEND;TZID=America/Chicago:20230106T200000
DTSTAMP:20260423T174114
CREATED:20210730T200356Z
LAST-MODIFIED:20210730T200356Z
UID:10000809-1673028000-1673035200@fortjonesca.org
SUMMARY:AA Meeting
DESCRIPTION:
URL:https://fortjonesca.org/event/aa-meeting/2023-01-06/
END:VEVENT
BEGIN:VEVENT
DTSTART;TZID=America/Chicago:20230106T180000
DTEND;TZID=America/Chicago:20230106T200000
DTSTAMP:20260423T174114
CREATED:20210802T222003Z
LAST-MODIFIED:20210802T222700Z
UID:10000847-1673028000-1673035200@fortjonesca.org
SUMMARY:First Friday Art Reception
DESCRIPTION:Marble Rim Art Gallery Presents the artwork of Rachel Agron. Reception to be held at the Marble Rim Art Gallery at 11835 Main St. on Friday\, August 6th from 6:00 p.m. to 8:00 p.m. Artwork will be displayed through August 14.
URL:https://fortjonesca.org/event/first-friday-art-reception-2/2023-01-06/
END:VEVENT
BEGIN:VEVENT
DTSTART;TZID=America/Chicago:20230111T093000
DTEND;TZID=America/Chicago:20230111T103000
DTSTAMP:20260423T174114
CREATED:20211013T212834Z
LAST-MODIFIED:20211013T213137Z
UID:10000947-1673429400-1673433000@fortjonesca.org
SUMMARY:Wednesday Morning Yoga
DESCRIPTION:No cost\, all ages welcome! 9:30am-10:30am at City Hall. Bring a mat for the floor.
URL:https://fortjonesca.org/event/wednesday-morning-yoga/2023-01-11/
END:VEVENT
BEGIN:VEVENT
DTSTART;TZID=America/Chicago:20230113T180000
DTEND;TZID=America/Chicago:20230113T200000
DTSTAMP:20260423T174114
CREATED:20210730T200356Z
LAST-MODIFIED:20210730T200356Z
UID:10000810-1673632800-1673640000@fortjonesca.org
SUMMARY:AA Meeting
DESCRIPTION:
URL:https://fortjonesca.org/event/aa-meeting/2023-01-13/
END:VEVENT
BEGIN:VEVENT
DTSTART;TZID=America/Chicago:20230116T090000
DTEND;TZID=America/Chicago:20230116T170000
DTSTAMP:20260423T174114
CREATED:20230113T185634Z
LAST-MODIFIED:20230113T185634Z
UID:10001123-1673859600-1673888400@fortjonesca.org
SUMMARY:City Hall and Library Closed
DESCRIPTION:City Hall and the Fort Jones Branch Library will be closed in observance of Martin Luther King Jr. Day on Monday\, January 16th. The Library will open briefly for a story time event at 10:00am. Regular hours will resume on Tuesday\, January 17th. 
URL:https://fortjonesca.org/event/city-hall-and-library-closed/
CATEGORIES:Clerk's Hours
END:VEVENT
BEGIN:VEVENT
DTSTART;TZID=America/Chicago:20230116T100000
DTEND;TZID=America/Chicago:20230116T110000
DTSTAMP:20260423T174114
CREATED:20230111T210820Z
LAST-MODIFIED:20230111T210820Z
UID:10001122-1673863200-1673866800@fortjonesca.org
SUMMARY:Story Time
DESCRIPTION:It’s story time! Join us at 10:00am for Movement with Miss Jill and Stories with Miss Celeste\, followed by a special craft. \nTo be held at Fort Jones Branch Library 11960 East St. on Monday\, January 16th.
URL:https://fortjonesca.org/event/story-time/
CATEGORIES:Clerk's Hours
ATTACH;FMTTYPE=image/jpeg:https://cdn.townweb.com/fortjonesca.org/wp-content/uploads/2023/01/2023-STORYTIME-1.16.23-Fort-Jones-Library.flyer_.jpg
END:VEVENT
BEGIN:VEVENT
DTSTART;TZID=America/Chicago:20230118T093000
DTEND;TZID=America/Chicago:20230118T103000
DTSTAMP:20260423T174114
CREATED:20211013T212834Z
LAST-MODIFIED:20211013T213137Z
UID:10000948-1674034200-1674037800@fortjonesca.org
SUMMARY:Wednesday Morning Yoga
DESCRIPTION:No cost\, all ages welcome! 9:30am-10:30am at City Hall. Bring a mat for the floor.
URL:https://fortjonesca.org/event/wednesday-morning-yoga/2023-01-18/
END:VEVENT
BEGIN:VEVENT
DTSTART;TZID=America/Chicago:20230120T180000
DTEND;TZID=America/Chicago:20230120T200000
DTSTAMP:20260423T174114
CREATED:20210730T200356Z
LAST-MODIFIED:20210730T200356Z
UID:10000811-1674237600-1674244800@fortjonesca.org
SUMMARY:AA Meeting
DESCRIPTION:
URL:https://fortjonesca.org/event/aa-meeting/2023-01-20/
END:VEVENT
BEGIN:VEVENT
DTSTART;TZID=America/Chicago:20230125T093000
DTEND;TZID=America/Chicago:20230125T103000
DTSTAMP:20260423T174114
CREATED:20211013T212834Z
LAST-MODIFIED:20211013T213137Z
UID:10000949-1674639000-1674642600@fortjonesca.org
SUMMARY:Wednesday Morning Yoga
DESCRIPTION:No cost\, all ages welcome! 9:30am-10:30am at City Hall. Bring a mat for the floor.
URL:https://fortjonesca.org/event/wednesday-morning-yoga/2023-01-25/
END:VEVENT
BEGIN:VEVENT
DTSTART;TZID=America/Chicago:20230127T180000
DTEND;TZID=America/Chicago:20230127T200000
DTSTAMP:20260423T174114
CREATED:20210730T200356Z
LAST-MODIFIED:20210730T200356Z
UID:10000812-1674842400-1674849600@fortjonesca.org
SUMMARY:AA Meeting
DESCRIPTION:
URL:https://fortjonesca.org/event/aa-meeting/2023-01-27/
END:VEVENT
BEGIN:VEVENT
DTSTART;TZID=America/Chicago:20230201T093000
DTEND;TZID=America/Chicago:20230201T103000
DTSTAMP:20260423T174114
CREATED:20211013T212834Z
LAST-MODIFIED:20211013T213137Z
UID:10000950-1675243800-1675247400@fortjonesca.org
SUMMARY:Wednesday Morning Yoga
DESCRIPTION:No cost\, all ages welcome! 9:30am-10:30am at City Hall. Bring a mat for the floor.
URL:https://fortjonesca.org/event/wednesday-morning-yoga/2023-02-01/
END:VEVENT
BEGIN:VEVENT
DTSTART;TZID=America/Chicago:20230203T180000
DTEND;TZID=America/Chicago:20230203T200000
DTSTAMP:20260423T174114
CREATED:20210730T200356Z
LAST-MODIFIED:20210730T200356Z
UID:10000813-1675447200-1675454400@fortjonesca.org
SUMMARY:AA Meeting
DESCRIPTION:
URL:https://fortjonesca.org/event/aa-meeting/2023-02-03/
END:VEVENT
BEGIN:VEVENT
DTSTART;TZID=America/Chicago:20230203T180000
DTEND;TZID=America/Chicago:20230203T200000
DTSTAMP:20260423T174114
CREATED:20210802T222003Z
LAST-MODIFIED:20210802T222700Z
UID:10000848-1675447200-1675454400@fortjonesca.org
SUMMARY:First Friday Art Reception
DESCRIPTION:Marble Rim Art Gallery Presents the artwork of Rachel Agron. Reception to be held at the Marble Rim Art Gallery at 11835 Main St. on Friday\, August 6th from 6:00 p.m. to 8:00 p.m. Artwork will be displayed through August 14.
URL:https://fortjonesca.org/event/first-friday-art-reception-2/2023-02-03/
END:VEVENT
BEGIN:VEVENT
DTSTART;TZID=America/Chicago:20230208T093000
DTEND;TZID=America/Chicago:20230208T103000
DTSTAMP:20260423T174114
CREATED:20211013T212834Z
LAST-MODIFIED:20211013T213137Z
UID:10000951-1675848600-1675852200@fortjonesca.org
SUMMARY:Wednesday Morning Yoga
DESCRIPTION:No cost\, all ages welcome! 9:30am-10:30am at City Hall. Bring a mat for the floor.
URL:https://fortjonesca.org/event/wednesday-morning-yoga/2023-02-08/
END:VEVENT
BEGIN:VEVENT
DTSTART;TZID=America/Chicago:20230210T180000
DTEND;TZID=America/Chicago:20230210T200000
DTSTAMP:20260423T174114
CREATED:20210730T200356Z
LAST-MODIFIED:20210730T200356Z
UID:10000814-1676052000-1676059200@fortjonesca.org
SUMMARY:AA Meeting
DESCRIPTION:
URL:https://fortjonesca.org/event/aa-meeting/2023-02-10/
END:VEVENT
BEGIN:VEVENT
DTSTART;TZID=America/Chicago:20230215T093000
DTEND;TZID=America/Chicago:20230215T103000
DTSTAMP:20260423T174114
CREATED:20211013T212834Z
LAST-MODIFIED:20211013T213137Z
UID:10000952-1676453400-1676457000@fortjonesca.org
SUMMARY:Wednesday Morning Yoga
DESCRIPTION:No cost\, all ages welcome! 9:30am-10:30am at City Hall. Bring a mat for the floor.
URL:https://fortjonesca.org/event/wednesday-morning-yoga/2023-02-15/
END:VEVENT
BEGIN:VEVENT
DTSTART;TZID=America/Chicago:20230217T180000
DTEND;TZID=America/Chicago:20230217T200000
DTSTAMP:20260423T174114
CREATED:20210730T200356Z
LAST-MODIFIED:20210730T200356Z
UID:10000815-1676656800-1676664000@fortjonesca.org
SUMMARY:AA Meeting
DESCRIPTION:
URL:https://fortjonesca.org/event/aa-meeting/2023-02-17/
END:VEVENT
BEGIN:VEVENT
DTSTART;TZID=America/Chicago:20230222T093000
DTEND;TZID=America/Chicago:20230222T103000
DTSTAMP:20260423T174114
CREATED:20211013T212834Z
LAST-MODIFIED:20211013T213137Z
UID:10000953-1677058200-1677061800@fortjonesca.org
SUMMARY:Wednesday Morning Yoga
DESCRIPTION:No cost\, all ages welcome! 9:30am-10:30am at City Hall. Bring a mat for the floor.
URL:https://fortjonesca.org/event/wednesday-morning-yoga/2023-02-22/
END:VEVENT
BEGIN:VEVENT
DTSTART;TZID=America/Chicago:20230224T180000
DTEND;TZID=America/Chicago:20230224T200000
DTSTAMP:20260423T174114
CREATED:20210730T200356Z
LAST-MODIFIED:20210730T200356Z
UID:10000816-1677261600-1677268800@fortjonesca.org
SUMMARY:AA Meeting
DESCRIPTION:
URL:https://fortjonesca.org/event/aa-meeting/2023-02-24/
END:VEVENT
BEGIN:VEVENT
DTSTART;TZID=America/Chicago:20230301T093000
DTEND;TZID=America/Chicago:20230301T103000
DTSTAMP:20260423T174114
CREATED:20211013T212834Z
LAST-MODIFIED:20211013T213137Z
UID:10000954-1677663000-1677666600@fortjonesca.org
SUMMARY:Wednesday Morning Yoga
DESCRIPTION:No cost\, all ages welcome! 9:30am-10:30am at City Hall. Bring a mat for the floor.
URL:https://fortjonesca.org/event/wednesday-morning-yoga/2023-03-01/
END:VEVENT
BEGIN:VEVENT
DTSTART;TZID=America/Chicago:20230303T180000
DTEND;TZID=America/Chicago:20230303T200000
DTSTAMP:20260423T174114
CREATED:20210730T200356Z
LAST-MODIFIED:20210730T200356Z
UID:10000817-1677866400-1677873600@fortjonesca.org
SUMMARY:AA Meeting
DESCRIPTION:
URL:https://fortjonesca.org/event/aa-meeting/2023-03-03/
END:VEVENT
BEGIN:VEVENT
DTSTART;TZID=America/Chicago:20230303T180000
DTEND;TZID=America/Chicago:20230303T200000
DTSTAMP:20260423T174114
CREATED:20210802T222003Z
LAST-MODIFIED:20210802T222700Z
UID:10000849-1677866400-1677873600@fortjonesca.org
SUMMARY:First Friday Art Reception
DESCRIPTION:Marble Rim Art Gallery Presents the artwork of Rachel Agron. Reception to be held at the Marble Rim Art Gallery at 11835 Main St. on Friday\, August 6th from 6:00 p.m. to 8:00 p.m. Artwork will be displayed through August 14.
URL:https://fortjonesca.org/event/first-friday-art-reception-2/2023-03-03/
END:VEVENT
BEGIN:VEVENT
DTSTART;TZID=America/Chicago:20230304T150000
DTEND;TZID=America/Chicago:20230304T170000
DTSTAMP:20260423T174114
CREATED:20230302T223241Z
LAST-MODIFIED:20230302T223241Z
UID:10001124-1677942000-1677949200@fortjonesca.org
SUMMARY:Preserve Local History
DESCRIPTION:Preserve Scott Valley History! Pass on your personal or family story for the next generation at THIS SATURDAY’s listening session.\n \nShasta County native Autie Carlisle is looking to document life in Scott Valley as a part of her documentary web series\, “Shasta Stories.” Join us at 3:00pm on Saturday\, March 4 at the Scout Hall at 105 Newton St. Fort Jones. Note: This listening event is an opportunity for Autie to meet the community and learn about local stories. No filming will take place at this event.\n \nLearn more about the project at https://www.autiecarlisle.com/shastastories
URL:https://fortjonesca.org/event/preserve-local-history/
CATEGORIES:Clerk's Hours
ATTACH;FMTTYPE=image/jpeg:https://cdn.townweb.com/fortjonesca.org/wp-content/uploads/2023/03/Shasta-Stories-Listening-Session-1.jpg
END:VEVENT
BEGIN:VEVENT
DTSTART;TZID=America/Chicago:20230308T093000
DTEND;TZID=America/Chicago:20230308T103000
DTSTAMP:20260423T174114
CREATED:20211013T212834Z
LAST-MODIFIED:20211013T213137Z
UID:10000955-1678267800-1678271400@fortjonesca.org
SUMMARY:Wednesday Morning Yoga
DESCRIPTION:No cost\, all ages welcome! 9:30am-10:30am at City Hall. Bring a mat for the floor.
URL:https://fortjonesca.org/event/wednesday-morning-yoga/2023-03-08/
END:VEVENT
BEGIN:VEVENT
DTSTART;TZID=America/Chicago:20230310T180000
DTEND;TZID=America/Chicago:20230310T200000
DTSTAMP:20260423T174114
CREATED:20210730T200356Z
LAST-MODIFIED:20210730T200356Z
UID:10000818-1678471200-1678478400@fortjonesca.org
SUMMARY:AA Meeting
DESCRIPTION:
URL:https://fortjonesca.org/event/aa-meeting/2023-03-10/
END:VEVENT
BEGIN:VEVENT
DTSTART;TZID=America/Chicago:20230313T190000
DTEND;TZID=America/Chicago:20230313T203000
DTSTAMP:20260423T174114
CREATED:20230309T225411Z
LAST-MODIFIED:20230309T225411Z
UID:10001125-1678734000-1678739400@fortjonesca.org
SUMMARY:March City Council Regular Meeting
DESCRIPTION:
URL:https://fortjonesca.org/event/march-city-council-regular-meeting/
END:VEVENT
BEGIN:VEVENT
DTSTART;TZID=America/Chicago:20230315T093000
DTEND;TZID=America/Chicago:20230315T103000
DTSTAMP:20260423T174114
CREATED:20211013T212834Z
LAST-MODIFIED:20211013T213137Z
UID:10000956-1678872600-1678876200@fortjonesca.org
SUMMARY:Wednesday Morning Yoga
DESCRIPTION:No cost\, all ages welcome! 9:30am-10:30am at City Hall. Bring a mat for the floor.
URL:https://fortjonesca.org/event/wednesday-morning-yoga/2023-03-15/
END:VEVENT
BEGIN:VEVENT
DTSTART;TZID=America/Chicago:20230317T180000
DTEND;TZID=America/Chicago:20230317T200000
DTSTAMP:20260423T174114
CREATED:20210730T200356Z
LAST-MODIFIED:20210730T200356Z
UID:10000819-1679076000-1679083200@fortjonesca.org
SUMMARY:AA Meeting
DESCRIPTION:
URL:https://fortjonesca.org/event/aa-meeting/2023-03-17/
END:VEVENT
BEGIN:VEVENT
DTSTART;TZID=America/Chicago:20230322T093000
DTEND;TZID=America/Chicago:20230322T103000
DTSTAMP:20260423T174114
CREATED:20211013T212834Z
LAST-MODIFIED:20211013T213137Z
UID:10000957-1679477400-1679481000@fortjonesca.org
SUMMARY:Wednesday Morning Yoga
DESCRIPTION:No cost\, all ages welcome! 9:30am-10:30am at City Hall. Bring a mat for the floor.
URL:https://fortjonesca.org/event/wednesday-morning-yoga/2023-03-22/
END:VEVENT
BEGIN:VEVENT
DTSTART;TZID=America/Chicago:20230324T180000
DTEND;TZID=America/Chicago:20230324T200000
DTSTAMP:20260423T174114
CREATED:20210730T200356Z
LAST-MODIFIED:20210730T200356Z
UID:10000820-1679680800-1679688000@fortjonesca.org
SUMMARY:AA Meeting
DESCRIPTION:
URL:https://fortjonesca.org/event/aa-meeting/2023-03-24/
END:VEVENT
END:VCALENDAR