BEGIN:VCALENDAR
VERSION:2.0
PRODID:-//Town of Fort Jones, Siskiyou County, CA - ECPv6.15.17.1//NONSGML v1.0//EN
CALSCALE:GREGORIAN
METHOD:PUBLISH
X-WR-CALNAME:Town of Fort Jones, Siskiyou County, CA
X-ORIGINAL-URL:https://fortjonesca.org
X-WR-CALDESC:Events for Town of Fort Jones, Siskiyou County, CA
REFRESH-INTERVAL;VALUE=DURATION:PT1H
X-Robots-Tag:noindex
X-PUBLISHED-TTL:PT1H
BEGIN:VTIMEZONE
TZID:America/Chicago
BEGIN:DAYLIGHT
TZOFFSETFROM:-0600
TZOFFSETTO:-0500
TZNAME:CDT
DTSTART:20150308T080000
END:DAYLIGHT
BEGIN:STANDARD
TZOFFSETFROM:-0500
TZOFFSETTO:-0600
TZNAME:CST
DTSTART:20151101T070000
END:STANDARD
BEGIN:DAYLIGHT
TZOFFSETFROM:-0600
TZOFFSETTO:-0500
TZNAME:CDT
DTSTART:20160313T080000
END:DAYLIGHT
BEGIN:STANDARD
TZOFFSETFROM:-0500
TZOFFSETTO:-0600
TZNAME:CST
DTSTART:20161106T070000
END:STANDARD
BEGIN:DAYLIGHT
TZOFFSETFROM:-0600
TZOFFSETTO:-0500
TZNAME:CDT
DTSTART:20170312T080000
END:DAYLIGHT
BEGIN:STANDARD
TZOFFSETFROM:-0500
TZOFFSETTO:-0600
TZNAME:CST
DTSTART:20171105T070000
END:STANDARD
END:VTIMEZONE
BEGIN:VEVENT
DTSTART;TZID=America/Chicago:20160921T180500
DTEND;TZID=America/Chicago:20160921T220900
DTSTAMP:20260423T070028
CREATED:20150711T230500Z
LAST-MODIFIED:20150711T230500Z
UID:10000440-1474481100-1474495740@fortjonesca.org
SUMMARY:Regular Garbage & Recycling Pickup
DESCRIPTION:Trash pickup starts in town at 7am.
URL:https://fortjonesca.org/event/regular-garbage-recycling-pickup/2016-09-21/
END:VEVENT
BEGIN:VEVENT
DTSTART;TZID=America/Chicago:20160921T080000
DTEND;TZID=America/Chicago:20160921T120000
DTSTAMP:20260423T070028
CREATED:20150812T130000Z
LAST-MODIFIED:20150812T130000Z
UID:10000593-1474444800-1474459200@fortjonesca.org
SUMMARY:Clerks Hours
DESCRIPTION:Am in the office from 8am to noon
URL:https://fortjonesca.org/event/clerks-hours/2016-09-21/
END:VEVENT
BEGIN:VEVENT
DTSTART;TZID=America/Chicago:20160920T180500
DTEND;TZID=America/Chicago:20160920T220900
DTSTAMP:20260423T070028
CREATED:20150711T230500Z
LAST-MODIFIED:20150711T230500Z
UID:10000439-1474394700-1474409340@fortjonesca.org
SUMMARY:Regular Garbage & Recycling Pickup
DESCRIPTION:Trash pickup starts in town at 7am.
URL:https://fortjonesca.org/event/regular-garbage-recycling-pickup/2016-09-20/
END:VEVENT
BEGIN:VEVENT
DTSTART;TZID=America/Chicago:20160919T180500
DTEND;TZID=America/Chicago:20160919T220900
DTSTAMP:20260423T070028
CREATED:20150711T230500Z
LAST-MODIFIED:20150711T230500Z
UID:10000438-1474308300-1474322940@fortjonesca.org
SUMMARY:Regular Garbage & Recycling Pickup
DESCRIPTION:Trash pickup starts in town at 7am.
URL:https://fortjonesca.org/event/regular-garbage-recycling-pickup/2016-09-19/
END:VEVENT
BEGIN:VEVENT
DTSTART;TZID=America/Chicago:20160918T180500
DTEND;TZID=America/Chicago:20160918T220900
DTSTAMP:20260423T070028
CREATED:20150711T230500Z
LAST-MODIFIED:20150711T230500Z
UID:10000437-1474221900-1474236540@fortjonesca.org
SUMMARY:Regular Garbage & Recycling Pickup
DESCRIPTION:Trash pickup starts in town at 7am.
URL:https://fortjonesca.org/event/regular-garbage-recycling-pickup/2016-09-18/
END:VEVENT
BEGIN:VEVENT
DTSTART;TZID=America/Chicago:20160917T180500
DTEND;TZID=America/Chicago:20160917T220900
DTSTAMP:20260423T070028
CREATED:20150711T230500Z
LAST-MODIFIED:20150711T230500Z
UID:10000436-1474135500-1474150140@fortjonesca.org
SUMMARY:Regular Garbage & Recycling Pickup
DESCRIPTION:Trash pickup starts in town at 7am.
URL:https://fortjonesca.org/event/regular-garbage-recycling-pickup/2016-09-17/
END:VEVENT
BEGIN:VEVENT
DTSTART;TZID=America/Chicago:20160916T180500
DTEND;TZID=America/Chicago:20160916T220900
DTSTAMP:20260423T070028
CREATED:20150711T230500Z
LAST-MODIFIED:20150711T230500Z
UID:10000435-1474049100-1474063740@fortjonesca.org
SUMMARY:Regular Garbage & Recycling Pickup
DESCRIPTION:Trash pickup starts in town at 7am.
URL:https://fortjonesca.org/event/regular-garbage-recycling-pickup/2016-09-16/
END:VEVENT
BEGIN:VEVENT
DTSTART;TZID=America/Chicago:20160915T180500
DTEND;TZID=America/Chicago:20160915T220900
DTSTAMP:20260423T070028
CREATED:20150711T230500Z
LAST-MODIFIED:20150711T230500Z
UID:10000434-1473962700-1473977340@fortjonesca.org
SUMMARY:Regular Garbage & Recycling Pickup
DESCRIPTION:Trash pickup starts in town at 7am.
URL:https://fortjonesca.org/event/regular-garbage-recycling-pickup/2016-09-15/
END:VEVENT
BEGIN:VEVENT
DTSTART;TZID=America/Chicago:20160914T180500
DTEND;TZID=America/Chicago:20160914T220900
DTSTAMP:20260423T070028
CREATED:20150711T230500Z
LAST-MODIFIED:20150711T230500Z
UID:10000433-1473876300-1473890940@fortjonesca.org
SUMMARY:Regular Garbage & Recycling Pickup
DESCRIPTION:Trash pickup starts in town at 7am.
URL:https://fortjonesca.org/event/regular-garbage-recycling-pickup/2016-09-14/
END:VEVENT
BEGIN:VEVENT
DTSTART;TZID=America/Chicago:20160914T080000
DTEND;TZID=America/Chicago:20160914T120000
DTSTAMP:20260423T070028
CREATED:20150812T130000Z
LAST-MODIFIED:20150812T130000Z
UID:10000592-1473840000-1473854400@fortjonesca.org
SUMMARY:Clerks Hours
DESCRIPTION:Am in the office from 8am to noon
URL:https://fortjonesca.org/event/clerks-hours/2016-09-14/
END:VEVENT
BEGIN:VEVENT
DTSTART;TZID=America/Chicago:20160913T180500
DTEND;TZID=America/Chicago:20160913T220900
DTSTAMP:20260423T070028
CREATED:20150711T230500Z
LAST-MODIFIED:20150711T230500Z
UID:10000432-1473789900-1473804540@fortjonesca.org
SUMMARY:Regular Garbage & Recycling Pickup
DESCRIPTION:Trash pickup starts in town at 7am.
URL:https://fortjonesca.org/event/regular-garbage-recycling-pickup/2016-09-13/
END:VEVENT
BEGIN:VEVENT
DTSTART;TZID=America/Chicago:20160912T180500
DTEND;TZID=America/Chicago:20160912T220900
DTSTAMP:20260423T070028
CREATED:20150711T230500Z
LAST-MODIFIED:20150711T230500Z
UID:10000431-1473703500-1473718140@fortjonesca.org
SUMMARY:Regular Garbage & Recycling Pickup
DESCRIPTION:Trash pickup starts in town at 7am.
URL:https://fortjonesca.org/event/regular-garbage-recycling-pickup/2016-09-12/
END:VEVENT
BEGIN:VEVENT
DTSTART;TZID=America/Chicago:20160911T180500
DTEND;TZID=America/Chicago:20160911T220900
DTSTAMP:20260423T070028
CREATED:20150711T230500Z
LAST-MODIFIED:20150711T230500Z
UID:10000430-1473617100-1473631740@fortjonesca.org
SUMMARY:Regular Garbage & Recycling Pickup
DESCRIPTION:Trash pickup starts in town at 7am.
URL:https://fortjonesca.org/event/regular-garbage-recycling-pickup/2016-09-11/
END:VEVENT
BEGIN:VEVENT
DTSTART;TZID=America/Chicago:20160910T180500
DTEND;TZID=America/Chicago:20160910T220900
DTSTAMP:20260423T070028
CREATED:20150711T230500Z
LAST-MODIFIED:20150711T230500Z
UID:10000429-1473530700-1473545340@fortjonesca.org
SUMMARY:Regular Garbage & Recycling Pickup
DESCRIPTION:Trash pickup starts in town at 7am.
URL:https://fortjonesca.org/event/regular-garbage-recycling-pickup/2016-09-10/
END:VEVENT
BEGIN:VEVENT
DTSTART;TZID=America/Chicago:20160909T180500
DTEND;TZID=America/Chicago:20160909T220900
DTSTAMP:20260423T070028
CREATED:20150711T230500Z
LAST-MODIFIED:20150711T230500Z
UID:10000428-1473444300-1473458940@fortjonesca.org
SUMMARY:Regular Garbage & Recycling Pickup
DESCRIPTION:Trash pickup starts in town at 7am.
URL:https://fortjonesca.org/event/regular-garbage-recycling-pickup/2016-09-09/
END:VEVENT
BEGIN:VEVENT
DTSTART;TZID=America/Chicago:20160908T180500
DTEND;TZID=America/Chicago:20160908T220900
DTSTAMP:20260423T070028
CREATED:20150711T230500Z
LAST-MODIFIED:20150711T230500Z
UID:10000427-1473357900-1473372540@fortjonesca.org
SUMMARY:Regular Garbage & Recycling Pickup
DESCRIPTION:Trash pickup starts in town at 7am.
URL:https://fortjonesca.org/event/regular-garbage-recycling-pickup/2016-09-08/
END:VEVENT
BEGIN:VEVENT
DTSTART;TZID=America/Chicago:20160907T180500
DTEND;TZID=America/Chicago:20160907T220900
DTSTAMP:20260423T070028
CREATED:20150711T230500Z
LAST-MODIFIED:20150711T230500Z
UID:10000426-1473271500-1473286140@fortjonesca.org
SUMMARY:Regular Garbage & Recycling Pickup
DESCRIPTION:Trash pickup starts in town at 7am.
URL:https://fortjonesca.org/event/regular-garbage-recycling-pickup/2016-09-07/
END:VEVENT
BEGIN:VEVENT
DTSTART;TZID=America/Chicago:20160907T080000
DTEND;TZID=America/Chicago:20160907T120000
DTSTAMP:20260423T070028
CREATED:20150812T130000Z
LAST-MODIFIED:20150812T130000Z
UID:10000591-1473235200-1473249600@fortjonesca.org
SUMMARY:Clerks Hours
DESCRIPTION:Am in the office from 8am to noon
URL:https://fortjonesca.org/event/clerks-hours/2016-09-07/
END:VEVENT
BEGIN:VEVENT
DTSTART;TZID=America/Chicago:20160906T180500
DTEND;TZID=America/Chicago:20160906T220900
DTSTAMP:20260423T070028
CREATED:20150711T230500Z
LAST-MODIFIED:20150711T230500Z
UID:10000425-1473185100-1473199740@fortjonesca.org
SUMMARY:Regular Garbage & Recycling Pickup
DESCRIPTION:Trash pickup starts in town at 7am.
URL:https://fortjonesca.org/event/regular-garbage-recycling-pickup/2016-09-06/
END:VEVENT
BEGIN:VEVENT
DTSTART;TZID=America/Chicago:20160905T190000
DTEND;TZID=America/Chicago:20160905T190000
DTSTAMP:20260423T070028
CREATED:20150805T000000Z
LAST-MODIFIED:20190314T152300Z
UID:10000503-1473102000-1473102000@fortjonesca.org
SUMMARY:City Council Meeting
DESCRIPTION:
URL:https://fortjonesca.org/event/city-council-meeting/2016-09-05/
END:VEVENT
BEGIN:VEVENT
DTSTART;TZID=America/Chicago:20160905T180500
DTEND;TZID=America/Chicago:20160905T220900
DTSTAMP:20260423T070028
CREATED:20150711T230500Z
LAST-MODIFIED:20150711T230500Z
UID:10000424-1473098700-1473113340@fortjonesca.org
SUMMARY:Regular Garbage & Recycling Pickup
DESCRIPTION:Trash pickup starts in town at 7am.
URL:https://fortjonesca.org/event/regular-garbage-recycling-pickup/2016-09-05/
END:VEVENT
BEGIN:VEVENT
DTSTART;TZID=America/Chicago:20160904T180500
DTEND;TZID=America/Chicago:20160904T220900
DTSTAMP:20260423T070028
CREATED:20150711T230500Z
LAST-MODIFIED:20150711T230500Z
UID:10000423-1473012300-1473026940@fortjonesca.org
SUMMARY:Regular Garbage & Recycling Pickup
DESCRIPTION:Trash pickup starts in town at 7am.
URL:https://fortjonesca.org/event/regular-garbage-recycling-pickup/2016-09-04/
END:VEVENT
BEGIN:VEVENT
DTSTART;TZID=America/Chicago:20160903T180500
DTEND;TZID=America/Chicago:20160903T220900
DTSTAMP:20260423T070028
CREATED:20150711T230500Z
LAST-MODIFIED:20150711T230500Z
UID:10000422-1472925900-1472940540@fortjonesca.org
SUMMARY:Regular Garbage & Recycling Pickup
DESCRIPTION:Trash pickup starts in town at 7am.
URL:https://fortjonesca.org/event/regular-garbage-recycling-pickup/2016-09-03/
END:VEVENT
BEGIN:VEVENT
DTSTART;TZID=America/Chicago:20160902T180500
DTEND;TZID=America/Chicago:20160902T220900
DTSTAMP:20260423T070028
CREATED:20150711T230500Z
LAST-MODIFIED:20150711T230500Z
UID:10000421-1472839500-1472854140@fortjonesca.org
SUMMARY:Regular Garbage & Recycling Pickup
DESCRIPTION:Trash pickup starts in town at 7am.
URL:https://fortjonesca.org/event/regular-garbage-recycling-pickup/2016-09-02/
END:VEVENT
BEGIN:VEVENT
DTSTART;TZID=America/Chicago:20160901T180500
DTEND;TZID=America/Chicago:20160901T220900
DTSTAMP:20260423T070028
CREATED:20150711T230500Z
LAST-MODIFIED:20150711T230500Z
UID:10000420-1472753100-1472767740@fortjonesca.org
SUMMARY:Regular Garbage & Recycling Pickup
DESCRIPTION:Trash pickup starts in town at 7am.
URL:https://fortjonesca.org/event/regular-garbage-recycling-pickup/2016-09-01/
END:VEVENT
BEGIN:VEVENT
DTSTART;TZID=America/Chicago:20160831T180500
DTEND;TZID=America/Chicago:20160831T220900
DTSTAMP:20260423T070028
CREATED:20150711T230500Z
LAST-MODIFIED:20150711T230500Z
UID:10000419-1472666700-1472681340@fortjonesca.org
SUMMARY:Regular Garbage & Recycling Pickup
DESCRIPTION:Trash pickup starts in town at 7am.
URL:https://fortjonesca.org/event/regular-garbage-recycling-pickup/2016-08-31/
END:VEVENT
BEGIN:VEVENT
DTSTART;TZID=America/Chicago:20160831T080000
DTEND;TZID=America/Chicago:20160831T120000
DTSTAMP:20260423T070028
CREATED:20150812T130000Z
LAST-MODIFIED:20150812T130000Z
UID:10000590-1472630400-1472644800@fortjonesca.org
SUMMARY:Clerks Hours
DESCRIPTION:Am in the office from 8am to noon
URL:https://fortjonesca.org/event/clerks-hours/2016-08-31/
END:VEVENT
BEGIN:VEVENT
DTSTART;TZID=America/Chicago:20160830T180500
DTEND;TZID=America/Chicago:20160830T220900
DTSTAMP:20260423T070028
CREATED:20150711T230500Z
LAST-MODIFIED:20150711T230500Z
UID:10000418-1472580300-1472594940@fortjonesca.org
SUMMARY:Regular Garbage & Recycling Pickup
DESCRIPTION:Trash pickup starts in town at 7am.
URL:https://fortjonesca.org/event/regular-garbage-recycling-pickup/2016-08-30/
END:VEVENT
BEGIN:VEVENT
DTSTART;TZID=America/Chicago:20160829T180500
DTEND;TZID=America/Chicago:20160829T220900
DTSTAMP:20260423T070028
CREATED:20150711T230500Z
LAST-MODIFIED:20150711T230500Z
UID:10000417-1472493900-1472508540@fortjonesca.org
SUMMARY:Regular Garbage & Recycling Pickup
DESCRIPTION:Trash pickup starts in town at 7am.
URL:https://fortjonesca.org/event/regular-garbage-recycling-pickup/2016-08-29/
END:VEVENT
BEGIN:VEVENT
DTSTART;TZID=America/Chicago:20160828T180500
DTEND;TZID=America/Chicago:20160828T220900
DTSTAMP:20260423T070028
CREATED:20150711T230500Z
LAST-MODIFIED:20150711T230500Z
UID:10000416-1472407500-1472422140@fortjonesca.org
SUMMARY:Regular Garbage & Recycling Pickup
DESCRIPTION:Trash pickup starts in town at 7am.
URL:https://fortjonesca.org/event/regular-garbage-recycling-pickup/2016-08-28/
END:VEVENT
END:VCALENDAR