BEGIN:VCALENDAR
VERSION:2.0
PRODID:-//Town of Fort Jones, Siskiyou County, CA - ECPv6.15.17.1//NONSGML v1.0//EN
CALSCALE:GREGORIAN
METHOD:PUBLISH
X-WR-CALNAME:Town of Fort Jones, Siskiyou County, CA
X-ORIGINAL-URL:https://fortjonesca.org
X-WR-CALDESC:Events for Town of Fort Jones, Siskiyou County, CA
REFRESH-INTERVAL;VALUE=DURATION:PT1H
X-Robots-Tag:noindex
X-PUBLISHED-TTL:PT1H
BEGIN:VTIMEZONE
TZID:America/Chicago
BEGIN:DAYLIGHT
TZOFFSETFROM:-0600
TZOFFSETTO:-0500
TZNAME:CDT
DTSTART:20150308T080000
END:DAYLIGHT
BEGIN:STANDARD
TZOFFSETFROM:-0500
TZOFFSETTO:-0600
TZNAME:CST
DTSTART:20151101T070000
END:STANDARD
BEGIN:DAYLIGHT
TZOFFSETFROM:-0600
TZOFFSETTO:-0500
TZNAME:CDT
DTSTART:20160313T080000
END:DAYLIGHT
BEGIN:STANDARD
TZOFFSETFROM:-0500
TZOFFSETTO:-0600
TZNAME:CST
DTSTART:20161106T070000
END:STANDARD
BEGIN:DAYLIGHT
TZOFFSETFROM:-0600
TZOFFSETTO:-0500
TZNAME:CDT
DTSTART:20170312T080000
END:DAYLIGHT
BEGIN:STANDARD
TZOFFSETFROM:-0500
TZOFFSETTO:-0600
TZNAME:CST
DTSTART:20171105T070000
END:STANDARD
END:VTIMEZONE
BEGIN:VEVENT
DTSTART;TZID=America/Chicago:20161007T180500
DTEND;TZID=America/Chicago:20161007T220900
DTSTAMP:20260423T033646
CREATED:20150711T230500Z
LAST-MODIFIED:20150711T230500Z
UID:10000456-1475863500-1475878140@fortjonesca.org
SUMMARY:Regular Garbage & Recycling Pickup
DESCRIPTION:Trash pickup starts in town at 7am.
URL:https://fortjonesca.org/event/regular-garbage-recycling-pickup/2016-10-07/
END:VEVENT
BEGIN:VEVENT
DTSTART;VALUE=DATE:20161007
DTEND;VALUE=DATE:20161008
DTSTAMP:20260423T033646
CREATED:20161003T050000Z
LAST-MODIFIED:20161003T050000Z
UID:10000627-1475798400-1475884799@fortjonesca.org
SUMMARY:SingleOctEvent
DESCRIPTION:
URL:https://fortjonesca.org/event/singleoctevent/2016-10-07/
END:VEVENT
BEGIN:VEVENT
DTSTART;TZID=America/Chicago:20161006T180500
DTEND;TZID=America/Chicago:20161006T220900
DTSTAMP:20260423T033646
CREATED:20150711T230500Z
LAST-MODIFIED:20150711T230500Z
UID:10000455-1475777100-1475791740@fortjonesca.org
SUMMARY:Regular Garbage & Recycling Pickup
DESCRIPTION:Trash pickup starts in town at 7am.
URL:https://fortjonesca.org/event/regular-garbage-recycling-pickup/2016-10-06/
END:VEVENT
BEGIN:VEVENT
DTSTART;VALUE=DATE:20161006
DTEND;VALUE=DATE:20161007
DTSTAMP:20260423T033646
CREATED:20161003T050000Z
LAST-MODIFIED:20161003T050000Z
UID:10000626-1475712000-1475798399@fortjonesca.org
SUMMARY:SingleOctEvent
DESCRIPTION:
URL:https://fortjonesca.org/event/singleoctevent/2016-10-06/
END:VEVENT
BEGIN:VEVENT
DTSTART;TZID=America/Chicago:20161005T180500
DTEND;TZID=America/Chicago:20161005T220900
DTSTAMP:20260423T033646
CREATED:20150711T230500Z
LAST-MODIFIED:20150711T230500Z
UID:10000454-1475690700-1475705340@fortjonesca.org
SUMMARY:Regular Garbage & Recycling Pickup
DESCRIPTION:Trash pickup starts in town at 7am.
URL:https://fortjonesca.org/event/regular-garbage-recycling-pickup/2016-10-05/
END:VEVENT
BEGIN:VEVENT
DTSTART;TZID=America/Chicago:20161005T080000
DTEND;TZID=America/Chicago:20161005T120000
DTSTAMP:20260423T033646
CREATED:20150812T130000Z
LAST-MODIFIED:20150812T130000Z
UID:10000595-1475654400-1475668800@fortjonesca.org
SUMMARY:Clerks Hours
DESCRIPTION:Am in the office from 8am to noon
URL:https://fortjonesca.org/event/clerks-hours/2016-10-05/
END:VEVENT
BEGIN:VEVENT
DTSTART;VALUE=DATE:20161005
DTEND;VALUE=DATE:20161006
DTSTAMP:20260423T033646
CREATED:20161003T050000Z
LAST-MODIFIED:20161003T050000Z
UID:10000625-1475625600-1475711999@fortjonesca.org
SUMMARY:SingleOctEvent
DESCRIPTION:
URL:https://fortjonesca.org/event/singleoctevent/2016-10-05/
END:VEVENT
BEGIN:VEVENT
DTSTART;TZID=America/Chicago:20161004T180500
DTEND;TZID=America/Chicago:20161004T220900
DTSTAMP:20260423T033646
CREATED:20150711T230500Z
LAST-MODIFIED:20150711T230500Z
UID:10000453-1475604300-1475618940@fortjonesca.org
SUMMARY:Regular Garbage & Recycling Pickup
DESCRIPTION:Trash pickup starts in town at 7am.
URL:https://fortjonesca.org/event/regular-garbage-recycling-pickup/2016-10-04/
END:VEVENT
BEGIN:VEVENT
DTSTART;VALUE=DATE:20161004
DTEND;VALUE=DATE:20161005
DTSTAMP:20260423T033646
CREATED:20161003T050000Z
LAST-MODIFIED:20161003T050000Z
UID:10000624-1475539200-1475625599@fortjonesca.org
SUMMARY:SingleOctEvent
DESCRIPTION:
URL:https://fortjonesca.org/event/singleoctevent/2016-10-04/
END:VEVENT
BEGIN:VEVENT
DTSTART;TZID=America/Chicago:20161003T190000
DTEND;TZID=America/Chicago:20161003T190000
DTSTAMP:20260423T033646
CREATED:20150805T000000Z
LAST-MODIFIED:20190314T152300Z
UID:10000504-1475521200-1475521200@fortjonesca.org
SUMMARY:City Council Meeting
DESCRIPTION:
URL:https://fortjonesca.org/event/city-council-meeting/2016-10-03/
END:VEVENT
BEGIN:VEVENT
DTSTART;TZID=America/Chicago:20161003T180500
DTEND;TZID=America/Chicago:20161003T220900
DTSTAMP:20260423T033646
CREATED:20150711T230500Z
LAST-MODIFIED:20150711T230500Z
UID:10000452-1475517900-1475532540@fortjonesca.org
SUMMARY:Regular Garbage & Recycling Pickup
DESCRIPTION:Trash pickup starts in town at 7am.
URL:https://fortjonesca.org/event/regular-garbage-recycling-pickup/2016-10-03/
END:VEVENT
BEGIN:VEVENT
DTSTART;VALUE=DATE:20161003
DTEND;VALUE=DATE:20161004
DTSTAMP:20260423T033646
CREATED:20161003T050000Z
LAST-MODIFIED:20161003T050000Z
UID:10000623-1475452800-1475539199@fortjonesca.org
SUMMARY:SingleOctEvent
DESCRIPTION:
URL:https://fortjonesca.org/event/singleoctevent/2016-10-03/
END:VEVENT
BEGIN:VEVENT
DTSTART;TZID=America/Chicago:20161002T180500
DTEND;TZID=America/Chicago:20161002T220900
DTSTAMP:20260423T033646
CREATED:20150711T230500Z
LAST-MODIFIED:20150711T230500Z
UID:10000451-1475431500-1475446140@fortjonesca.org
SUMMARY:Regular Garbage & Recycling Pickup
DESCRIPTION:Trash pickup starts in town at 7am.
URL:https://fortjonesca.org/event/regular-garbage-recycling-pickup/2016-10-02/
END:VEVENT
BEGIN:VEVENT
DTSTART;TZID=America/Chicago:20161001T180500
DTEND;TZID=America/Chicago:20161001T220900
DTSTAMP:20260423T033646
CREATED:20150711T230500Z
LAST-MODIFIED:20150711T230500Z
UID:10000450-1475345100-1475359740@fortjonesca.org
SUMMARY:Regular Garbage & Recycling Pickup
DESCRIPTION:Trash pickup starts in town at 7am.
URL:https://fortjonesca.org/event/regular-garbage-recycling-pickup/2016-10-01/
END:VEVENT
BEGIN:VEVENT
DTSTART;TZID=America/Chicago:20160930T180500
DTEND;TZID=America/Chicago:20160930T220900
DTSTAMP:20260423T033646
CREATED:20150711T230500Z
LAST-MODIFIED:20150711T230500Z
UID:10000449-1475258700-1475273340@fortjonesca.org
SUMMARY:Regular Garbage & Recycling Pickup
DESCRIPTION:Trash pickup starts in town at 7am.
URL:https://fortjonesca.org/event/regular-garbage-recycling-pickup/2016-09-30/
END:VEVENT
BEGIN:VEVENT
DTSTART;TZID=America/Chicago:20160929T180500
DTEND;TZID=America/Chicago:20160929T220900
DTSTAMP:20260423T033646
CREATED:20150711T230500Z
LAST-MODIFIED:20150711T230500Z
UID:10000448-1475172300-1475186940@fortjonesca.org
SUMMARY:Regular Garbage & Recycling Pickup
DESCRIPTION:Trash pickup starts in town at 7am.
URL:https://fortjonesca.org/event/regular-garbage-recycling-pickup/2016-09-29/
END:VEVENT
BEGIN:VEVENT
DTSTART;TZID=America/Chicago:20160928T180500
DTEND;TZID=America/Chicago:20160928T220900
DTSTAMP:20260423T033646
CREATED:20150711T230500Z
LAST-MODIFIED:20150711T230500Z
UID:10000447-1475085900-1475100540@fortjonesca.org
SUMMARY:Regular Garbage & Recycling Pickup
DESCRIPTION:Trash pickup starts in town at 7am.
URL:https://fortjonesca.org/event/regular-garbage-recycling-pickup/2016-09-28/
END:VEVENT
BEGIN:VEVENT
DTSTART;TZID=America/Chicago:20160928T080000
DTEND;TZID=America/Chicago:20160928T120000
DTSTAMP:20260423T033646
CREATED:20150812T130000Z
LAST-MODIFIED:20150812T130000Z
UID:10000594-1475049600-1475064000@fortjonesca.org
SUMMARY:Clerks Hours
DESCRIPTION:Am in the office from 8am to noon
URL:https://fortjonesca.org/event/clerks-hours/2016-09-28/
END:VEVENT
BEGIN:VEVENT
DTSTART;TZID=America/Chicago:20160927T180500
DTEND;TZID=America/Chicago:20160927T220900
DTSTAMP:20260423T033646
CREATED:20150711T230500Z
LAST-MODIFIED:20150711T230500Z
UID:10000446-1474999500-1475014140@fortjonesca.org
SUMMARY:Regular Garbage & Recycling Pickup
DESCRIPTION:Trash pickup starts in town at 7am.
URL:https://fortjonesca.org/event/regular-garbage-recycling-pickup/2016-09-27/
END:VEVENT
BEGIN:VEVENT
DTSTART;TZID=America/Chicago:20160926T180500
DTEND;TZID=America/Chicago:20160926T220900
DTSTAMP:20260423T033646
CREATED:20150711T230500Z
LAST-MODIFIED:20150711T230500Z
UID:10000445-1474913100-1474927740@fortjonesca.org
SUMMARY:Regular Garbage & Recycling Pickup
DESCRIPTION:Trash pickup starts in town at 7am.
URL:https://fortjonesca.org/event/regular-garbage-recycling-pickup/2016-09-26/
END:VEVENT
BEGIN:VEVENT
DTSTART;TZID=America/Chicago:20160925T180500
DTEND;TZID=America/Chicago:20160925T220900
DTSTAMP:20260423T033646
CREATED:20150711T230500Z
LAST-MODIFIED:20150711T230500Z
UID:10000444-1474826700-1474841340@fortjonesca.org
SUMMARY:Regular Garbage & Recycling Pickup
DESCRIPTION:Trash pickup starts in town at 7am.
URL:https://fortjonesca.org/event/regular-garbage-recycling-pickup/2016-09-25/
END:VEVENT
BEGIN:VEVENT
DTSTART;TZID=America/Chicago:20160924T180500
DTEND;TZID=America/Chicago:20160924T220900
DTSTAMP:20260423T033646
CREATED:20150711T230500Z
LAST-MODIFIED:20150711T230500Z
UID:10000443-1474740300-1474754940@fortjonesca.org
SUMMARY:Regular Garbage & Recycling Pickup
DESCRIPTION:Trash pickup starts in town at 7am.
URL:https://fortjonesca.org/event/regular-garbage-recycling-pickup/2016-09-24/
END:VEVENT
BEGIN:VEVENT
DTSTART;TZID=America/Chicago:20160923T180500
DTEND;TZID=America/Chicago:20160923T220900
DTSTAMP:20260423T033646
CREATED:20150711T230500Z
LAST-MODIFIED:20150711T230500Z
UID:10000442-1474653900-1474668540@fortjonesca.org
SUMMARY:Regular Garbage & Recycling Pickup
DESCRIPTION:Trash pickup starts in town at 7am.
URL:https://fortjonesca.org/event/regular-garbage-recycling-pickup/2016-09-23/
END:VEVENT
BEGIN:VEVENT
DTSTART;TZID=America/Chicago:20160922T180500
DTEND;TZID=America/Chicago:20160922T220900
DTSTAMP:20260423T033646
CREATED:20150711T230500Z
LAST-MODIFIED:20150711T230500Z
UID:10000441-1474567500-1474582140@fortjonesca.org
SUMMARY:Regular Garbage & Recycling Pickup
DESCRIPTION:Trash pickup starts in town at 7am.
URL:https://fortjonesca.org/event/regular-garbage-recycling-pickup/2016-09-22/
END:VEVENT
BEGIN:VEVENT
DTSTART;TZID=America/Chicago:20160921T180500
DTEND;TZID=America/Chicago:20160921T220900
DTSTAMP:20260423T033646
CREATED:20150711T230500Z
LAST-MODIFIED:20150711T230500Z
UID:10000440-1474481100-1474495740@fortjonesca.org
SUMMARY:Regular Garbage & Recycling Pickup
DESCRIPTION:Trash pickup starts in town at 7am.
URL:https://fortjonesca.org/event/regular-garbage-recycling-pickup/2016-09-21/
END:VEVENT
BEGIN:VEVENT
DTSTART;TZID=America/Chicago:20160921T080000
DTEND;TZID=America/Chicago:20160921T120000
DTSTAMP:20260423T033646
CREATED:20150812T130000Z
LAST-MODIFIED:20150812T130000Z
UID:10000593-1474444800-1474459200@fortjonesca.org
SUMMARY:Clerks Hours
DESCRIPTION:Am in the office from 8am to noon
URL:https://fortjonesca.org/event/clerks-hours/2016-09-21/
END:VEVENT
BEGIN:VEVENT
DTSTART;TZID=America/Chicago:20160920T180500
DTEND;TZID=America/Chicago:20160920T220900
DTSTAMP:20260423T033646
CREATED:20150711T230500Z
LAST-MODIFIED:20150711T230500Z
UID:10000439-1474394700-1474409340@fortjonesca.org
SUMMARY:Regular Garbage & Recycling Pickup
DESCRIPTION:Trash pickup starts in town at 7am.
URL:https://fortjonesca.org/event/regular-garbage-recycling-pickup/2016-09-20/
END:VEVENT
BEGIN:VEVENT
DTSTART;TZID=America/Chicago:20160919T180500
DTEND;TZID=America/Chicago:20160919T220900
DTSTAMP:20260423T033646
CREATED:20150711T230500Z
LAST-MODIFIED:20150711T230500Z
UID:10000438-1474308300-1474322940@fortjonesca.org
SUMMARY:Regular Garbage & Recycling Pickup
DESCRIPTION:Trash pickup starts in town at 7am.
URL:https://fortjonesca.org/event/regular-garbage-recycling-pickup/2016-09-19/
END:VEVENT
BEGIN:VEVENT
DTSTART;TZID=America/Chicago:20160918T180500
DTEND;TZID=America/Chicago:20160918T220900
DTSTAMP:20260423T033646
CREATED:20150711T230500Z
LAST-MODIFIED:20150711T230500Z
UID:10000437-1474221900-1474236540@fortjonesca.org
SUMMARY:Regular Garbage & Recycling Pickup
DESCRIPTION:Trash pickup starts in town at 7am.
URL:https://fortjonesca.org/event/regular-garbage-recycling-pickup/2016-09-18/
END:VEVENT
BEGIN:VEVENT
DTSTART;TZID=America/Chicago:20160917T180500
DTEND;TZID=America/Chicago:20160917T220900
DTSTAMP:20260423T033646
CREATED:20150711T230500Z
LAST-MODIFIED:20150711T230500Z
UID:10000436-1474135500-1474150140@fortjonesca.org
SUMMARY:Regular Garbage & Recycling Pickup
DESCRIPTION:Trash pickup starts in town at 7am.
URL:https://fortjonesca.org/event/regular-garbage-recycling-pickup/2016-09-17/
END:VEVENT
END:VCALENDAR