BEGIN:VCALENDAR
VERSION:2.0
PRODID:-//Town of Fort Jones, Siskiyou County, CA - ECPv6.15.17.1//NONSGML v1.0//EN
CALSCALE:GREGORIAN
METHOD:PUBLISH
X-WR-CALNAME:Town of Fort Jones, Siskiyou County, CA
X-ORIGINAL-URL:https://fortjonesca.org
X-WR-CALDESC:Events for Town of Fort Jones, Siskiyou County, CA
REFRESH-INTERVAL;VALUE=DURATION:PT1H
X-Robots-Tag:noindex
X-PUBLISHED-TTL:PT1H
BEGIN:VTIMEZONE
TZID:America/Chicago
BEGIN:DAYLIGHT
TZOFFSETFROM:-0600
TZOFFSETTO:-0500
TZNAME:CDT
DTSTART:20210314T080000
END:DAYLIGHT
BEGIN:STANDARD
TZOFFSETFROM:-0500
TZOFFSETTO:-0600
TZNAME:CST
DTSTART:20211107T070000
END:STANDARD
BEGIN:DAYLIGHT
TZOFFSETFROM:-0600
TZOFFSETTO:-0500
TZNAME:CDT
DTSTART:20220313T080000
END:DAYLIGHT
BEGIN:STANDARD
TZOFFSETFROM:-0500
TZOFFSETTO:-0600
TZNAME:CST
DTSTART:20221106T070000
END:STANDARD
BEGIN:DAYLIGHT
TZOFFSETFROM:-0600
TZOFFSETTO:-0500
TZNAME:CDT
DTSTART:20230312T080000
END:DAYLIGHT
BEGIN:STANDARD
TZOFFSETFROM:-0500
TZOFFSETTO:-0600
TZNAME:CST
DTSTART:20231105T070000
END:STANDARD
END:VTIMEZONE
BEGIN:VEVENT
DTSTART;TZID=America/Chicago:20220831T093000
DTEND;TZID=America/Chicago:20220831T103000
DTSTAMP:20260423T012003
CREATED:20211013T212834Z
LAST-MODIFIED:20211013T213137Z
UID:10000928-1661938200-1661941800@fortjonesca.org
SUMMARY:Wednesday Morning Yoga
DESCRIPTION:No cost\, all ages welcome! 9:30am-10:30am at City Hall. Bring a mat for the floor.
URL:https://fortjonesca.org/event/wednesday-morning-yoga/2022-08-31/
END:VEVENT
BEGIN:VEVENT
DTSTART;TZID=America/Chicago:20220902T180000
DTEND;TZID=America/Chicago:20220902T200000
DTSTAMP:20260423T012003
CREATED:20210730T200356Z
LAST-MODIFIED:20210730T200356Z
UID:10000791-1662141600-1662148800@fortjonesca.org
SUMMARY:AA Meeting
DESCRIPTION:
URL:https://fortjonesca.org/event/aa-meeting/2022-09-02/
END:VEVENT
BEGIN:VEVENT
DTSTART;TZID=America/Chicago:20220907T093000
DTEND;TZID=America/Chicago:20220907T103000
DTSTAMP:20260423T012003
CREATED:20211013T212834Z
LAST-MODIFIED:20211013T213137Z
UID:10000929-1662543000-1662546600@fortjonesca.org
SUMMARY:Wednesday Morning Yoga
DESCRIPTION:No cost\, all ages welcome! 9:30am-10:30am at City Hall. Bring a mat for the floor.
URL:https://fortjonesca.org/event/wednesday-morning-yoga/2022-09-07/
END:VEVENT
BEGIN:VEVENT
DTSTART;TZID=America/Chicago:20220909T180000
DTEND;TZID=America/Chicago:20220909T200000
DTSTAMP:20260423T012003
CREATED:20210730T200356Z
LAST-MODIFIED:20210730T200356Z
UID:10000792-1662746400-1662753600@fortjonesca.org
SUMMARY:AA Meeting
DESCRIPTION:
URL:https://fortjonesca.org/event/aa-meeting/2022-09-09/
END:VEVENT
BEGIN:VEVENT
DTSTART;TZID=America/Chicago:20220912T190000
DTEND;TZID=America/Chicago:20220912T203000
DTSTAMP:20260423T012003
CREATED:20220909T231922Z
LAST-MODIFIED:20220909T231922Z
UID:10001115-1663009200-1663014600@fortjonesca.org
SUMMARY:September City Council Meeting
DESCRIPTION:
URL:https://fortjonesca.org/event/september-city-council-meeting/
END:VEVENT
BEGIN:VEVENT
DTSTART;TZID=America/Chicago:20220914T093000
DTEND;TZID=America/Chicago:20220914T103000
DTSTAMP:20260423T012003
CREATED:20211013T212834Z
LAST-MODIFIED:20211013T213137Z
UID:10000930-1663147800-1663151400@fortjonesca.org
SUMMARY:Wednesday Morning Yoga
DESCRIPTION:No cost\, all ages welcome! 9:30am-10:30am at City Hall. Bring a mat for the floor.
URL:https://fortjonesca.org/event/wednesday-morning-yoga/2022-09-14/
END:VEVENT
BEGIN:VEVENT
DTSTART;TZID=America/Chicago:20220915T140000
DTEND;TZID=America/Chicago:20220915T160000
DTSTAMP:20260423T012003
CREATED:20211210T180339Z
LAST-MODIFIED:20211210T180339Z
UID:10000995-1663250400-1663257600@fortjonesca.org
SUMMARY:Food Assistance Available
DESCRIPTION:This program is to assist those negatively impacted by Covid-19. Income-qualified households can pick up protein and produce every other month at Valley Oaks Seniors on Thursdays between 12:00pm and 2:00pm beginning on January 20\, 2022. See flyer for dates. \n  \nhttps://cdn.townweb.com/fortjonesca.org/wp-content/uploads/2021/12/Protein-and-Produce-Flyer.pdf
URL:https://fortjonesca.org/event/food-assistance-available-5/
END:VEVENT
BEGIN:VEVENT
DTSTART;TZID=America/Chicago:20220916T180000
DTEND;TZID=America/Chicago:20220916T200000
DTSTAMP:20260423T012003
CREATED:20210730T200356Z
LAST-MODIFIED:20210730T200356Z
UID:10000793-1663351200-1663358400@fortjonesca.org
SUMMARY:AA Meeting
DESCRIPTION:
URL:https://fortjonesca.org/event/aa-meeting/2022-09-16/
END:VEVENT
BEGIN:VEVENT
DTSTART;TZID=America/Chicago:20220921T093000
DTEND;TZID=America/Chicago:20220921T103000
DTSTAMP:20260423T012003
CREATED:20211013T212834Z
LAST-MODIFIED:20211013T213137Z
UID:10000931-1663752600-1663756200@fortjonesca.org
SUMMARY:Wednesday Morning Yoga
DESCRIPTION:No cost\, all ages welcome! 9:30am-10:30am at City Hall. Bring a mat for the floor.
URL:https://fortjonesca.org/event/wednesday-morning-yoga/2022-09-21/
END:VEVENT
BEGIN:VEVENT
DTSTART;TZID=America/Chicago:20220921T173000
DTEND;TZID=America/Chicago:20220921T203000
DTSTAMP:20260423T012003
CREATED:20220906T183804Z
LAST-MODIFIED:20220921T205625Z
UID:10001114-1663781400-1663792200@fortjonesca.org
SUMMARY:Community Branding Summit
DESCRIPTION:Join virtually here. \nWhat should Fort Jones be known for? Share your ideas in our online survey. \nThe Town of Fort Jones is partnering with the Rural Community Assistance Corporation (RCAC) to host the Community Branding Summit. Summit participants will create a strategy to encourage visitors\, including those passing through on Hwy 3\, to stop and patronize Fort Jones businesses. The final brand will be a compelling snapshot of what makes Fort Jones unique and worth visiting\, both in the present and in the future. Local business owners and town residents are invited to attend and lend their insight. \nAccording to Fort Jones Deputy City Clerk Rachel Agron\, “Attracting visitors to Fort Jones is a way to stimulate the local economy without having to increase our housing density\, classroom sizes\, or daily traffic—in other words\, it is a way to develop our local economy while keeping Scott Valley Rural.” She is optimistic that the Town will be able to show potential investors that Fort Jones is a place worth visiting and that attracting new businesses will decrease storefront vacancy\, provide lodgings for seasonal firefighters\, offer expanded restaurant hours\, and provide other goods and services that residents have been asking for. \nThis summit will also seek to build upon work that’s already being done to capture and communicate the Town’s Rural nature\, historic atmosphere\, and local amenities to those touring the Scott Valley Region. Community Branding is built on showcasing experiences that are unique to a community. Highlighting the Town’s unique draws will be a step towards strengthening local businesses and ensuring sustainable community health. \n“At the end of the day\, this is about money” says RCAC Rural Development Specialist Aaron Reimler. “Community brands attract tourists and bring customers to local businesses that wouldn’t otherwise find them which makes insight from both local business owners and residents extremely important. It’s a way for rural communities to take steps towards engaging in comprehensive economic development that strengthens the community without losing the things that make it a rural community.” \nThis summit represents the next step in the ongoing collaboration between the Town of Fort Jones and RCAC. This effort has included the ongoing Fort Jones Main Street Project\, upgrades to the Little League Park\, and last year’s dedicated workshop series that brought together the Town Council\, residents\, business owners\, and other stakeholders to identify projects that would benefit the community. \nRSVP HERE. \nFor more information\, please contact Deputy City Clerk Rachel Agron at rachel.agron@fortjonesca.com or (530)-468-2281\, or view the agenda HERE. \n 
URL:https://fortjonesca.org/event/community-branding-summit/
CATEGORIES:Plan Commission
ATTACH;FMTTYPE=image/png:https://cdn.townweb.com/fortjonesca.org/wp-content/uploads/2022/09/Branding-Summit-Flyer.png
END:VEVENT
BEGIN:VEVENT
DTSTART;TZID=America/Chicago:20220923T180000
DTEND;TZID=America/Chicago:20220923T200000
DTSTAMP:20260423T012003
CREATED:20210730T200356Z
LAST-MODIFIED:20210730T200356Z
UID:10000794-1663956000-1663963200@fortjonesca.org
SUMMARY:AA Meeting
DESCRIPTION:
URL:https://fortjonesca.org/event/aa-meeting/2022-09-23/
END:VEVENT
BEGIN:VEVENT
DTSTART;TZID=America/Chicago:20220928T093000
DTEND;TZID=America/Chicago:20220928T103000
DTSTAMP:20260423T012003
CREATED:20211013T212834Z
LAST-MODIFIED:20211013T213137Z
UID:10000932-1664357400-1664361000@fortjonesca.org
SUMMARY:Wednesday Morning Yoga
DESCRIPTION:No cost\, all ages welcome! 9:30am-10:30am at City Hall. Bring a mat for the floor.
URL:https://fortjonesca.org/event/wednesday-morning-yoga/2022-09-28/
END:VEVENT
BEGIN:VEVENT
DTSTART;TZID=America/Chicago:20220930T180000
DTEND;TZID=America/Chicago:20220930T200000
DTSTAMP:20260423T012003
CREATED:20210730T200356Z
LAST-MODIFIED:20210730T200356Z
UID:10000795-1664560800-1664568000@fortjonesca.org
SUMMARY:AA Meeting
DESCRIPTION:
URL:https://fortjonesca.org/event/aa-meeting/2022-09-30/
END:VEVENT
BEGIN:VEVENT
DTSTART;TZID=America/Chicago:20221004T100000
DTEND;TZID=America/Chicago:20221004T140000
DTSTAMP:20260423T012003
CREATED:20220919T223956Z
LAST-MODIFIED:20220919T223956Z
UID:10001116-1664877600-1664892000@fortjonesca.org
SUMMARY:Drive-Thru Flu Vaccination Clinic
DESCRIPTION:Get your FREE flu shot at the Golden State Fairgrounds on Tuesday\, October 4 between 10:00am and 2:00pm. Must be 18 or older.  \nQuestions? Call (530)-841-2134 \nGolden State Fairgrounds \n1712 Fairlane Rd. Yreka\, CA
URL:https://fortjonesca.org/event/drive-thru-flu-vaccination-clinic/
CATEGORIES:Town Board
ATTACH;FMTTYPE=image/jpeg:https://cdn.townweb.com/fortjonesca.org/wp-content/uploads/2022/09/Drive-Through-Flu-Vaccines-Fairgrounds-scaled.jpg
END:VEVENT
BEGIN:VEVENT
DTSTART;TZID=America/Chicago:20221005T093000
DTEND;TZID=America/Chicago:20221005T103000
DTSTAMP:20260423T012003
CREATED:20211013T212834Z
LAST-MODIFIED:20211013T213137Z
UID:10000933-1664962200-1664965800@fortjonesca.org
SUMMARY:Wednesday Morning Yoga
DESCRIPTION:No cost\, all ages welcome! 9:30am-10:30am at City Hall. Bring a mat for the floor.
URL:https://fortjonesca.org/event/wednesday-morning-yoga/2022-10-05/
END:VEVENT
BEGIN:VEVENT
DTSTART;TZID=America/Chicago:20221007T180000
DTEND;TZID=America/Chicago:20221007T200000
DTSTAMP:20260423T012003
CREATED:20210730T200356Z
LAST-MODIFIED:20210730T200356Z
UID:10000796-1665165600-1665172800@fortjonesca.org
SUMMARY:AA Meeting
DESCRIPTION:
URL:https://fortjonesca.org/event/aa-meeting/2022-10-07/
END:VEVENT
BEGIN:VEVENT
DTSTART;TZID=America/Chicago:20221010T190000
DTEND;TZID=America/Chicago:20221010T203000
DTSTAMP:20260423T012003
CREATED:20221006T212945Z
LAST-MODIFIED:20221006T212945Z
UID:10001117-1665428400-1665433800@fortjonesca.org
SUMMARY:October Council Meeting8
DESCRIPTION:
URL:https://fortjonesca.org/event/october-council-meeting8/
END:VEVENT
BEGIN:VEVENT
DTSTART;TZID=America/Chicago:20221012T093000
DTEND;TZID=America/Chicago:20221012T103000
DTSTAMP:20260423T012003
CREATED:20211013T212834Z
LAST-MODIFIED:20211013T213137Z
UID:10000934-1665567000-1665570600@fortjonesca.org
SUMMARY:Wednesday Morning Yoga
DESCRIPTION:No cost\, all ages welcome! 9:30am-10:30am at City Hall. Bring a mat for the floor.
URL:https://fortjonesca.org/event/wednesday-morning-yoga/2022-10-12/
END:VEVENT
BEGIN:VEVENT
DTSTART;TZID=America/Chicago:20221014T180000
DTEND;TZID=America/Chicago:20221014T200000
DTSTAMP:20260423T012003
CREATED:20210730T200356Z
LAST-MODIFIED:20210730T200356Z
UID:10000797-1665770400-1665777600@fortjonesca.org
SUMMARY:AA Meeting
DESCRIPTION:
URL:https://fortjonesca.org/event/aa-meeting/2022-10-14/
END:VEVENT
BEGIN:VEVENT
DTSTART;TZID=America/Chicago:20221019T093000
DTEND;TZID=America/Chicago:20221019T103000
DTSTAMP:20260423T012003
CREATED:20211013T212834Z
LAST-MODIFIED:20211013T213137Z
UID:10000935-1666171800-1666175400@fortjonesca.org
SUMMARY:Wednesday Morning Yoga
DESCRIPTION:No cost\, all ages welcome! 9:30am-10:30am at City Hall. Bring a mat for the floor.
URL:https://fortjonesca.org/event/wednesday-morning-yoga/2022-10-19/
END:VEVENT
BEGIN:VEVENT
DTSTART;TZID=America/Chicago:20221021T180000
DTEND;TZID=America/Chicago:20221021T200000
DTSTAMP:20260423T012003
CREATED:20210730T200356Z
LAST-MODIFIED:20210730T200356Z
UID:10000798-1666375200-1666382400@fortjonesca.org
SUMMARY:AA Meeting
DESCRIPTION:
URL:https://fortjonesca.org/event/aa-meeting/2022-10-21/
END:VEVENT
BEGIN:VEVENT
DTSTART;TZID=America/Chicago:20221026T093000
DTEND;TZID=America/Chicago:20221026T103000
DTSTAMP:20260423T012003
CREATED:20211013T212834Z
LAST-MODIFIED:20211013T213137Z
UID:10000936-1666776600-1666780200@fortjonesca.org
SUMMARY:Wednesday Morning Yoga
DESCRIPTION:No cost\, all ages welcome! 9:30am-10:30am at City Hall. Bring a mat for the floor.
URL:https://fortjonesca.org/event/wednesday-morning-yoga/2022-10-26/
END:VEVENT
BEGIN:VEVENT
DTSTART;TZID=America/Chicago:20221028T173000
DTEND;TZID=America/Chicago:20221028T200000
DTSTAMP:20260423T012003
CREATED:20221025T181231Z
LAST-MODIFIED:20221025T181231Z
UID:10001118-1666978200-1666987200@fortjonesca.org
SUMMARY:Trunk Or Treat
DESCRIPTION:Don’t miss out on the first-ever Fort Jones Trunk Or Treat! Bring your child to the Mechanics Bank parking lot on Friday\, October 28\, 5:30-8:00pm. Thank you Lacey Gemaehlich and Linda Berry for organizing the event.
URL:https://fortjonesca.org/event/trunk-or-treat/
CATEGORIES:Clerk's Hours
ATTACH;FMTTYPE=image/jpeg:https://cdn.townweb.com/fortjonesca.org/wp-content/uploads/2022/10/Trunk-Or-Treat-Flyer-scaled.jpg
END:VEVENT
BEGIN:VEVENT
DTSTART;TZID=America/Chicago:20221028T180000
DTEND;TZID=America/Chicago:20221028T200000
DTSTAMP:20260423T012003
CREATED:20210730T200356Z
LAST-MODIFIED:20210730T200356Z
UID:10000799-1666980000-1666987200@fortjonesca.org
SUMMARY:AA Meeting
DESCRIPTION:
URL:https://fortjonesca.org/event/aa-meeting/2022-10-28/
END:VEVENT
BEGIN:VEVENT
DTSTART;TZID=America/Chicago:20221102T093000
DTEND;TZID=America/Chicago:20221102T103000
DTSTAMP:20260423T012003
CREATED:20211013T212834Z
LAST-MODIFIED:20211013T213137Z
UID:10000937-1667381400-1667385000@fortjonesca.org
SUMMARY:Wednesday Morning Yoga
DESCRIPTION:No cost\, all ages welcome! 9:30am-10:30am at City Hall. Bring a mat for the floor.
URL:https://fortjonesca.org/event/wednesday-morning-yoga/2022-11-02/
END:VEVENT
BEGIN:VEVENT
DTSTART;TZID=America/Chicago:20221104T180000
DTEND;TZID=America/Chicago:20221104T200000
DTSTAMP:20260423T012003
CREATED:20210730T200356Z
LAST-MODIFIED:20210730T200356Z
UID:10000800-1667584800-1667592000@fortjonesca.org
SUMMARY:AA Meeting
DESCRIPTION:
URL:https://fortjonesca.org/event/aa-meeting/2022-11-04/
END:VEVENT
BEGIN:VEVENT
DTSTART;TZID=America/Chicago:20221109T093000
DTEND;TZID=America/Chicago:20221109T103000
DTSTAMP:20260423T012003
CREATED:20211013T212834Z
LAST-MODIFIED:20211013T213137Z
UID:10000938-1667986200-1667989800@fortjonesca.org
SUMMARY:Wednesday Morning Yoga
DESCRIPTION:No cost\, all ages welcome! 9:30am-10:30am at City Hall. Bring a mat for the floor.
URL:https://fortjonesca.org/event/wednesday-morning-yoga/2022-11-09/
END:VEVENT
BEGIN:VEVENT
DTSTART;TZID=America/Chicago:20221111T180000
DTEND;TZID=America/Chicago:20221111T200000
DTSTAMP:20260423T012003
CREATED:20210730T200356Z
LAST-MODIFIED:20210730T200356Z
UID:10000801-1668189600-1668196800@fortjonesca.org
SUMMARY:AA Meeting
DESCRIPTION:
URL:https://fortjonesca.org/event/aa-meeting/2022-11-11/
END:VEVENT
BEGIN:VEVENT
DTSTART;TZID=America/Chicago:20221116T093000
DTEND;TZID=America/Chicago:20221116T103000
DTSTAMP:20260423T012003
CREATED:20211013T212834Z
LAST-MODIFIED:20211013T213137Z
UID:10000939-1668591000-1668594600@fortjonesca.org
SUMMARY:Wednesday Morning Yoga
DESCRIPTION:No cost\, all ages welcome! 9:30am-10:30am at City Hall. Bring a mat for the floor.
URL:https://fortjonesca.org/event/wednesday-morning-yoga/2022-11-16/
END:VEVENT
BEGIN:VEVENT
DTSTART;TZID=America/Chicago:20221118T130000
DTEND;TZID=America/Chicago:20221118T150000
DTSTAMP:20260423T012003
CREATED:20221104T165258Z
LAST-MODIFIED:20221104T165258Z
UID:10001119-1668776400-1668783600@fortjonesca.org
SUMMARY:Public Health Event
DESCRIPTION:Swing by the Scott Valley Family Resource Center for a wellness check and WIN a free gift card! Also available: nutrition education\, mental health resources\, travel first-aid kits\, and more. See you on November 18!
URL:https://fortjonesca.org/event/public-health-event/
CATEGORIES:Clerk's Hours
ATTACH;FMTTYPE=image/png:https://cdn.townweb.com/fortjonesca.org/wp-content/uploads/2022/11/SCPH-Health-and-Wellness-Checks.png
END:VEVENT
END:VCALENDAR