BEGIN:VCALENDAR
VERSION:2.0
PRODID:-//Town of Fort Jones, Siskiyou County, CA - ECPv6.15.17.1//NONSGML v1.0//EN
CALSCALE:GREGORIAN
METHOD:PUBLISH
X-WR-CALNAME:Town of Fort Jones, Siskiyou County, CA
X-ORIGINAL-URL:https://fortjonesca.org
X-WR-CALDESC:Events for Town of Fort Jones, Siskiyou County, CA
REFRESH-INTERVAL;VALUE=DURATION:PT1H
X-Robots-Tag:noindex
X-PUBLISHED-TTL:PT1H
BEGIN:VTIMEZONE
TZID:America/Chicago
BEGIN:DAYLIGHT
TZOFFSETFROM:-0600
TZOFFSETTO:-0500
TZNAME:CDT
DTSTART:20150308T080000
END:DAYLIGHT
BEGIN:STANDARD
TZOFFSETFROM:-0500
TZOFFSETTO:-0600
TZNAME:CST
DTSTART:20151101T070000
END:STANDARD
BEGIN:DAYLIGHT
TZOFFSETFROM:-0600
TZOFFSETTO:-0500
TZNAME:CDT
DTSTART:20160313T080000
END:DAYLIGHT
BEGIN:STANDARD
TZOFFSETFROM:-0500
TZOFFSETTO:-0600
TZNAME:CST
DTSTART:20161106T070000
END:STANDARD
BEGIN:DAYLIGHT
TZOFFSETFROM:-0600
TZOFFSETTO:-0500
TZNAME:CDT
DTSTART:20170312T080000
END:DAYLIGHT
BEGIN:STANDARD
TZOFFSETFROM:-0500
TZOFFSETTO:-0600
TZNAME:CST
DTSTART:20171105T070000
END:STANDARD
END:VTIMEZONE
BEGIN:VEVENT
DTSTART;TZID=America/Chicago:20161021T180500
DTEND;TZID=America/Chicago:20161021T220900
DTSTAMP:20260422T235516
CREATED:20150711T230500Z
LAST-MODIFIED:20150711T230500Z
UID:10000470-1477073100-1477087740@fortjonesca.org
SUMMARY:Regular Garbage & Recycling Pickup
DESCRIPTION:Trash pickup starts in town at 7am.
URL:https://fortjonesca.org/event/regular-garbage-recycling-pickup/2016-10-21/
END:VEVENT
BEGIN:VEVENT
DTSTART;TZID=America/Chicago:20161020T180500
DTEND;TZID=America/Chicago:20161020T220900
DTSTAMP:20260422T235516
CREATED:20150711T230500Z
LAST-MODIFIED:20150711T230500Z
UID:10000469-1476986700-1477001340@fortjonesca.org
SUMMARY:Regular Garbage & Recycling Pickup
DESCRIPTION:Trash pickup starts in town at 7am.
URL:https://fortjonesca.org/event/regular-garbage-recycling-pickup/2016-10-20/
END:VEVENT
BEGIN:VEVENT
DTSTART;TZID=America/Chicago:20161019T180500
DTEND;TZID=America/Chicago:20161019T220900
DTSTAMP:20260422T235516
CREATED:20150711T230500Z
LAST-MODIFIED:20150711T230500Z
UID:10000468-1476900300-1476914940@fortjonesca.org
SUMMARY:Regular Garbage & Recycling Pickup
DESCRIPTION:Trash pickup starts in town at 7am.
URL:https://fortjonesca.org/event/regular-garbage-recycling-pickup/2016-10-19/
END:VEVENT
BEGIN:VEVENT
DTSTART;TZID=America/Chicago:20161019T080000
DTEND;TZID=America/Chicago:20161019T120000
DTSTAMP:20260422T235516
CREATED:20150812T130000Z
LAST-MODIFIED:20150812T130000Z
UID:10000597-1476864000-1476878400@fortjonesca.org
SUMMARY:Clerks Hours
DESCRIPTION:Am in the office from 8am to noon
URL:https://fortjonesca.org/event/clerks-hours/2016-10-19/
END:VEVENT
BEGIN:VEVENT
DTSTART;TZID=America/Chicago:20161018T180500
DTEND;TZID=America/Chicago:20161018T220900
DTSTAMP:20260422T235516
CREATED:20150711T230500Z
LAST-MODIFIED:20150711T230500Z
UID:10000467-1476813900-1476828540@fortjonesca.org
SUMMARY:Regular Garbage & Recycling Pickup
DESCRIPTION:Trash pickup starts in town at 7am.
URL:https://fortjonesca.org/event/regular-garbage-recycling-pickup/2016-10-18/
END:VEVENT
BEGIN:VEVENT
DTSTART;TZID=America/Chicago:20161017T180500
DTEND;TZID=America/Chicago:20161017T220900
DTSTAMP:20260422T235516
CREATED:20150711T230500Z
LAST-MODIFIED:20150711T230500Z
UID:10000466-1476727500-1476742140@fortjonesca.org
SUMMARY:Regular Garbage & Recycling Pickup
DESCRIPTION:Trash pickup starts in town at 7am.
URL:https://fortjonesca.org/event/regular-garbage-recycling-pickup/2016-10-17/
END:VEVENT
BEGIN:VEVENT
DTSTART;TZID=America/Chicago:20161016T180500
DTEND;TZID=America/Chicago:20161016T220900
DTSTAMP:20260422T235516
CREATED:20150711T230500Z
LAST-MODIFIED:20150711T230500Z
UID:10000465-1476641100-1476655740@fortjonesca.org
SUMMARY:Regular Garbage & Recycling Pickup
DESCRIPTION:Trash pickup starts in town at 7am.
URL:https://fortjonesca.org/event/regular-garbage-recycling-pickup/2016-10-16/
END:VEVENT
BEGIN:VEVENT
DTSTART;TZID=America/Chicago:20161015T180500
DTEND;TZID=America/Chicago:20161015T220900
DTSTAMP:20260422T235516
CREATED:20150711T230500Z
LAST-MODIFIED:20150711T230500Z
UID:10000464-1476554700-1476569340@fortjonesca.org
SUMMARY:Regular Garbage & Recycling Pickup
DESCRIPTION:Trash pickup starts in town at 7am.
URL:https://fortjonesca.org/event/regular-garbage-recycling-pickup/2016-10-15/
END:VEVENT
BEGIN:VEVENT
DTSTART;VALUE=DATE:20161015
DTEND;VALUE=DATE:20161016
DTSTAMP:20260422T235516
CREATED:20161003T050000Z
LAST-MODIFIED:20161003T050000Z
UID:10000635-1476489600-1476575999@fortjonesca.org
SUMMARY:SingleOctEvent
DESCRIPTION:
URL:https://fortjonesca.org/event/singleoctevent/2016-10-15/
END:VEVENT
BEGIN:VEVENT
DTSTART;TZID=America/Chicago:20161014T180500
DTEND;TZID=America/Chicago:20161014T220900
DTSTAMP:20260422T235516
CREATED:20150711T230500Z
LAST-MODIFIED:20150711T230500Z
UID:10000463-1476468300-1476482940@fortjonesca.org
SUMMARY:Regular Garbage & Recycling Pickup
DESCRIPTION:Trash pickup starts in town at 7am.
URL:https://fortjonesca.org/event/regular-garbage-recycling-pickup/2016-10-14/
END:VEVENT
BEGIN:VEVENT
DTSTART;VALUE=DATE:20161014
DTEND;VALUE=DATE:20161015
DTSTAMP:20260422T235516
CREATED:20161003T050000Z
LAST-MODIFIED:20161003T050000Z
UID:10000634-1476403200-1476489599@fortjonesca.org
SUMMARY:SingleOctEvent
DESCRIPTION:
URL:https://fortjonesca.org/event/singleoctevent/2016-10-14/
END:VEVENT
BEGIN:VEVENT
DTSTART;TZID=America/Chicago:20161013T180500
DTEND;TZID=America/Chicago:20161013T220900
DTSTAMP:20260422T235516
CREATED:20150711T230500Z
LAST-MODIFIED:20150711T230500Z
UID:10000462-1476381900-1476396540@fortjonesca.org
SUMMARY:Regular Garbage & Recycling Pickup
DESCRIPTION:Trash pickup starts in town at 7am.
URL:https://fortjonesca.org/event/regular-garbage-recycling-pickup/2016-10-13/
END:VEVENT
BEGIN:VEVENT
DTSTART;VALUE=DATE:20161013
DTEND;VALUE=DATE:20161014
DTSTAMP:20260422T235516
CREATED:20161003T050000Z
LAST-MODIFIED:20161003T050000Z
UID:10000633-1476316800-1476403199@fortjonesca.org
SUMMARY:SingleOctEvent
DESCRIPTION:
URL:https://fortjonesca.org/event/singleoctevent/2016-10-13/
END:VEVENT
BEGIN:VEVENT
DTSTART;TZID=America/Chicago:20161012T180500
DTEND;TZID=America/Chicago:20161012T220900
DTSTAMP:20260422T235516
CREATED:20150711T230500Z
LAST-MODIFIED:20150711T230500Z
UID:10000461-1476295500-1476310140@fortjonesca.org
SUMMARY:Regular Garbage & Recycling Pickup
DESCRIPTION:Trash pickup starts in town at 7am.
URL:https://fortjonesca.org/event/regular-garbage-recycling-pickup/2016-10-12/
END:VEVENT
BEGIN:VEVENT
DTSTART;TZID=America/Chicago:20161012T080000
DTEND;TZID=America/Chicago:20161012T120000
DTSTAMP:20260422T235516
CREATED:20150812T130000Z
LAST-MODIFIED:20150812T130000Z
UID:10000596-1476259200-1476273600@fortjonesca.org
SUMMARY:Clerks Hours
DESCRIPTION:Am in the office from 8am to noon
URL:https://fortjonesca.org/event/clerks-hours/2016-10-12/
END:VEVENT
BEGIN:VEVENT
DTSTART;VALUE=DATE:20161012
DTEND;VALUE=DATE:20161013
DTSTAMP:20260422T235516
CREATED:20161003T050000Z
LAST-MODIFIED:20161003T050000Z
UID:10000632-1476230400-1476316799@fortjonesca.org
SUMMARY:SingleOctEvent
DESCRIPTION:
URL:https://fortjonesca.org/event/singleoctevent/2016-10-12/
END:VEVENT
BEGIN:VEVENT
DTSTART;TZID=America/Chicago:20161011T180500
DTEND;TZID=America/Chicago:20161011T220900
DTSTAMP:20260422T235516
CREATED:20150711T230500Z
LAST-MODIFIED:20150711T230500Z
UID:10000460-1476209100-1476223740@fortjonesca.org
SUMMARY:Regular Garbage & Recycling Pickup
DESCRIPTION:Trash pickup starts in town at 7am.
URL:https://fortjonesca.org/event/regular-garbage-recycling-pickup/2016-10-11/
END:VEVENT
BEGIN:VEVENT
DTSTART;VALUE=DATE:20161011
DTEND;VALUE=DATE:20161012
DTSTAMP:20260422T235516
CREATED:20161003T050000Z
LAST-MODIFIED:20161003T050000Z
UID:10000631-1476144000-1476230399@fortjonesca.org
SUMMARY:SingleOctEvent
DESCRIPTION:
URL:https://fortjonesca.org/event/singleoctevent/2016-10-11/
END:VEVENT
BEGIN:VEVENT
DTSTART;TZID=America/Chicago:20161010T180500
DTEND;TZID=America/Chicago:20161010T220900
DTSTAMP:20260422T235516
CREATED:20150711T230500Z
LAST-MODIFIED:20150711T230500Z
UID:10000459-1476122700-1476137340@fortjonesca.org
SUMMARY:Regular Garbage & Recycling Pickup
DESCRIPTION:Trash pickup starts in town at 7am.
URL:https://fortjonesca.org/event/regular-garbage-recycling-pickup/2016-10-10/
END:VEVENT
BEGIN:VEVENT
DTSTART;VALUE=DATE:20161010
DTEND;VALUE=DATE:20161011
DTSTAMP:20260422T235516
CREATED:20161003T050000Z
LAST-MODIFIED:20161003T050000Z
UID:10000630-1476057600-1476143999@fortjonesca.org
SUMMARY:SingleOctEvent
DESCRIPTION:
URL:https://fortjonesca.org/event/singleoctevent/2016-10-10/
END:VEVENT
BEGIN:VEVENT
DTSTART;TZID=America/Chicago:20161009T180500
DTEND;TZID=America/Chicago:20161009T220900
DTSTAMP:20260422T235516
CREATED:20150711T230500Z
LAST-MODIFIED:20150711T230500Z
UID:10000458-1476036300-1476050940@fortjonesca.org
SUMMARY:Regular Garbage & Recycling Pickup
DESCRIPTION:Trash pickup starts in town at 7am.
URL:https://fortjonesca.org/event/regular-garbage-recycling-pickup/2016-10-09/
END:VEVENT
BEGIN:VEVENT
DTSTART;VALUE=DATE:20161009
DTEND;VALUE=DATE:20161010
DTSTAMP:20260422T235516
CREATED:20161003T050000Z
LAST-MODIFIED:20161003T050000Z
UID:10000629-1475971200-1476057599@fortjonesca.org
SUMMARY:SingleOctEvent
DESCRIPTION:
URL:https://fortjonesca.org/event/singleoctevent/2016-10-09/
END:VEVENT
BEGIN:VEVENT
DTSTART;TZID=America/Chicago:20161008T180500
DTEND;TZID=America/Chicago:20161008T220900
DTSTAMP:20260422T235516
CREATED:20150711T230500Z
LAST-MODIFIED:20150711T230500Z
UID:10000457-1475949900-1475964540@fortjonesca.org
SUMMARY:Regular Garbage & Recycling Pickup
DESCRIPTION:Trash pickup starts in town at 7am.
URL:https://fortjonesca.org/event/regular-garbage-recycling-pickup/2016-10-08/
END:VEVENT
BEGIN:VEVENT
DTSTART;VALUE=DATE:20161008
DTEND;VALUE=DATE:20161009
DTSTAMP:20260422T235516
CREATED:20161003T050000Z
LAST-MODIFIED:20161003T050000Z
UID:10000628-1475884800-1475971199@fortjonesca.org
SUMMARY:SingleOctEvent
DESCRIPTION:
URL:https://fortjonesca.org/event/singleoctevent/2016-10-08/
END:VEVENT
BEGIN:VEVENT
DTSTART;TZID=America/Chicago:20161007T180500
DTEND;TZID=America/Chicago:20161007T220900
DTSTAMP:20260422T235516
CREATED:20150711T230500Z
LAST-MODIFIED:20150711T230500Z
UID:10000456-1475863500-1475878140@fortjonesca.org
SUMMARY:Regular Garbage & Recycling Pickup
DESCRIPTION:Trash pickup starts in town at 7am.
URL:https://fortjonesca.org/event/regular-garbage-recycling-pickup/2016-10-07/
END:VEVENT
BEGIN:VEVENT
DTSTART;VALUE=DATE:20161007
DTEND;VALUE=DATE:20161008
DTSTAMP:20260422T235516
CREATED:20161003T050000Z
LAST-MODIFIED:20161003T050000Z
UID:10000627-1475798400-1475884799@fortjonesca.org
SUMMARY:SingleOctEvent
DESCRIPTION:
URL:https://fortjonesca.org/event/singleoctevent/2016-10-07/
END:VEVENT
BEGIN:VEVENT
DTSTART;TZID=America/Chicago:20161006T180500
DTEND;TZID=America/Chicago:20161006T220900
DTSTAMP:20260422T235516
CREATED:20150711T230500Z
LAST-MODIFIED:20150711T230500Z
UID:10000455-1475777100-1475791740@fortjonesca.org
SUMMARY:Regular Garbage & Recycling Pickup
DESCRIPTION:Trash pickup starts in town at 7am.
URL:https://fortjonesca.org/event/regular-garbage-recycling-pickup/2016-10-06/
END:VEVENT
BEGIN:VEVENT
DTSTART;VALUE=DATE:20161006
DTEND;VALUE=DATE:20161007
DTSTAMP:20260422T235516
CREATED:20161003T050000Z
LAST-MODIFIED:20161003T050000Z
UID:10000626-1475712000-1475798399@fortjonesca.org
SUMMARY:SingleOctEvent
DESCRIPTION:
URL:https://fortjonesca.org/event/singleoctevent/2016-10-06/
END:VEVENT
BEGIN:VEVENT
DTSTART;TZID=America/Chicago:20161005T180500
DTEND;TZID=America/Chicago:20161005T220900
DTSTAMP:20260422T235516
CREATED:20150711T230500Z
LAST-MODIFIED:20150711T230500Z
UID:10000454-1475690700-1475705340@fortjonesca.org
SUMMARY:Regular Garbage & Recycling Pickup
DESCRIPTION:Trash pickup starts in town at 7am.
URL:https://fortjonesca.org/event/regular-garbage-recycling-pickup/2016-10-05/
END:VEVENT
BEGIN:VEVENT
DTSTART;TZID=America/Chicago:20161005T080000
DTEND;TZID=America/Chicago:20161005T120000
DTSTAMP:20260422T235516
CREATED:20150812T130000Z
LAST-MODIFIED:20150812T130000Z
UID:10000595-1475654400-1475668800@fortjonesca.org
SUMMARY:Clerks Hours
DESCRIPTION:Am in the office from 8am to noon
URL:https://fortjonesca.org/event/clerks-hours/2016-10-05/
END:VEVENT
END:VCALENDAR