BEGIN:VCALENDAR
VERSION:2.0
PRODID:-//Town of Fort Jones, Siskiyou County, CA - ECPv6.15.17.1//NONSGML v1.0//EN
CALSCALE:GREGORIAN
METHOD:PUBLISH
X-WR-CALNAME:Town of Fort Jones, Siskiyou County, CA
X-ORIGINAL-URL:https://fortjonesca.org
X-WR-CALDESC:Events for Town of Fort Jones, Siskiyou County, CA
REFRESH-INTERVAL;VALUE=DURATION:PT1H
X-Robots-Tag:noindex
X-PUBLISHED-TTL:PT1H
BEGIN:VTIMEZONE
TZID:America/Chicago
BEGIN:DAYLIGHT
TZOFFSETFROM:-0600
TZOFFSETTO:-0500
TZNAME:CDT
DTSTART:20150308T080000
END:DAYLIGHT
BEGIN:STANDARD
TZOFFSETFROM:-0500
TZOFFSETTO:-0600
TZNAME:CST
DTSTART:20151101T070000
END:STANDARD
BEGIN:DAYLIGHT
TZOFFSETFROM:-0600
TZOFFSETTO:-0500
TZNAME:CDT
DTSTART:20160313T080000
END:DAYLIGHT
BEGIN:STANDARD
TZOFFSETFROM:-0500
TZOFFSETTO:-0600
TZNAME:CST
DTSTART:20161106T070000
END:STANDARD
BEGIN:DAYLIGHT
TZOFFSETFROM:-0600
TZOFFSETTO:-0500
TZNAME:CDT
DTSTART:20170312T080000
END:DAYLIGHT
BEGIN:STANDARD
TZOFFSETFROM:-0500
TZOFFSETTO:-0600
TZNAME:CST
DTSTART:20171105T070000
END:STANDARD
END:VTIMEZONE
BEGIN:VEVENT
DTSTART;TZID=America/Chicago:20161120T140000
DTEND;TZID=America/Chicago:20161120T150000
DTSTAMP:20260422T184441
CREATED:20161106T200000Z
LAST-MODIFIED:20161106T200000Z
UID:10000643-1479650400-1479654000@fortjonesca.org
SUMMARY:Every Other Week Stop1
DESCRIPTION:
URL:https://fortjonesca.org/event/every-other-week-stop1/2016-11-20/
END:VEVENT
BEGIN:VEVENT
DTSTART;VALUE=DATE:20161119
DTEND;VALUE=DATE:20161120
DTSTAMP:20260422T184441
CREATED:20161115T060000Z
LAST-MODIFIED:20161115T060000Z
UID:10000669-1479513600-1479599999@fortjonesca.org
SUMMARY:1Every Day
DESCRIPTION:Every Day
URL:https://fortjonesca.org/event/1every-day/2016-11-19/
END:VEVENT
BEGIN:VEVENT
DTSTART;TZID=America/Chicago:20161118T140000
DTEND;TZID=America/Chicago:20161118T150000
DTSTAMP:20260422T184441
CREATED:20161106T200000Z
LAST-MODIFIED:20161106T200000Z
UID:10000642-1479477600-1479481200@fortjonesca.org
SUMMARY:Every Other Week Stop1
DESCRIPTION:
URL:https://fortjonesca.org/event/every-other-week-stop1/2016-11-18/
END:VEVENT
BEGIN:VEVENT
DTSTART;VALUE=DATE:20161118
DTEND;VALUE=DATE:20161119
DTSTAMP:20260422T184441
CREATED:20161115T060000Z
LAST-MODIFIED:20161115T060000Z
UID:10000668-1479427200-1479513599@fortjonesca.org
SUMMARY:1Every Day
DESCRIPTION:Every Day
URL:https://fortjonesca.org/event/1every-day/2016-11-18/
END:VEVENT
BEGIN:VEVENT
DTSTART;VALUE=DATE:20161117
DTEND;VALUE=DATE:20161118
DTSTAMP:20260422T184441
CREATED:20161115T060000Z
LAST-MODIFIED:20161115T060000Z
UID:10000667-1479340800-1479427199@fortjonesca.org
SUMMARY:1Every Day
DESCRIPTION:Every Day
URL:https://fortjonesca.org/event/1every-day/2016-11-17/
END:VEVENT
BEGIN:VEVENT
DTSTART;TZID=America/Chicago:20161116T140000
DTEND;TZID=America/Chicago:20161116T150000
DTSTAMP:20260422T184441
CREATED:20161106T200000Z
LAST-MODIFIED:20161106T200000Z
UID:10000641-1479304800-1479308400@fortjonesca.org
SUMMARY:Every Other Week Stop1
DESCRIPTION:
URL:https://fortjonesca.org/event/every-other-week-stop1/2016-11-16/
END:VEVENT
BEGIN:VEVENT
DTSTART;VALUE=DATE:20161116
DTEND;VALUE=DATE:20161117
DTSTAMP:20260422T184441
CREATED:20161115T060000Z
LAST-MODIFIED:20161115T060000Z
UID:10000666-1479254400-1479340799@fortjonesca.org
SUMMARY:1Every Day
DESCRIPTION:Every Day
URL:https://fortjonesca.org/event/1every-day/2016-11-16/
END:VEVENT
BEGIN:VEVENT
DTSTART;VALUE=DATE:20161115
DTEND;VALUE=DATE:20161116
DTSTAMP:20260422T184441
CREATED:20161115T060000Z
LAST-MODIFIED:20161115T060000Z
UID:10000665-1479168000-1479254399@fortjonesca.org
SUMMARY:1Every Day
DESCRIPTION:Every Day
URL:https://fortjonesca.org/event/1every-day/2016-11-15/
END:VEVENT
BEGIN:VEVENT
DTSTART;TZID=America/Chicago:20161114T140000
DTEND;TZID=America/Chicago:20161114T150000
DTSTAMP:20260422T184441
CREATED:20161106T200000Z
LAST-MODIFIED:20161106T200000Z
UID:10000640-1479132000-1479135600@fortjonesca.org
SUMMARY:Every Other Week Stop1
DESCRIPTION:
URL:https://fortjonesca.org/event/every-other-week-stop1/2016-11-14/
END:VEVENT
BEGIN:VEVENT
DTSTART;TZID=America/Chicago:20161112T140000
DTEND;TZID=America/Chicago:20161112T150000
DTSTAMP:20260422T184441
CREATED:20161106T200000Z
LAST-MODIFIED:20161106T200000Z
UID:10000639-1478959200-1478962800@fortjonesca.org
SUMMARY:Every Other Week Stop1
DESCRIPTION:
URL:https://fortjonesca.org/event/every-other-week-stop1/2016-11-12/
END:VEVENT
BEGIN:VEVENT
DTSTART;TZID=America/Chicago:20161110T140000
DTEND;TZID=America/Chicago:20161110T150000
DTSTAMP:20260422T184441
CREATED:20161106T200000Z
LAST-MODIFIED:20161106T200000Z
UID:10000638-1478786400-1478790000@fortjonesca.org
SUMMARY:Every Other Week Stop1
DESCRIPTION:
URL:https://fortjonesca.org/event/every-other-week-stop1/2016-11-10/
END:VEVENT
BEGIN:VEVENT
DTSTART;VALUE=DATE:20161110
DTEND;VALUE=DATE:20161111
DTSTAMP:20260422T184441
CREATED:20161110T060000Z
LAST-MODIFIED:20161110T060000Z
UID:10000664-1478736000-1478822399@fortjonesca.org
SUMMARY:Pick's
DESCRIPTION: Pick’s
URL:https://fortjonesca.org/event/picks/
END:VEVENT
BEGIN:VEVENT
DTSTART;TZID=America/Chicago:20161109T180500
DTEND;TZID=America/Chicago:20161109T220900
DTSTAMP:20260422T184441
CREATED:20150711T230500Z
LAST-MODIFIED:20150711T230500Z
UID:10000489-1478714700-1478729340@fortjonesca.org
SUMMARY:Regular Garbage & Recycling Pickup
DESCRIPTION:Trash pickup starts in town at 7am.
URL:https://fortjonesca.org/event/regular-garbage-recycling-pickup/2016-11-09/
END:VEVENT
BEGIN:VEVENT
DTSTART;TZID=America/Chicago:20161109T170000
DTEND;TZID=America/Chicago:20161109T180000
DTSTAMP:20260422T184441
CREATED:20161109T230000Z
LAST-MODIFIED:20161109T230000Z
UID:10000663-1478710800-1478714400@fortjonesca.org
SUMMARY:Garbage & Recycling Pick's
DESCRIPTION:Garbage & Recycling Pick’sGarbage & Recycling PickupGarbage & Recycling Pickup
URL:https://fortjonesca.org/event/garbage-recycling-picks/
END:VEVENT
BEGIN:VEVENT
DTSTART;TZID=America/Chicago:20161108T180500
DTEND;TZID=America/Chicago:20161108T220900
DTSTAMP:20260422T184441
CREATED:20150711T230500Z
LAST-MODIFIED:20150711T230500Z
UID:10000488-1478628300-1478642940@fortjonesca.org
SUMMARY:Regular Garbage & Recycling Pickup
DESCRIPTION:Trash pickup starts in town at 7am.
URL:https://fortjonesca.org/event/regular-garbage-recycling-pickup/2016-11-08/
END:VEVENT
BEGIN:VEVENT
DTSTART;TZID=America/Chicago:20161108T140000
DTEND;TZID=America/Chicago:20161108T150000
DTSTAMP:20260422T184441
CREATED:20161106T200000Z
LAST-MODIFIED:20161106T200000Z
UID:10000637-1478613600-1478617200@fortjonesca.org
SUMMARY:Every Other Week Stop1
DESCRIPTION:
URL:https://fortjonesca.org/event/every-other-week-stop1/2016-11-08/
END:VEVENT
BEGIN:VEVENT
DTSTART;TZID=America/Chicago:20161107T190000
DTEND;TZID=America/Chicago:20161107T190000
DTSTAMP:20260422T184441
CREATED:20150805T000000Z
LAST-MODIFIED:20190314T152300Z
UID:10000505-1478545200-1478545200@fortjonesca.org
SUMMARY:City Council Meeting
DESCRIPTION:
URL:https://fortjonesca.org/event/city-council-meeting/2016-11-07/
END:VEVENT
BEGIN:VEVENT
DTSTART;TZID=America/Chicago:20161107T180500
DTEND;TZID=America/Chicago:20161107T220900
DTSTAMP:20260422T184441
CREATED:20150711T230500Z
LAST-MODIFIED:20150711T230500Z
UID:10000487-1478541900-1478556540@fortjonesca.org
SUMMARY:Regular Garbage & Recycling Pickup
DESCRIPTION:Trash pickup starts in town at 7am.
URL:https://fortjonesca.org/event/regular-garbage-recycling-pickup/2016-11-07/
END:VEVENT
BEGIN:VEVENT
DTSTART;TZID=America/Chicago:20161106T180500
DTEND;TZID=America/Chicago:20161106T220900
DTSTAMP:20260422T184441
CREATED:20150711T230500Z
LAST-MODIFIED:20150711T230500Z
UID:10000486-1478455500-1478470140@fortjonesca.org
SUMMARY:Regular Garbage & Recycling Pickup
DESCRIPTION:Trash pickup starts in town at 7am.
URL:https://fortjonesca.org/event/regular-garbage-recycling-pickup/2016-11-06/
END:VEVENT
BEGIN:VEVENT
DTSTART;TZID=America/Chicago:20161106T140000
DTEND;TZID=America/Chicago:20161106T150000
DTSTAMP:20260422T184441
CREATED:20161106T200000Z
LAST-MODIFIED:20161106T200000Z
UID:10000636-1478440800-1478444400@fortjonesca.org
SUMMARY:Every Other Week Stop1
DESCRIPTION:
URL:https://fortjonesca.org/event/every-other-week-stop1/2016-11-06/
END:VEVENT
BEGIN:VEVENT
DTSTART;TZID=America/Chicago:20161105T180500
DTEND;TZID=America/Chicago:20161105T220900
DTSTAMP:20260422T184441
CREATED:20150711T230500Z
LAST-MODIFIED:20150711T230500Z
UID:10000485-1478369100-1478383740@fortjonesca.org
SUMMARY:Regular Garbage & Recycling Pickup
DESCRIPTION:Trash pickup starts in town at 7am.
URL:https://fortjonesca.org/event/regular-garbage-recycling-pickup/2016-11-05/
END:VEVENT
BEGIN:VEVENT
DTSTART;TZID=America/Chicago:20161104T180500
DTEND;TZID=America/Chicago:20161104T220900
DTSTAMP:20260422T184441
CREATED:20150711T230500Z
LAST-MODIFIED:20150711T230500Z
UID:10000484-1478282700-1478297340@fortjonesca.org
SUMMARY:Regular Garbage & Recycling Pickup
DESCRIPTION:Trash pickup starts in town at 7am.
URL:https://fortjonesca.org/event/regular-garbage-recycling-pickup/2016-11-04/
END:VEVENT
BEGIN:VEVENT
DTSTART;TZID=America/Chicago:20161103T180500
DTEND;TZID=America/Chicago:20161103T220900
DTSTAMP:20260422T184441
CREATED:20150711T230500Z
LAST-MODIFIED:20150711T230500Z
UID:10000483-1478196300-1478210940@fortjonesca.org
SUMMARY:Regular Garbage & Recycling Pickup
DESCRIPTION:Trash pickup starts in town at 7am.
URL:https://fortjonesca.org/event/regular-garbage-recycling-pickup/2016-11-03/
END:VEVENT
BEGIN:VEVENT
DTSTART;TZID=America/Chicago:20161102T180500
DTEND;TZID=America/Chicago:20161102T220900
DTSTAMP:20260422T184441
CREATED:20150711T230500Z
LAST-MODIFIED:20150711T230500Z
UID:10000482-1478109900-1478124540@fortjonesca.org
SUMMARY:Regular Garbage & Recycling Pickup
DESCRIPTION:Trash pickup starts in town at 7am.
URL:https://fortjonesca.org/event/regular-garbage-recycling-pickup/2016-11-02/
END:VEVENT
BEGIN:VEVENT
DTSTART;TZID=America/Chicago:20161101T180500
DTEND;TZID=America/Chicago:20161101T220900
DTSTAMP:20260422T184441
CREATED:20150711T230500Z
LAST-MODIFIED:20150711T230500Z
UID:10000481-1478023500-1478038140@fortjonesca.org
SUMMARY:Regular Garbage & Recycling Pickup
DESCRIPTION:Trash pickup starts in town at 7am.
URL:https://fortjonesca.org/event/regular-garbage-recycling-pickup/2016-11-01/
END:VEVENT
BEGIN:VEVENT
DTSTART;TZID=America/Chicago:20161031T180500
DTEND;TZID=America/Chicago:20161031T220900
DTSTAMP:20260422T184441
CREATED:20150711T230500Z
LAST-MODIFIED:20150711T230500Z
UID:10000480-1477937100-1477951740@fortjonesca.org
SUMMARY:Regular Garbage & Recycling Pickup
DESCRIPTION:Trash pickup starts in town at 7am.
URL:https://fortjonesca.org/event/regular-garbage-recycling-pickup/2016-10-31/
END:VEVENT
BEGIN:VEVENT
DTSTART;TZID=America/Chicago:20161030T180500
DTEND;TZID=America/Chicago:20161030T220900
DTSTAMP:20260422T184441
CREATED:20150711T230500Z
LAST-MODIFIED:20150711T230500Z
UID:10000479-1477850700-1477865340@fortjonesca.org
SUMMARY:Regular Garbage & Recycling Pickup
DESCRIPTION:Trash pickup starts in town at 7am.
URL:https://fortjonesca.org/event/regular-garbage-recycling-pickup/2016-10-30/
END:VEVENT
BEGIN:VEVENT
DTSTART;TZID=America/Chicago:20161029T180500
DTEND;TZID=America/Chicago:20161029T220900
DTSTAMP:20260422T184441
CREATED:20150711T230500Z
LAST-MODIFIED:20150711T230500Z
UID:10000478-1477764300-1477778940@fortjonesca.org
SUMMARY:Regular Garbage & Recycling Pickup
DESCRIPTION:Trash pickup starts in town at 7am.
URL:https://fortjonesca.org/event/regular-garbage-recycling-pickup/2016-10-29/
END:VEVENT
BEGIN:VEVENT
DTSTART;TZID=America/Chicago:20161028T180500
DTEND;TZID=America/Chicago:20161028T220900
DTSTAMP:20260422T184441
CREATED:20150711T230500Z
LAST-MODIFIED:20150711T230500Z
UID:10000477-1477677900-1477692540@fortjonesca.org
SUMMARY:Regular Garbage & Recycling Pickup
DESCRIPTION:Trash pickup starts in town at 7am.
URL:https://fortjonesca.org/event/regular-garbage-recycling-pickup/2016-10-28/
END:VEVENT
BEGIN:VEVENT
DTSTART;TZID=America/Chicago:20161027T180500
DTEND;TZID=America/Chicago:20161027T220900
DTSTAMP:20260422T184441
CREATED:20150711T230500Z
LAST-MODIFIED:20150711T230500Z
UID:10000476-1477591500-1477606140@fortjonesca.org
SUMMARY:Regular Garbage & Recycling Pickup
DESCRIPTION:Trash pickup starts in town at 7am.
URL:https://fortjonesca.org/event/regular-garbage-recycling-pickup/2016-10-27/
END:VEVENT
END:VCALENDAR