BEGIN:VCALENDAR
VERSION:2.0
PRODID:-//Town of Fort Jones, Siskiyou County, CA - ECPv6.15.17.1//NONSGML v1.0//EN
CALSCALE:GREGORIAN
METHOD:PUBLISH
X-WR-CALNAME:Town of Fort Jones, Siskiyou County, CA
X-ORIGINAL-URL:https://fortjonesca.org
X-WR-CALDESC:Events for Town of Fort Jones, Siskiyou County, CA
REFRESH-INTERVAL;VALUE=DURATION:PT1H
X-Robots-Tag:noindex
X-PUBLISHED-TTL:PT1H
BEGIN:VTIMEZONE
TZID:America/Chicago
BEGIN:DAYLIGHT
TZOFFSETFROM:-0600
TZOFFSETTO:-0500
TZNAME:CDT
DTSTART:20200308T080000
END:DAYLIGHT
BEGIN:STANDARD
TZOFFSETFROM:-0500
TZOFFSETTO:-0600
TZNAME:CST
DTSTART:20201101T070000
END:STANDARD
BEGIN:DAYLIGHT
TZOFFSETFROM:-0600
TZOFFSETTO:-0500
TZNAME:CDT
DTSTART:20210314T080000
END:DAYLIGHT
BEGIN:STANDARD
TZOFFSETFROM:-0500
TZOFFSETTO:-0600
TZNAME:CST
DTSTART:20211107T070000
END:STANDARD
BEGIN:DAYLIGHT
TZOFFSETFROM:-0600
TZOFFSETTO:-0500
TZNAME:CDT
DTSTART:20220313T080000
END:DAYLIGHT
BEGIN:STANDARD
TZOFFSETFROM:-0500
TZOFFSETTO:-0600
TZNAME:CST
DTSTART:20221106T070000
END:STANDARD
END:VTIMEZONE
BEGIN:VEVENT
DTSTART;TZID=America/Chicago:20210702T180000
DTEND;TZID=America/Chicago:20210702T200000
DTSTAMP:20260422T165527
CREATED:20210701T000132Z
LAST-MODIFIED:20210701T000528Z
UID:10000731-1625248800-1625256000@fortjonesca.org
SUMMARY:First Friday Art Reception
DESCRIPTION:Marble Rim Gallery Presents “Creations by Madison Emerick.” Reception to be held at the Marble Rim Art Gallery on Main St on Friday\, July 2nd from 6:00 p.m. to 8:00 p.m. Artwork will be displayed through July 9.
URL:https://fortjonesca.org/event/first-friday-art-reception/
END:VEVENT
BEGIN:VEVENT
DTSTART;VALUE=DATE:20210705
DTEND;VALUE=DATE:20210706
DTSTAMP:20260422T165527
CREATED:20210701T222328Z
LAST-MODIFIED:20210701T222559Z
UID:10000732-1625443200-1625529599@fortjonesca.org
SUMMARY:Independence Day Observed
DESCRIPTION:In observance of Independence Day\, City Hall and the Library will be closed on Monday\, July 5th. We will resume normal hours on Tuesday\, July 6th.
URL:https://fortjonesca.org/event/independence-day-observed/
END:VEVENT
BEGIN:VEVENT
DTSTART;TZID=America/Chicago:20210710T200000
DTEND;TZID=America/Chicago:20210710T220000
DTSTAMP:20260422T165527
CREATED:20210628T154237Z
LAST-MODIFIED:20210629T163749Z
UID:10000730-1625947200-1625954400@fortjonesca.org
SUMMARY:Movie In The Park
DESCRIPTION:
URL:https://fortjonesca.org/event/movie-in-the-park/
LOCATION:The Babe Ruth Baseball Field\, Fort Jones
END:VEVENT
BEGIN:VEVENT
DTSTART;TZID=America/Chicago:20210730T180000
DTEND;TZID=America/Chicago:20210730T200000
DTSTAMP:20260422T165527
CREATED:20210730T200356Z
LAST-MODIFIED:20210730T200356Z
UID:10000734-1627668000-1627675200@fortjonesca.org
SUMMARY:AA Meeting
DESCRIPTION:
URL:https://fortjonesca.org/event/aa-meeting/2021-07-30/
END:VEVENT
BEGIN:VEVENT
DTSTART;TZID=America/Chicago:20210804T153000
DTEND;TZID=America/Chicago:20210804T163000
DTSTAMP:20260422T165527
CREATED:20210803T162923Z
LAST-MODIFIED:20210803T162923Z
UID:10000855-1628091000-1628094600@fortjonesca.org
SUMMARY:Welcome Back Our Officers
DESCRIPTION:Reception will be held at City Hall at 3:30 p.m.
URL:https://fortjonesca.org/event/welcome-back-our-officers/
END:VEVENT
BEGIN:VEVENT
DTSTART;TZID=America/Chicago:20210805T130000
DTEND;TZID=America/Chicago:20210805T150000
DTSTAMP:20260422T165527
CREATED:20210729T161419Z
LAST-MODIFIED:20210729T162028Z
UID:10000733-1628168400-1628175600@fortjonesca.org
SUMMARY:Free Resource Consultations
DESCRIPTION:Come learn about the free resources that are available to you through United Way of Northern California\, including: \n\nHealthcare enrollments\nFree Tax Preparation\nBroadband assistance\nEmergency preparedness\n2-1-1 Norcal\nSavings assistance\nBanking assistance\nEmergency rental assistance for renters & landlords\nAnd More\n\nFort Jones Library 11960 East St
URL:https://fortjonesca.org/event/free-resource-consultations/
END:VEVENT
BEGIN:VEVENT
DTSTART;TZID=America/Chicago:20210806T180000
DTEND;TZID=America/Chicago:20210806T200000
DTSTAMP:20260422T165527
CREATED:20210730T200356Z
LAST-MODIFIED:20210730T200356Z
UID:10000735-1628272800-1628280000@fortjonesca.org
SUMMARY:AA Meeting
DESCRIPTION:
URL:https://fortjonesca.org/event/aa-meeting/2021-08-06/
END:VEVENT
BEGIN:VEVENT
DTSTART;TZID=America/Chicago:20210806T180000
DTEND;TZID=America/Chicago:20210806T200000
DTSTAMP:20260422T165527
CREATED:20210802T222003Z
LAST-MODIFIED:20210802T222700Z
UID:10000839-1628272800-1628280000@fortjonesca.org
SUMMARY:First Friday Art Reception
DESCRIPTION:Marble Rim Art Gallery Presents the artwork of Rachel Agron. Reception to be held at the Marble Rim Art Gallery at 11835 Main St. on Friday\, August 6th from 6:00 p.m. to 8:00 p.m. Artwork will be displayed through August 14.
URL:https://fortjonesca.org/event/first-friday-art-reception-2/2021-08-06/
END:VEVENT
BEGIN:VEVENT
DTSTART;TZID=America/Chicago:20210813T180000
DTEND;TZID=America/Chicago:20210813T200000
DTSTAMP:20260422T165527
CREATED:20210730T200356Z
LAST-MODIFIED:20210730T200356Z
UID:10000736-1628877600-1628884800@fortjonesca.org
SUMMARY:AA Meeting
DESCRIPTION:
URL:https://fortjonesca.org/event/aa-meeting/2021-08-13/
END:VEVENT
BEGIN:VEVENT
DTSTART;TZID=America/Chicago:20210820T180000
DTEND;TZID=America/Chicago:20210820T200000
DTSTAMP:20260422T165527
CREATED:20210730T200356Z
LAST-MODIFIED:20210730T200356Z
UID:10000737-1629482400-1629489600@fortjonesca.org
SUMMARY:AA Meeting
DESCRIPTION:
URL:https://fortjonesca.org/event/aa-meeting/2021-08-20/
END:VEVENT
BEGIN:VEVENT
DTSTART;TZID=America/Chicago:20210827T180000
DTEND;TZID=America/Chicago:20210827T200000
DTSTAMP:20260422T165527
CREATED:20210730T200356Z
LAST-MODIFIED:20210730T200356Z
UID:10000738-1630087200-1630094400@fortjonesca.org
SUMMARY:AA Meeting
DESCRIPTION:
URL:https://fortjonesca.org/event/aa-meeting/2021-08-27/
END:VEVENT
BEGIN:VEVENT
DTSTART;TZID=America/Chicago:20210903T180000
DTEND;TZID=America/Chicago:20210903T200000
DTSTAMP:20260422T165527
CREATED:20210730T200356Z
LAST-MODIFIED:20210730T200356Z
UID:10000739-1630692000-1630699200@fortjonesca.org
SUMMARY:AA Meeting
DESCRIPTION:
URL:https://fortjonesca.org/event/aa-meeting/2021-09-03/
END:VEVENT
BEGIN:VEVENT
DTSTART;TZID=America/Chicago:20210903T180000
DTEND;TZID=America/Chicago:20210903T200000
DTSTAMP:20260422T165527
CREATED:20210802T222003Z
LAST-MODIFIED:20210802T222700Z
UID:10000840-1630692000-1630699200@fortjonesca.org
SUMMARY:First Friday Art Reception
DESCRIPTION:Marble Rim Art Gallery Presents the artwork of Rachel Agron. Reception to be held at the Marble Rim Art Gallery at 11835 Main St. on Friday\, August 6th from 6:00 p.m. to 8:00 p.m. Artwork will be displayed through August 14.
URL:https://fortjonesca.org/event/first-friday-art-reception-2/2021-09-03/
END:VEVENT
BEGIN:VEVENT
DTSTART;TZID=America/Chicago:20210910T180000
DTEND;TZID=America/Chicago:20210910T200000
DTSTAMP:20260422T165527
CREATED:20210730T200356Z
LAST-MODIFIED:20210730T200356Z
UID:10000740-1631296800-1631304000@fortjonesca.org
SUMMARY:AA Meeting
DESCRIPTION:
URL:https://fortjonesca.org/event/aa-meeting/2021-09-10/
END:VEVENT
BEGIN:VEVENT
DTSTART;TZID=America/Chicago:20210911T173000
DTEND;TZID=America/Chicago:20210911T220000
DTSTAMP:20260422T165527
CREATED:20210909T184407Z
LAST-MODIFIED:20210909T184407Z
UID:10000874-1631381400-1631397600@fortjonesca.org
SUMMARY:Trip The Light!
DESCRIPTION:
URL:https://fortjonesca.org/event/trip-the-light/
END:VEVENT
BEGIN:VEVENT
DTSTART;TZID=America/Chicago:20210917T180000
DTEND;TZID=America/Chicago:20210917T200000
DTSTAMP:20260422T165527
CREATED:20210730T200356Z
LAST-MODIFIED:20210730T200356Z
UID:10000741-1631901600-1631908800@fortjonesca.org
SUMMARY:AA Meeting
DESCRIPTION:
URL:https://fortjonesca.org/event/aa-meeting/2021-09-17/
END:VEVENT
BEGIN:VEVENT
DTSTART;TZID=America/Chicago:20210924T180000
DTEND;TZID=America/Chicago:20210924T200000
DTSTAMP:20260422T165527
CREATED:20210730T200356Z
LAST-MODIFIED:20210730T200356Z
UID:10000742-1632506400-1632513600@fortjonesca.org
SUMMARY:AA Meeting
DESCRIPTION:
URL:https://fortjonesca.org/event/aa-meeting/2021-09-24/
END:VEVENT
BEGIN:VEVENT
DTSTART;TZID=America/Chicago:20210925T130000
DTEND;TZID=America/Chicago:20210925T160000
DTSTAMP:20260422T165527
CREATED:20210914T164724Z
LAST-MODIFIED:20210914T164848Z
UID:10000875-1632574800-1632585600@fortjonesca.org
SUMMARY:Recharge Our Community's Economy Workshop Series
DESCRIPTION:Are you passionate about Fort Jones? Join us in this engaging process! \nLearn the tools to leverage community assets\, support the creation of new small businesses\, and create and retain wealth within the Scott Valley.  \nRSVP appreciated.
URL:https://fortjonesca.org/event/recharge-our-communitys-economy-workshop-series/2021-09-25/
END:VEVENT
BEGIN:VEVENT
DTSTART;TZID=America/Chicago:20211001T180000
DTEND;TZID=America/Chicago:20211001T200000
DTSTAMP:20260422T165527
CREATED:20210730T200356Z
LAST-MODIFIED:20210730T200356Z
UID:10000743-1633111200-1633118400@fortjonesca.org
SUMMARY:AA Meeting
DESCRIPTION:
URL:https://fortjonesca.org/event/aa-meeting/2021-10-01/
END:VEVENT
BEGIN:VEVENT
DTSTART;TZID=America/Chicago:20211002T090000
DTEND;TZID=America/Chicago:20211002T090000
DTSTAMP:20260422T165527
CREATED:20210817T184434Z
LAST-MODIFIED:20210817T184434Z
UID:10000856-1633165200-1633165200@fortjonesca.org
SUMMARY:Fort Jones Fall Festival
DESCRIPTION:https://cdn.townweb.com/fortjonesca.org/wp-content/uploads/2021/08/fall-festival-2021-flyer.pdf \nThe 9th annual Fort Jones Fall Festival will be held at Walker Field on October 2nd. Admission is FREE! \nActivities include: \n\nClassic Car Show\nHit & Miss Engines\nDoggie Duck Dive\nFabulous Fifties Music\nChildren’s Fun & Games\nFood & Craft Vendors\n\nA Fort Jones Lions Club event to benefit the Fort Jones Lions Benefit Scholarship Fund and other community activities.
URL:https://fortjonesca.org/event/fort-jones-fall-festival/
END:VEVENT
BEGIN:VEVENT
DTSTART;TZID=America/Chicago:20211008T180000
DTEND;TZID=America/Chicago:20211008T200000
DTSTAMP:20260422T165527
CREATED:20210730T200356Z
LAST-MODIFIED:20210730T200356Z
UID:10000744-1633716000-1633723200@fortjonesca.org
SUMMARY:AA Meeting
DESCRIPTION:
URL:https://fortjonesca.org/event/aa-meeting/2021-10-08/
END:VEVENT
BEGIN:VEVENT
DTSTART;VALUE=DATE:20211011
DTEND;VALUE=DATE:20211012
DTSTAMP:20260422T165527
CREATED:20211007T194850Z
LAST-MODIFIED:20211007T194850Z
UID:10000878-1633910400-1633996799@fortjonesca.org
SUMMARY:Closed on Columbus Day
DESCRIPTION:City Hall and the Fort Jones Branch Library will be closed in observance of Columbus day on Monday\, October 11. Regular hours will resume on Tuesday\, October 12.
URL:https://fortjonesca.org/event/closed-on-columbus-day/
END:VEVENT
BEGIN:VEVENT
DTSTART;TZID=America/Chicago:20211013T093000
DTEND;TZID=America/Chicago:20211013T103000
DTSTAMP:20260422T165527
CREATED:20211013T212834Z
LAST-MODIFIED:20211013T213137Z
UID:10000882-1634117400-1634121000@fortjonesca.org
SUMMARY:Wednesday Morning Yoga
DESCRIPTION:No cost\, all ages welcome! 9:30am-10:30am at City Hall. Bring a mat for the floor.
URL:https://fortjonesca.org/event/wednesday-morning-yoga/2021-10-13/
END:VEVENT
BEGIN:VEVENT
DTSTART;TZID=America/Chicago:20211014T100000
DTEND;TZID=America/Chicago:20211014T140000
DTSTAMP:20260422T165527
CREATED:20211005T164552Z
LAST-MODIFIED:20211005T165126Z
UID:10000876-1634205600-1634220000@fortjonesca.org
SUMMARY:Siskiyou County Public Health Pfizer Vaccine Booster Clinic
DESCRIPTION:First and second doses of the Pfizer vaccine can be received at this clinic. \nAPPOINTMENT REQUIRED \nThursday October 14\, 2021\, 10:00am-2:30pm \nSiskiyou Golden Fairgrounds \n1712 Fairlane Rd Yreka\, CA
URL:https://fortjonesca.org/event/siskiyou-county-public-health-pfizer-vaccine-booster-clinic/
END:VEVENT
BEGIN:VEVENT
DTSTART;TZID=America/Chicago:20211015T180000
DTEND;TZID=America/Chicago:20211015T200000
DTSTAMP:20260422T165527
CREATED:20210730T200356Z
LAST-MODIFIED:20210730T200356Z
UID:10000745-1634320800-1634328000@fortjonesca.org
SUMMARY:AA Meeting
DESCRIPTION:
URL:https://fortjonesca.org/event/aa-meeting/2021-10-15/
END:VEVENT
BEGIN:VEVENT
DTSTART;TZID=America/Chicago:20211016T090000
DTEND;TZID=America/Chicago:20211016T130000
DTSTAMP:20260422T165527
CREATED:20211005T205956Z
LAST-MODIFIED:20211005T205956Z
UID:10000877-1634374800-1634389200@fortjonesca.org
SUMMARY:Household Hazardous Waste Collection
DESCRIPTION:When: Saturday\, October 16\, 2021 from 9:00am to 1:00pm \nWhere: Black Butte Transfer Station–3710 Springhill Rd. Mt. Shasta\, CA \nCost: Free!
URL:https://fortjonesca.org/event/household-hazardous-waste-collection/
END:VEVENT
BEGIN:VEVENT
DTSTART;TZID=America/Chicago:20211020T093000
DTEND;TZID=America/Chicago:20211020T103000
DTSTAMP:20260422T165527
CREATED:20211013T212834Z
LAST-MODIFIED:20211013T213137Z
UID:10000883-1634722200-1634725800@fortjonesca.org
SUMMARY:Wednesday Morning Yoga
DESCRIPTION:No cost\, all ages welcome! 9:30am-10:30am at City Hall. Bring a mat for the floor.
URL:https://fortjonesca.org/event/wednesday-morning-yoga/2021-10-20/
END:VEVENT
BEGIN:VEVENT
DTSTART;TZID=America/Chicago:20211020T100000
DTEND;TZID=America/Chicago:20211020T140000
DTSTAMP:20260422T165527
CREATED:20211013T211916Z
LAST-MODIFIED:20211013T211916Z
UID:10000881-1634724000-1634738400@fortjonesca.org
SUMMARY:Mobile Health Clinic
DESCRIPTION:On Friday\, October 20\, Siskiyou County Public Health will be providing testing and vaccinations at City Hall from 10:00am-2:00pm.  \nServices provided: \nCovid-19\, flu\, and TDAP vaccinations; routine childhood vaccinations \nRapid Covid-19 Testing
URL:https://fortjonesca.org/event/mobile-health-clinic/
END:VEVENT
BEGIN:VEVENT
DTSTART;TZID=America/Chicago:20211022T180000
DTEND;TZID=America/Chicago:20211022T200000
DTSTAMP:20260422T165527
CREATED:20210730T200356Z
LAST-MODIFIED:20210730T200356Z
UID:10000746-1634925600-1634932800@fortjonesca.org
SUMMARY:AA Meeting
DESCRIPTION:
URL:https://fortjonesca.org/event/aa-meeting/2021-10-22/
END:VEVENT
BEGIN:VEVENT
DTSTART;TZID=America/Chicago:20211027T093000
DTEND;TZID=America/Chicago:20211027T103000
DTSTAMP:20260422T165527
CREATED:20211013T212834Z
LAST-MODIFIED:20211013T213137Z
UID:10000884-1635327000-1635330600@fortjonesca.org
SUMMARY:Wednesday Morning Yoga
DESCRIPTION:No cost\, all ages welcome! 9:30am-10:30am at City Hall. Bring a mat for the floor.
URL:https://fortjonesca.org/event/wednesday-morning-yoga/2021-10-27/
END:VEVENT
END:VCALENDAR