BEGIN:VCALENDAR
VERSION:2.0
PRODID:-//Town of Fort Jones, Siskiyou County, CA - ECPv6.15.17.1//NONSGML v1.0//EN
CALSCALE:GREGORIAN
METHOD:PUBLISH
X-WR-CALNAME:Town of Fort Jones, Siskiyou County, CA
X-ORIGINAL-URL:https://fortjonesca.org
X-WR-CALDESC:Events for Town of Fort Jones, Siskiyou County, CA
REFRESH-INTERVAL;VALUE=DURATION:PT1H
X-Robots-Tag:noindex
X-PUBLISHED-TTL:PT1H
BEGIN:VTIMEZONE
TZID:America/Chicago
BEGIN:DAYLIGHT
TZOFFSETFROM:-0600
TZOFFSETTO:-0500
TZNAME:CDT
DTSTART:20180311T080000
END:DAYLIGHT
BEGIN:STANDARD
TZOFFSETFROM:-0500
TZOFFSETTO:-0600
TZNAME:CST
DTSTART:20181104T070000
END:STANDARD
BEGIN:DAYLIGHT
TZOFFSETFROM:-0600
TZOFFSETTO:-0500
TZNAME:CDT
DTSTART:20190310T080000
END:DAYLIGHT
BEGIN:STANDARD
TZOFFSETFROM:-0500
TZOFFSETTO:-0600
TZNAME:CST
DTSTART:20191103T070000
END:STANDARD
BEGIN:DAYLIGHT
TZOFFSETFROM:-0600
TZOFFSETTO:-0500
TZNAME:CDT
DTSTART:20200308T080000
END:DAYLIGHT
BEGIN:STANDARD
TZOFFSETFROM:-0500
TZOFFSETTO:-0600
TZNAME:CST
DTSTART:20201101T070000
END:STANDARD
BEGIN:DAYLIGHT
TZOFFSETFROM:-0600
TZOFFSETTO:-0500
TZNAME:CDT
DTSTART:20210314T080000
END:DAYLIGHT
BEGIN:STANDARD
TZOFFSETFROM:-0500
TZOFFSETTO:-0600
TZNAME:CST
DTSTART:20211107T070000
END:STANDARD
BEGIN:DAYLIGHT
TZOFFSETFROM:-0600
TZOFFSETTO:-0500
TZNAME:CDT
DTSTART:20220313T080000
END:DAYLIGHT
BEGIN:STANDARD
TZOFFSETFROM:-0500
TZOFFSETTO:-0600
TZNAME:CST
DTSTART:20221106T070000
END:STANDARD
END:VTIMEZONE
BEGIN:VEVENT
DTSTART;TZID=America/Chicago:20210308T180000
DTEND;TZID=America/Chicago:20210308T200000
DTSTAMP:20260422T165722
CREATED:20210304T210501Z
LAST-MODIFIED:20210304T210501Z
UID:10000729-1615226400-1615233600@fortjonesca.org
SUMMARY:The Town of Fort Jones City Council Meeting
DESCRIPTION:
URL:https://fortjonesca.org/event/the-town-of-fort-jones-city-council-meeting-13/
CATEGORIES:City Council
END:VEVENT
BEGIN:VEVENT
DTSTART;TZID=America/Chicago:20210227T100000
DTEND;TZID=America/Chicago:20210227T130000
DTSTAMP:20260422T165722
CREATED:20210224T185019Z
LAST-MODIFIED:20210224T185019Z
UID:10000728-1614420000-1614430800@fortjonesca.org
SUMMARY:Mission Statement Workshop
DESCRIPTION:
URL:https://fortjonesca.org/event/mission-statement-workshop/
CATEGORIES:Plan Commission
END:VEVENT
BEGIN:VEVENT
DTSTART;TZID=America/Chicago:20210208T190000
DTEND;TZID=America/Chicago:20210208T200000
DTSTAMP:20260422T165722
CREATED:20210205T002059Z
LAST-MODIFIED:20210205T002059Z
UID:10000727-1612810800-1612814400@fortjonesca.org
SUMMARY:The Town of Fort Jones City Council Meeting Via Zoom
DESCRIPTION:
URL:https://fortjonesca.org/event/the-town-of-fort-jones-city-council-meeting-via-zoom-4/
CATEGORIES:City Council
END:VEVENT
BEGIN:VEVENT
DTSTART;TZID=America/Chicago:20210205T180000
DTEND;TZID=America/Chicago:20210205T190000
DTSTAMP:20260422T165722
CREATED:20210128T175311Z
LAST-MODIFIED:20210128T175311Z
UID:10000726-1612548000-1612551600@fortjonesca.org
SUMMARY:Fort Jones City Council Special Meeting
DESCRIPTION:
URL:https://fortjonesca.org/event/fort-jones-city-council-special-meeting/
CATEGORIES:City Council
END:VEVENT
BEGIN:VEVENT
DTSTART;TZID=America/Chicago:20210114T173000
DTEND;TZID=America/Chicago:20210114T180000
DTSTAMP:20260422T165722
CREATED:20210114T184023Z
LAST-MODIFIED:20210114T184023Z
UID:10000725-1610645400-1610647200@fortjonesca.org
SUMMARY:The Town of Fort Jones City Council Emergency Meeting
DESCRIPTION:
URL:https://fortjonesca.org/event/the-town-of-fort-jones-city-council-emergency-meeting/
CATEGORIES:City Council
END:VEVENT
BEGIN:VEVENT
DTSTART;TZID=America/Chicago:20210111T190000
DTEND;TZID=America/Chicago:20210111T200000
DTSTAMP:20260422T165722
CREATED:20210108T190426Z
LAST-MODIFIED:20210108T190426Z
UID:10000724-1610391600-1610395200@fortjonesca.org
SUMMARY:The Town of Fort Jones City Council Meeting Via Zoom
DESCRIPTION:
URL:https://fortjonesca.org/event/the-town-of-fort-jones-city-council-meeting-via-zoom-3/
CATEGORIES:City Council
END:VEVENT
BEGIN:VEVENT
DTSTART;TZID=America/Chicago:20201214T180000
DTEND;TZID=America/Chicago:20201214T200000
DTSTAMP:20260422T165722
CREATED:20201204T164756Z
LAST-MODIFIED:20201211T163846Z
UID:10000723-1607968800-1607976000@fortjonesca.org
SUMMARY:The Town of Fort Jones City Council Meeting Via Zoom
DESCRIPTION:
URL:https://fortjonesca.org/event/the-town-of-fort-jones-city-council-meeting-via-zoom-2/
CATEGORIES:City Council
END:VEVENT
BEGIN:VEVENT
DTSTART;TZID=America/Chicago:20201109T190000
DTEND;TZID=America/Chicago:20201109T200000
DTSTAMP:20260422T165722
CREATED:20201106T004307Z
LAST-MODIFIED:20201106T004307Z
UID:10000722-1604948400-1604952000@fortjonesca.org
SUMMARY:The Town of Fort Jones City Council Meeting
DESCRIPTION:
URL:https://fortjonesca.org/event/the-town-of-fort-jones-city-council-meeting-12/
CATEGORIES:City Council
END:VEVENT
BEGIN:VEVENT
DTSTART;TZID=America/Chicago:20201013T190000
DTEND;TZID=America/Chicago:20201013T200000
DTSTAMP:20260422T165722
CREATED:20201005T233903Z
LAST-MODIFIED:20201009T231105Z
UID:10000721-1602615600-1602619200@fortjonesca.org
SUMMARY:The Town of Fort Jones City Council Meeting
DESCRIPTION:Masks required. Limited occupancy.
URL:https://fortjonesca.org/event/the-town-of-fort-jones-city-council-meeting-11/
CATEGORIES:City Council
END:VEVENT
BEGIN:VEVENT
DTSTART;TZID=America/Chicago:20201001T120000
DTEND;TZID=America/Chicago:20201001T130000
DTSTAMP:20260422T165722
CREATED:20201001T174923Z
LAST-MODIFIED:20201001T174923Z
UID:10000720-1601553600-1601557200@fortjonesca.org
SUMMARY:Fort Jones City Council Special Meeting via Zoom
DESCRIPTION:
URL:https://fortjonesca.org/event/fort-jones-city-council-special-meeting-via-zoom-2/
CATEGORIES:City Council
END:VEVENT
BEGIN:VEVENT
DTSTART;TZID=America/Chicago:20200914T190000
DTEND;TZID=America/Chicago:20200914T200000
DTSTAMP:20260422T165722
CREATED:20200910T162219Z
LAST-MODIFIED:20200910T162219Z
UID:10000719-1600110000-1600113600@fortjonesca.org
SUMMARY:The Town of Fort Jones City Council Meeting Via Zoom
DESCRIPTION:
URL:https://fortjonesca.org/event/the-town-of-fort-jones-city-council-meeting-via-zoom/
CATEGORIES:City Council
END:VEVENT
BEGIN:VEVENT
DTSTART;TZID=America/Chicago:20200810T190000
DTEND;TZID=America/Chicago:20200810T200000
DTSTAMP:20260422T165722
CREATED:20200806T223725Z
LAST-MODIFIED:20200806T223725Z
UID:10000718-1597086000-1597089600@fortjonesca.org
SUMMARY:Fort Jones City Council Meeting Via Zoom
DESCRIPTION:
URL:https://fortjonesca.org/event/fort-jones-city-council-meeting-via-zoom-2/
CATEGORIES:City Council
END:VEVENT
BEGIN:VEVENT
DTSTART;TZID=America/Chicago:20200810T190000
DTEND;TZID=America/Chicago:20200810T200000
DTSTAMP:20260422T165722
CREATED:20200803T221032Z
LAST-MODIFIED:20200803T221032Z
UID:10000716-1597086000-1597089600@fortjonesca.org
SUMMARY:Public Hearing via Zoom
DESCRIPTION:
URL:https://fortjonesca.org/event/public-hearing-via-zoom/
CATEGORIES:City Council
END:VEVENT
BEGIN:VEVENT
DTSTART;TZID=America/Chicago:20200810T180000
DTEND;TZID=America/Chicago:20200810T190000
DTSTAMP:20260422T165722
CREATED:20200806T223653Z
LAST-MODIFIED:20200806T223828Z
UID:10000717-1597082400-1597086000@fortjonesca.org
SUMMARY:Fort Jones City Council Meeting Closed Session
DESCRIPTION:
URL:https://fortjonesca.org/event/city-council-closed-session-meeting/
CATEGORIES:City Council
END:VEVENT
BEGIN:VEVENT
DTSTART;TZID=America/Chicago:20200713T180000
DTEND;TZID=America/Chicago:20200713T200000
DTSTAMP:20260422T165722
CREATED:20200701T155604Z
LAST-MODIFIED:20200710T232249Z
UID:10000714-1594663200-1594670400@fortjonesca.org
SUMMARY:The Town of Fort Jones City Council Meeting Via Zoom
DESCRIPTION:
URL:https://fortjonesca.org/event/the-town-of-fort-jones-city-council-meeting-10/
CATEGORIES:City Council
END:VEVENT
BEGIN:VEVENT
DTSTART;VALUE=DATE:20200703
DTEND;VALUE=DATE:20200704
DTSTAMP:20260422T165722
CREATED:20200701T155800Z
LAST-MODIFIED:20200701T155800Z
UID:10000715-1593734400-1593820799@fortjonesca.org
SUMMARY:Closed - Observance of Independence Day
DESCRIPTION:
URL:https://fortjonesca.org/event/closed-observance-of-independence-day/
END:VEVENT
BEGIN:VEVENT
DTSTART;TZID=America/Chicago:20200617T130000
DTEND;TZID=America/Chicago:20200617T140000
DTSTAMP:20260422T165722
CREATED:20200615T212406Z
LAST-MODIFIED:20200615T212406Z
UID:10000713-1592398800-1592402400@fortjonesca.org
SUMMARY:Fort Jones City Council Special Meeting via Zoom
DESCRIPTION:
URL:https://fortjonesca.org/event/fort-jones-city-council-special-meeting-via-zoom/
CATEGORIES:City Council
END:VEVENT
BEGIN:VEVENT
DTSTART;TZID=America/Chicago:20200608T190000
DTEND;TZID=America/Chicago:20200608T200000
DTSTAMP:20260422T165722
CREATED:20200605T161713Z
LAST-MODIFIED:20200605T161713Z
UID:10000712-1591642800-1591646400@fortjonesca.org
SUMMARY:Fort Jones City Council Meeting Via Zoom
DESCRIPTION:
URL:https://fortjonesca.org/event/fort-jones-city-council-meeting-via-zoom/
CATEGORIES:City Council
END:VEVENT
BEGIN:VEVENT
DTSTART;TZID=America/Chicago:20200511T190000
DTEND;TZID=America/Chicago:20200511T200000
DTSTAMP:20260422T165722
CREATED:20200429T204224Z
LAST-MODIFIED:20200429T204224Z
UID:10000711-1589223600-1589227200@fortjonesca.org
SUMMARY:The Town of Fort Jones City Council Meeting
DESCRIPTION:
URL:https://fortjonesca.org/event/the-town-of-fort-jones-city-council-meeting-9/
CATEGORIES:City Council
END:VEVENT
BEGIN:VEVENT
DTSTART;TZID=America/Chicago:20200413T190000
DTEND;TZID=America/Chicago:20200413T200000
DTSTAMP:20260422T165722
CREATED:20200410T212302Z
LAST-MODIFIED:20200410T212302Z
UID:10000710-1586804400-1586808000@fortjonesca.org
SUMMARY:The Town of Fort Jones City Council Meeting
DESCRIPTION:
URL:https://fortjonesca.org/event/the-town-of-fort-jones-city-council-meeting-8/
CATEGORIES:City Council
END:VEVENT
BEGIN:VEVENT
DTSTART;TZID=America/Chicago:20200324T130000
DTEND;TZID=America/Chicago:20200324T150000
DTSTAMP:20260422T165722
CREATED:20200320T190814Z
LAST-MODIFIED:20200320T190814Z
UID:10000709-1585054800-1585062000@fortjonesca.org
SUMMARY:Special Meeting
DESCRIPTION:
URL:https://fortjonesca.org/event/special-meeting/
CATEGORIES:City Council
END:VEVENT
BEGIN:VEVENT
DTSTART;TZID=America/Chicago:20200309T180000
DTEND;TZID=America/Chicago:20200309T200000
DTSTAMP:20260422T165722
CREATED:20200225T224649Z
LAST-MODIFIED:20200303T164730Z
UID:10000708-1583776800-1583784000@fortjonesca.org
SUMMARY:Fort Jones City Council Meeting
DESCRIPTION:
URL:https://fortjonesca.org/event/fort-jones-city-council-meeting-2/
CATEGORIES:City Council
END:VEVENT
BEGIN:VEVENT
DTSTART;VALUE=DATE:20200217
DTEND;VALUE=DATE:20200218
DTSTAMP:20260422T165722
CREATED:20200211T222302Z
LAST-MODIFIED:20200211T222302Z
UID:10000707-1581897600-1581983999@fortjonesca.org
SUMMARY:Closed - Presidents' Day
DESCRIPTION:
URL:https://fortjonesca.org/event/closed-presidents-day/
END:VEVENT
BEGIN:VEVENT
DTSTART;TZID=America/Chicago:20200210T190000
DTEND;TZID=America/Chicago:20200210T200000
DTSTAMP:20260422T165722
CREATED:20200209T181149Z
LAST-MODIFIED:20200209T181149Z
UID:10000706-1581361200-1581364800@fortjonesca.org
SUMMARY:Fort Jones City Council Meeting
DESCRIPTION:
URL:https://fortjonesca.org/event/fort-jones-city-council-meeting/
CATEGORIES:City Council
END:VEVENT
BEGIN:VEVENT
DTSTART;TZID=America/Chicago:20200121T190000
DTEND;TZID=America/Chicago:20200121T200000
DTSTAMP:20260422T165722
CREATED:20200113T221937Z
LAST-MODIFIED:20200113T221937Z
UID:10000705-1579633200-1579636800@fortjonesca.org
SUMMARY:The Town of Fort Jones City Council Meeting
DESCRIPTION:
URL:https://fortjonesca.org/event/the-town-of-fort-jones-city-council-meeting-7/
CATEGORIES:City Council
END:VEVENT
BEGIN:VEVENT
DTSTART;VALUE=DATE:20200120
DTEND;VALUE=DATE:20200121
DTSTAMP:20260422T165722
CREATED:20200113T163739Z
LAST-MODIFIED:20200113T163739Z
UID:10000704-1579478400-1579564799@fortjonesca.org
SUMMARY:Closed - Martin Luther King Jr
DESCRIPTION:
URL:https://fortjonesca.org/event/closed-martin-luther-king-jr/
END:VEVENT
BEGIN:VEVENT
DTSTART;TZID=America/Chicago:20191212T130000
DTEND;TZID=America/Chicago:20191212T140000
DTSTAMP:20260422T165722
CREATED:20191212T005005Z
LAST-MODIFIED:20191212T005005Z
UID:10000703-1576155600-1576159200@fortjonesca.org
SUMMARY:Police Department Ribbon Cutting Ceremony
DESCRIPTION:
URL:https://fortjonesca.org/event/police-department-ribbon-cutting-ceremony/
END:VEVENT
BEGIN:VEVENT
DTSTART;TZID=America/Chicago:20191209T190000
DTEND;TZID=America/Chicago:20191209T200000
DTSTAMP:20260422T165722
CREATED:20191202T192409Z
LAST-MODIFIED:20191202T192409Z
UID:10000702-1575918000-1575921600@fortjonesca.org
SUMMARY:The Town of Fort Jones City Council Meeting
DESCRIPTION:
URL:https://fortjonesca.org/event/the-town-of-fort-jones-city-council-meeting-6/
CATEGORIES:City Council
END:VEVENT
BEGIN:VEVENT
DTSTART;TZID=America/Chicago:20191112T180000
DTEND;TZID=America/Chicago:20191112T200000
DTSTAMP:20260422T165722
CREATED:20191022T165032Z
LAST-MODIFIED:20191106T172344Z
UID:10000700-1573581600-1573588800@fortjonesca.org
SUMMARY:The Town of Fort Jones City Council Meeting
DESCRIPTION:
URL:https://fortjonesca.org/event/the-town-of-fort-jones-city-council-meeting-5/
CATEGORIES:City Council
END:VEVENT
BEGIN:VEVENT
DTSTART;VALUE=DATE:20191111
DTEND;VALUE=DATE:20191112
DTSTAMP:20260422T165722
CREATED:20191022T165328Z
LAST-MODIFIED:20191022T165510Z
UID:10000701-1573430400-1573516799@fortjonesca.org
SUMMARY:Veterans Day
DESCRIPTION:City Hall will be closed
URL:https://fortjonesca.org/event/veterans-day/
END:VEVENT
END:VCALENDAR