BEGIN:VCALENDAR
VERSION:2.0
PRODID:-//Town of Fort Jones, Siskiyou County, CA - ECPv6.15.17.1//NONSGML v1.0//EN
CALSCALE:GREGORIAN
METHOD:PUBLISH
X-WR-CALNAME:Town of Fort Jones, Siskiyou County, CA
X-ORIGINAL-URL:https://fortjonesca.org
X-WR-CALDESC:Events for Town of Fort Jones, Siskiyou County, CA
REFRESH-INTERVAL;VALUE=DURATION:PT1H
X-Robots-Tag:noindex
X-PUBLISHED-TTL:PT1H
BEGIN:VTIMEZONE
TZID:America/Chicago
BEGIN:DAYLIGHT
TZOFFSETFROM:-0600
TZOFFSETTO:-0500
TZNAME:CDT
DTSTART:20190310T080000
END:DAYLIGHT
BEGIN:STANDARD
TZOFFSETFROM:-0500
TZOFFSETTO:-0600
TZNAME:CST
DTSTART:20191103T070000
END:STANDARD
BEGIN:DAYLIGHT
TZOFFSETFROM:-0600
TZOFFSETTO:-0500
TZNAME:CDT
DTSTART:20200308T080000
END:DAYLIGHT
BEGIN:STANDARD
TZOFFSETFROM:-0500
TZOFFSETTO:-0600
TZNAME:CST
DTSTART:20201101T070000
END:STANDARD
BEGIN:DAYLIGHT
TZOFFSETFROM:-0600
TZOFFSETTO:-0500
TZNAME:CDT
DTSTART:20210314T080000
END:DAYLIGHT
BEGIN:STANDARD
TZOFFSETFROM:-0500
TZOFFSETTO:-0600
TZNAME:CST
DTSTART:20211107T070000
END:STANDARD
END:VTIMEZONE
BEGIN:VEVENT
DTSTART;TZID=America/Chicago:20200309T180000
DTEND;TZID=America/Chicago:20200309T200000
DTSTAMP:20260421T131818
CREATED:20200225T224649Z
LAST-MODIFIED:20200303T164730Z
UID:10000708-1583776800-1583784000@fortjonesca.org
SUMMARY:Fort Jones City Council Meeting
DESCRIPTION:
URL:https://fortjonesca.org/event/fort-jones-city-council-meeting-2/
CATEGORIES:City Council
END:VEVENT
BEGIN:VEVENT
DTSTART;TZID=America/Chicago:20200324T130000
DTEND;TZID=America/Chicago:20200324T150000
DTSTAMP:20260421T131818
CREATED:20200320T190814Z
LAST-MODIFIED:20200320T190814Z
UID:10000709-1585054800-1585062000@fortjonesca.org
SUMMARY:Special Meeting
DESCRIPTION:
URL:https://fortjonesca.org/event/special-meeting/
CATEGORIES:City Council
END:VEVENT
END:VCALENDAR